From mboxrd@z Thu Jan 1 00:00:00 1970 Return-Path: Received: from mails.dpdk.org (mails.dpdk.org [217.70.189.124]) by inbox.dpdk.org (Postfix) with ESMTP id CA0CA461BF for ; Fri, 7 Feb 2025 21:00:25 +0100 (CET) Received: from mails.dpdk.org (localhost [127.0.0.1]) by mails.dpdk.org (Postfix) with ESMTP id C72C940290; Fri, 7 Feb 2025 21:00:25 +0100 (CET) Received: from mail-io1-f98.google.com (mail-io1-f98.google.com [209.85.166.98]) by mails.dpdk.org (Postfix) with ESMTP id EC13A4026C for ; Fri, 7 Feb 2025 21:00:24 +0100 (CET) Received: by mail-io1-f98.google.com with SMTP id ca18e2360f4ac-844e394395aso62827339f.3 for ; Fri, 07 Feb 2025 12:00:24 -0800 (PST) DKIM-Signature: v=1; a=rsa-sha256; c=relaxed/relaxed; d=iol.unh.edu; s=unh-iol; t=1738958424; x=1739563224; darn=dpdk.org; h=references:in-reply-to:cc:to:from:subject:message-id:date:from:to :cc:subject:date:message-id:reply-to; bh=v8qD/UZeXwZk8da6acwglpWEAHRrcvMQ8znRZxYUMUk=; b=NQ/ltSznk9ziKfmDm9m6o72mQJIZtcRTuQT7oPATDj6yxGAPQz2kdcR/yN00d8gV2C pg1qMMCy3CvkQqFvivoT5FalDx3P4aoUGy7cjo+xZwrVogLV/Ag2v87mURPz138YUOur h+Bupxpc5ZjsR6q6OiYtf0dXORznkuo+ktj24= X-Google-DKIM-Signature: v=1; a=rsa-sha256; c=relaxed/relaxed; d=1e100.net; s=20230601; t=1738958424; x=1739563224; h=references:in-reply-to:cc:to:from:subject:message-id:date :x-gm-message-state:from:to:cc:subject:date:message-id:reply-to; bh=v8qD/UZeXwZk8da6acwglpWEAHRrcvMQ8znRZxYUMUk=; b=RUUgqOOFPyducDK9I4OJ+b+4ujs9P+5DeD1ztxp4EmxZJstn+NdcBTJAhK23up0tqH 4/cDYhznpMwpVHt9yDJkYkJTQL1y1Jx+jWxYtUKRz5K4Eq7k7igNWe/KbE9V34wfcZwS xSYPN4idkNsfYOa8Av9yGSWdNWSx+2ZgY8vWlSiyyfaA6iuBsCCEEIBKovSlmQlUUQrY KPSLX9Jheu4O6VBXsT499h13SqdXou6/YBUmlrePUU8uQA88AyUMvC2LI8RhzHjW30A0 p87qX2qS4hdlHaoyknjsNPZQvX9fYRWKC8OrHp3x6/V2OsJxb/f1NjyNVQZmbjFZ5dAn p0Sg== X-Gm-Message-State: AOJu0YyaoQV1HwwVswO1d9+M2UoptGEX/ROQjdUEUc2sl8ZS3YQG3Bu9 bsYVCupQGkGIt83tae3dD3GyoFL1fu7ASiIicYKR9wI3Ced/J+GukB9edTrSVrVn4ec367Zx5jw BOG1ufjTwp5rIWsKIf4YjIyRuTZjeZjldgkaQIiSg X-Gm-Gg: ASbGnctPNJIkH2MKg20UI7bhpDThnBiK/XvKsUgCxW8l1JbTnpFBl73BBKFMhOgMQoQ XODZxjK69N5b7aWbEpy5mo2d60P5w+4KSjISxg5Qv7G3JkejKwI5tiD2vBzeqcC7xZA/ruqIoX+ ccIU51td11peB/s16FbwlTlRGKMYHhdDfl/oeN9Gvj+DGN9EzwlGvaIH2RxkGBKCFALgVW00W6N uuQWUarIpmVKjDFgB5qBoz3l8O63XcZxGkCIxG6Le7/nw2nifi08QlqunzNxTazmfDpf13G3yWi 68VSGuw0xdFy7UfK3ZdeitKyvai02A== X-Google-Smtp-Source: AGHT+IEDGNig/CrgZlllQ821Ek+39OymMu6VONg5MJlIlFan4frySMkhc8JHGnDW/jaLi0qjbFJoobCH0SRE X-Received: by 2002:a05:6602:489a:b0:843:f261:60e0 with SMTP id ca18e2360f4ac-854fd8958e0mr511534739f.5.1738958424321; Fri, 07 Feb 2025 12:00:24 -0800 (PST) Received: from postal.iol.unh.edu (postal.iol.unh.edu. [132.177.123.84]) by smtp-relay.gmail.com with ESMTPS id 8926c6da1cb9f-4eccf9d4468sm261483173.18.2025.02.07.12.00.24 (version=TLS1_2 cipher=ECDHE-ECDSA-AES128-GCM-SHA256 bits=128/128); Fri, 07 Feb 2025 12:00:24 -0800 (PST) X-Relaying-Domain: iol.unh.edu Date: Fri, 07 Feb 2025 12:00:24 -0800 (PST) Message-ID: <67a66658.050a0220.21c7b6.e020SMTPIN_ADDED_MISSING@mx.google.com> Received: from [172.21.0.9] (unknown [172.18.0.240]) by postal.iol.unh.edu (Postfix) with ESMTP id D9B356052472; Fri, 7 Feb 2025 14:59:53 -0500 (EST) Subject: |SUCCESS| pw149309 [PATCH] [v2] net/nfp: implement the burst mode ge From: dpdklab@iol.unh.edu To: Test Report Cc: dpdk-test-reports@iol.unh.edu In-Reply-To: <20241219014954.1763729-1-chaoyong.he@corigine.com> References: <20241219014954.1763729-1-chaoyong.he@corigine.com> Content-Type: text/plain X-BeenThere: test-report@dpdk.org X-Mailman-Version: 2.1.29 Precedence: list List-Id: automatic DPDK test reports List-Unsubscribe: , List-Archive: List-Post: List-Help: List-Subscribe: , Errors-To: test-report-bounces@dpdk.org Test-Label: iol-compile-amd64-testing Test-Status: SUCCESS http://dpdk.org/patch/149309 _Testing PASS_ Submitter: Chaoyong He Date: Thursday, December 19 2024 01:49:54 DPDK git baseline: Repo:dpdk Branch: master CommitID:78d0246a2e2fb14cba220d507192d12d2ce896ac 149309 --> testing pass Test environment and result as below: +---------------------+--------------------+------------------+-------------------+-------------------+-------------------------+----------------------+ | Environment | dpdk_meson_compile | dpdk_compile_ovs | dpdk_compile_spdk | dpdk_msvc_compile | dpdk_llvm_clang_compile | dpdk_mingw64_compile | +=====================+====================+==================+===================+===================+=========================+======================+ | Debian 12 | PASS | PASS | PASS | SKIPPED | SKIPPED | SKIPPED | +---------------------+--------------------+------------------+-------------------+-------------------+-------------------------+----------------------+ | CentOS Stream 9 | PASS | PASS | PASS | SKIPPED | SKIPPED | SKIPPED | +---------------------+--------------------+------------------+-------------------+-------------------+-------------------------+----------------------+ | Fedora 39 | PASS | PASS | PASS | SKIPPED | SKIPPED | SKIPPED | +---------------------+--------------------+------------------+-------------------+-------------------+-------------------------+----------------------+ | Fedora 39 (Clang) | PASS | PASS | PASS | SKIPPED | SKIPPED | SKIPPED | +---------------------+--------------------+------------------+-------------------+-------------------+-------------------------+----------------------+ | Fedora 40 (Clang) | PASS | PASS | PASS | SKIPPED | SKIPPED | SKIPPED | +---------------------+--------------------+------------------+-------------------+-------------------+-------------------------+----------------------+ | RHEL8 | PASS | PASS | SKIPPED | SKIPPED | SKIPPED | SKIPPED | +---------------------+--------------------+------------------+-------------------+-------------------+-------------------------+----------------------+ | Ubuntu 20.04 | PASS | SKIPPED | SKIPPED | SKIPPED | SKIPPED | SKIPPED | +---------------------+--------------------+------------------+-------------------+-------------------+-------------------------+----------------------+ | openSUSE Leap 15 | PASS | SKIPPED | SKIPPED | SKIPPED | SKIPPED | SKIPPED | +---------------------+--------------------+------------------+-------------------+-------------------+-------------------------+----------------------+ | Ubuntu 22.04 | PASS | PASS | PASS | SKIPPED | SKIPPED | SKIPPED | +---------------------+--------------------+------------------+-------------------+-------------------+-------------------------+----------------------+ | Ubuntu 24.04 | PASS | PASS | PASS | SKIPPED | SKIPPED | SKIPPED | +---------------------+--------------------+------------------+-------------------+-------------------+-------------------------+----------------------+ | Alpine | PASS | PASS | SKIPPED | SKIPPED | SKIPPED | SKIPPED | +---------------------+--------------------+------------------+-------------------+-------------------+-------------------------+----------------------+ | FreeBSD 13.4 | PASS | SKIPPED | SKIPPED | SKIPPED | SKIPPED | SKIPPED | +---------------------+--------------------+------------------+-------------------+-------------------+-------------------------+----------------------+ | FreeBSD 14.2 | PASS | SKIPPED | SKIPPED | SKIPPED | SKIPPED | SKIPPED | +---------------------+--------------------+------------------+-------------------+-------------------+-------------------------+----------------------+ | RHEL9 | PASS | PASS | SKIPPED | SKIPPED | SKIPPED | SKIPPED | +---------------------+--------------------+------------------+-------------------+-------------------+-------------------------+----------------------+ | Fedora 40 | PASS | PASS | PASS | SKIPPED | SKIPPED | SKIPPED | +---------------------+--------------------+------------------+-------------------+-------------------+-------------------------+----------------------+ | Windows Server 2022 | SKIPPED | SKIPPED | SKIPPED | PASS | PASS | PASS | +---------------------+--------------------+------------------+-------------------+-------------------+-------------------------+----------------------+ Debian 12 Kernel: Depends on container host Compiler: gcc (Debian 12.2.0-14) 12.2.0 CentOS Stream 9 Kernel: Depends on container host Compiler: gcc 11.5.0 20240719 (Red Hat 11.5.0-2) Fedora 39 Kernel: Depends on container host Compiler: gcc 13.3.1 20240522 (Red Hat 13.3.1-1) Fedora 39 (Clang) Kernel: Depends on container host Compiler: clang 17.0.6 (Fedora 17.0.6-2.fc39) Fedora 40 (Clang) Kernel: Depends on container host Compiler: clang 18.1.8 (Fedora 18.1.8-1.fc40) RHEL8 Kernel: Depends on container host Compiler: gcc 8.5.0 20210514 (Red Hat 8.5.0-22) Ubuntu 20.04 Kernel: Depends on container host Compiler: gcc (Ubuntu 9.4.0-1ubuntu1~20.04.2) 9.4.0 openSUSE Leap 15 Kernel: Depends on container host Compiler: gcc (SUSE Linux) 7.5.0 Ubuntu 22.04 Kernel: Depends on container host Compiler: gcc (Ubuntu 11.4.0-1ubuntu1~22.04) 11.4.0 Ubuntu 24.04 Kernel: Depends on container host Compiler: gcc (Ubuntu 13.3.0-6ubuntu2~24.04) 13.3.0 Alpine Kernel: Depends on container host Compiler: gcc (Alpine 14.2.0) 14.2.0 FreeBSD 13.4 Kernel: 13.4-RELEASE-p1 Compiler: clang 18.1.6 FreeBSD 14.2 Kernel: 14.2-RELEASE Compiler: clang 18.1.6 RHEL9 Kernel: Depends on container host Compiler: gcc 11.5.0 20240719 (Red Hat 11.5.0-2) Fedora 40 Kernel: Depends on container host Compiler: gcc 14.2.1 20240912 (Red Hat 14.2.1-3) Windows Server 2022 Kernel: 10.0.20348.2031 Compiler: clang 15.0.7, gcc 14.1.0 (MinGW), and MSVC VS 19.39.33521 To view detailed results, visit: https://lab.dpdk.org/results/dashboard/patchsets/32164/ UNH-IOL DPDK Community Lab To manage your email subscriptions, visit: https://lab.dpdk.org/results/dashboard/preferences/subscriptions/