From mboxrd@z Thu Jan 1 00:00:00 1970 Return-Path: Received: from mails.dpdk.org (mails.dpdk.org [217.70.189.124]) by inbox.dpdk.org (Postfix) with ESMTP id E68FF461BF for ; Fri, 7 Feb 2025 21:00:28 +0100 (CET) Received: from mails.dpdk.org (localhost [127.0.0.1]) by mails.dpdk.org (Postfix) with ESMTP id E179A40290; Fri, 7 Feb 2025 21:00:28 +0100 (CET) Received: from mail-qv1-f97.google.com (mail-qv1-f97.google.com [209.85.219.97]) by mails.dpdk.org (Postfix) with ESMTP id 579FD4026C for ; Fri, 7 Feb 2025 21:00:27 +0100 (CET) Received: by mail-qv1-f97.google.com with SMTP id 6a1803df08f44-6dcd4f1aaccso37926296d6.2 for ; Fri, 07 Feb 2025 12:00:27 -0800 (PST) DKIM-Signature: v=1; a=rsa-sha256; c=relaxed/relaxed; d=iol.unh.edu; s=unh-iol; t=1738958427; x=1739563227; darn=dpdk.org; h=references:in-reply-to:cc:to:from:subject:message-id:date:from:to :cc:subject:date:message-id:reply-to; bh=5NEOp6J3TQjCRXMRCD00OOkaM9SolJn4ix2uPleWGoA=; b=LS9xEBYq4GvdySMlKcwnUmLBkcw/Fxzi8QJng7odctyVcIqctYl0GGz3/5vNvK6KPP wyydmn0zZRVis+zfoeDpkpbchVbQohfWRQaSYQcEBAUe1nzk711avuRaXkHN3ny5Kk6W jafWIBnYEqles8WFWGeAs8pqsc0aJ3Fp1BaEM= X-Google-DKIM-Signature: v=1; a=rsa-sha256; c=relaxed/relaxed; d=1e100.net; s=20230601; t=1738958427; x=1739563227; h=references:in-reply-to:cc:to:from:subject:message-id:date :x-gm-message-state:from:to:cc:subject:date:message-id:reply-to; bh=5NEOp6J3TQjCRXMRCD00OOkaM9SolJn4ix2uPleWGoA=; b=LUofBg8KtEkQotBIu3e2hMmaxB3m9JvS5TA5aaQaupfkRfzd3au3Wg0/f6Lty0D1Bm 5i5jGUAeeUDIchHc+K70Z/1gn+GniXUY3NpkNWkQvY+UJAMoY42xX749rvEa6lUG8WIx CQ4GwpnKxoMBBSRvtxjoutCOVVJD7psLJMD0BpAciVH44tuJl3lk1dvPFho0ups50S93 ej7y/5ufqegwP9BnFpPMT9u57wTCNH4BxkltAOZc+aU8LJtipg4yit6FUscyw3EZegHR tG0aMVliPOdVCVP4c0L14SdKfsCGjUYjCVcYv52s6jbaqjmghqAYZwCcVBh9CUKWrevF gOLg== X-Gm-Message-State: AOJu0YwbhOKbEssRNWVlurZ6LILPzU6Vnd/kQLSq5PJgVscnUExMgSwH aZK7BnfVLLeSFCB7ehZFs8L1MrL9J7YMn2mylI7aZfBpy6jT7Ni6RYmTimLYQCIEkjqBTAlPBMq i/sgQJ9VzycZayutGZqGPg4rOXvssjeXqRmJa3zdL X-Gm-Gg: ASbGncufaAczGnfXE1fBAuC/r2KYWkswAs1kwEi9MIYNVDokarOy3H5tskP9TNJ2VLr 0/2XLXGouWe/BADYa+7NlAkABBLEScsSridmUAdub4TrFJ0TWKstIFvoBJXAnwlvz6+xuJIIC4H XGFcZ4aA4v5U/8HwJjULiz8FkQJwt6iS5HOXnJS/fDaLsUR6ba5AGPZ7sMbvMwCBvMUO4YO8YyG 4rhLLnFOfS4mmHl3m4wyZ9lsliRGmjg8XxajkiaFgFEHVnbDxQeqkSXYqK2lq9DrBFBwwtJ3bKl 6vSJVVGcWup6Zy/e1X6KCe6809/xmg== X-Google-Smtp-Source: AGHT+IECg0cnkbA9tUwxwoMEjWBtztvuRGKALIkqJfaTglsh6hPqpShl63xZF0T468mT5jTGrZdPQEkJZYb+ X-Received: by 2002:ad4:5c64:0:b0:6e1:697c:d9b8 with SMTP id 6a1803df08f44-6e4455d2ff4mr72428716d6.9.1738958426739; Fri, 07 Feb 2025 12:00:26 -0800 (PST) Received: from postal.iol.unh.edu (postal.iol.unh.edu. [132.177.123.84]) by smtp-relay.gmail.com with ESMTPS id 6a1803df08f44-6e43bb0a8b1sm2537676d6.61.2025.02.07.12.00.26 (version=TLS1_2 cipher=ECDHE-ECDSA-AES128-GCM-SHA256 bits=128/128); Fri, 07 Feb 2025 12:00:26 -0800 (PST) X-Relaying-Domain: iol.unh.edu Date: Fri, 07 Feb 2025 12:00:26 -0800 (PST) Message-ID: <67a6665a.050a0220.5e625.dd12SMTPIN_ADDED_MISSING@mx.google.com> Received: from [172.21.0.10] (unknown [172.18.0.240]) by postal.iol.unh.edu (Postfix) with ESMTP id 6B0746052477; Fri, 7 Feb 2025 14:59:56 -0500 (EST) Subject: |SUCCESS| pw149308 [PATCH] net/gve: Allocate qpl pages using malloc From: dpdklab@iol.unh.edu To: Test Report Cc: dpdk-test-reports@iol.unh.edu In-Reply-To: <20241218234635.2009033-1-joshwash@google.com> References: <20241218234635.2009033-1-joshwash@google.com> Content-Type: text/plain X-BeenThere: test-report@dpdk.org X-Mailman-Version: 2.1.29 Precedence: list List-Id: automatic DPDK test reports List-Unsubscribe: , List-Archive: List-Post: List-Help: List-Subscribe: , Errors-To: test-report-bounces@dpdk.org Test-Label: iol-compile-amd64-testing Test-Status: SUCCESS http://dpdk.org/patch/149308 _Testing PASS_ Submitter: Joshua Washington Date: Wednesday, December 18 2024 23:46:35 DPDK git baseline: Repo:dpdk Branch: master CommitID:78d0246a2e2fb14cba220d507192d12d2ce896ac 149308 --> testing pass Test environment and result as below: +---------------------+--------------------+------------------+-------------------+-------------------+-------------------------+----------------------+ | Environment | dpdk_meson_compile | dpdk_compile_ovs | dpdk_compile_spdk | dpdk_msvc_compile | dpdk_llvm_clang_compile | dpdk_mingw64_compile | +=====================+====================+==================+===================+===================+=========================+======================+ | CentOS Stream 9 | PASS | PASS | PASS | SKIPPED | SKIPPED | SKIPPED | +---------------------+--------------------+------------------+-------------------+-------------------+-------------------------+----------------------+ | Debian 12 | PASS | PASS | PASS | SKIPPED | SKIPPED | SKIPPED | +---------------------+--------------------+------------------+-------------------+-------------------+-------------------------+----------------------+ | Fedora 39 | PASS | PASS | PASS | SKIPPED | SKIPPED | SKIPPED | +---------------------+--------------------+------------------+-------------------+-------------------+-------------------------+----------------------+ | Fedora 40 (Clang) | PASS | PASS | PASS | SKIPPED | SKIPPED | SKIPPED | +---------------------+--------------------+------------------+-------------------+-------------------+-------------------------+----------------------+ | RHEL8 | PASS | PASS | SKIPPED | SKIPPED | SKIPPED | SKIPPED | +---------------------+--------------------+------------------+-------------------+-------------------+-------------------------+----------------------+ | Fedora 40 | PASS | PASS | PASS | SKIPPED | SKIPPED | SKIPPED | +---------------------+--------------------+------------------+-------------------+-------------------+-------------------------+----------------------+ | openSUSE Leap 15 | PASS | SKIPPED | SKIPPED | SKIPPED | SKIPPED | SKIPPED | +---------------------+--------------------+------------------+-------------------+-------------------+-------------------------+----------------------+ | RHEL9 | PASS | PASS | SKIPPED | SKIPPED | SKIPPED | SKIPPED | +---------------------+--------------------+------------------+-------------------+-------------------+-------------------------+----------------------+ | Ubuntu 20.04 | PASS | SKIPPED | SKIPPED | SKIPPED | SKIPPED | SKIPPED | +---------------------+--------------------+------------------+-------------------+-------------------+-------------------------+----------------------+ | Ubuntu 22.04 | PASS | PASS | PASS | SKIPPED | SKIPPED | SKIPPED | +---------------------+--------------------+------------------+-------------------+-------------------+-------------------------+----------------------+ | Ubuntu 24.04 | PASS | PASS | PASS | SKIPPED | SKIPPED | SKIPPED | +---------------------+--------------------+------------------+-------------------+-------------------+-------------------------+----------------------+ | FreeBSD 13.4 | PASS | SKIPPED | SKIPPED | SKIPPED | SKIPPED | SKIPPED | +---------------------+--------------------+------------------+-------------------+-------------------+-------------------------+----------------------+ | FreeBSD 14.2 | PASS | SKIPPED | SKIPPED | SKIPPED | SKIPPED | SKIPPED | +---------------------+--------------------+------------------+-------------------+-------------------+-------------------------+----------------------+ | Fedora 39 (Clang) | PASS | PASS | PASS | SKIPPED | SKIPPED | SKIPPED | +---------------------+--------------------+------------------+-------------------+-------------------+-------------------------+----------------------+ | Alpine | PASS | PASS | SKIPPED | SKIPPED | SKIPPED | SKIPPED | +---------------------+--------------------+------------------+-------------------+-------------------+-------------------------+----------------------+ | Windows Server 2022 | SKIPPED | SKIPPED | SKIPPED | PASS | PASS | PASS | +---------------------+--------------------+------------------+-------------------+-------------------+-------------------------+----------------------+ CentOS Stream 9 Kernel: Depends on container host Compiler: gcc 11.5.0 20240719 (Red Hat 11.5.0-2) Debian 12 Kernel: Depends on container host Compiler: gcc (Debian 12.2.0-14) 12.2.0 Fedora 39 Kernel: Depends on container host Compiler: gcc 13.3.1 20240522 (Red Hat 13.3.1-1) Fedora 40 (Clang) Kernel: Depends on container host Compiler: clang 18.1.8 (Fedora 18.1.8-1.fc40) RHEL8 Kernel: Depends on container host Compiler: gcc 8.5.0 20210514 (Red Hat 8.5.0-22) Fedora 40 Kernel: Depends on container host Compiler: gcc 14.2.1 20240912 (Red Hat 14.2.1-3) openSUSE Leap 15 Kernel: Depends on container host Compiler: gcc (SUSE Linux) 7.5.0 RHEL9 Kernel: Depends on container host Compiler: gcc 11.5.0 20240719 (Red Hat 11.5.0-2) Ubuntu 20.04 Kernel: Depends on container host Compiler: gcc (Ubuntu 9.4.0-1ubuntu1~20.04.2) 9.4.0 Ubuntu 22.04 Kernel: Depends on container host Compiler: gcc (Ubuntu 11.4.0-1ubuntu1~22.04) 11.4.0 Ubuntu 24.04 Kernel: Depends on container host Compiler: gcc (Ubuntu 13.3.0-6ubuntu2~24.04) 13.3.0 FreeBSD 13.4 Kernel: 13.4-RELEASE-p1 Compiler: clang 18.1.6 FreeBSD 14.2 Kernel: 14.2-RELEASE Compiler: clang 18.1.6 Fedora 39 (Clang) Kernel: Depends on container host Compiler: clang 17.0.6 (Fedora 17.0.6-2.fc39) Alpine Kernel: Depends on container host Compiler: gcc (Alpine 14.2.0) 14.2.0 Windows Server 2022 Kernel: 10.0.20348.2031 Compiler: clang 15.0.7, gcc 14.1.0 (MinGW), and MSVC VS 19.39.33521 To view detailed results, visit: https://lab.dpdk.org/results/dashboard/patchsets/32163/ UNH-IOL DPDK Community Lab To manage your email subscriptions, visit: https://lab.dpdk.org/results/dashboard/preferences/subscriptions/