From mboxrd@z Thu Jan 1 00:00:00 1970 Return-Path: Received: from mails.dpdk.org (mails.dpdk.org [217.70.189.124]) by inbox.dpdk.org (Postfix) with ESMTP id 55C79461BF for ; Fri, 7 Feb 2025 21:00:35 +0100 (CET) Received: from mails.dpdk.org (localhost [127.0.0.1]) by mails.dpdk.org (Postfix) with ESMTP id 51436402B3; Fri, 7 Feb 2025 21:00:35 +0100 (CET) Received: from mail-yw1-f226.google.com (mail-yw1-f226.google.com [209.85.128.226]) by mails.dpdk.org (Postfix) with ESMTP id 3494E40290 for ; Fri, 7 Feb 2025 21:00:34 +0100 (CET) Received: by mail-yw1-f226.google.com with SMTP id 00721157ae682-6f666c94285so22363127b3.3 for ; Fri, 07 Feb 2025 12:00:34 -0800 (PST) DKIM-Signature: v=1; a=rsa-sha256; c=relaxed/relaxed; d=iol.unh.edu; s=unh-iol; t=1738958433; x=1739563233; darn=dpdk.org; h=references:in-reply-to:cc:to:from:subject:message-id:date:from:to :cc:subject:date:message-id:reply-to; bh=YqTGQsBhquyVRaiQXXqRQoK5v/mbBNzNChECQZ182e4=; b=P/qmmMW5Y7xHINxHIql/wDaOfTlp4c9v4Iub9eCO2Srp6v4GDPcGGK3ynhItSnq4Ti DmBxQEaPRx4mKV7WgIkK6uVajrh3vfuAizRhCWVqIphkfCMRllb2llbz2f72DWkPfktG wcb9Pbcvfe1EIppEOBoSl6XJ5TYLStqTgB6ZA= X-Google-DKIM-Signature: v=1; a=rsa-sha256; c=relaxed/relaxed; d=1e100.net; s=20230601; t=1738958433; x=1739563233; h=references:in-reply-to:cc:to:from:subject:message-id:date :x-gm-message-state:from:to:cc:subject:date:message-id:reply-to; bh=YqTGQsBhquyVRaiQXXqRQoK5v/mbBNzNChECQZ182e4=; b=j6gTAj4gX9WTKfKFotDBx8KCJT2ZFiSrvJPyK9W38nYYFrTrkGFF2/mKPqjqE2aEEn +Ms1kWUnnYLT3twuTnR4tgx6D69iUkbfnB/EwqteIA7bmaLzfHzWmVcCwLbMywvLFA8L x8ALJp/YFNXYrvb4DA57YrKeswQEsSpLoaxLg+MmYHoA0toXkawpSvmkm1aPXVAw5ZCT mzGfwM35u9ZL2NryNjesA7GHztlPSGiBwrc0WlR7RvE2eGmwOANfPVLU00bNGLUjJlvs hGZVohj7uI8Q5yXHQYxKuVS4gg1JxG6EmCWt2RPZtmyUC9azJPhttnqQggG+3cg/sgIv 5qig== X-Gm-Message-State: AOJu0YzorIWJ09y1Gn86oFXNbRoGvvu+ufsy5a2puobwMObmE9TwZ56J m4B2gI9wqM9tPZEFkjPdLaT1k2nM5GXfVd2/mUGsFtUzDNh3BPdm8T/Z/N0Og+XDhipG2sAm6Fe /0b/jaDd5o9POb+OlrurExJeNvlR3IqEo9XJ/Fzz3 X-Gm-Gg: ASbGncv0F39JHtOBg1LIYZAacfsxS8PU08tWzU0hG6zbbhAtnQlVhwnHiA/d75kBVRh C1kpjErrVbwz346Sz5zB7sZC9FFDpAQNOW2QtF6gFxwMCjdb3tAcwAgaCRB7BPcVLX/l37tEEms rNCbU6LjQtLkgP8pX3Ph1FHMmB/gEdGqE80WSpG94hSoXCckaMj15dI6GTJLo2hUfJVBXaQnFNj NOZ6D/k3ZjTGYjsJLUhFuXW2hT/nK0gOd5pHnYy2tzYxfCY3rC1elsOMQ0C2+Ib6Kpy8YDz2Agz RMDDlQlAQ9o0SAsRg4axW3Xc3mWQVA== X-Google-Smtp-Source: AGHT+IG8nh3eW76t2aFxMaqiS85YVHMY0UIZNIh9xooYG2E1vgnEv7v4YNp4uDZsT3Ouq0loHW83VawNsIYD X-Received: by 2002:a05:690c:2501:b0:6ef:5097:5daa with SMTP id 00721157ae682-6f9b29da09fmr39000637b3.34.1738958433459; Fri, 07 Feb 2025 12:00:33 -0800 (PST) Received: from postal.iol.unh.edu (postal.iol.unh.edu. [132.177.123.84]) by smtp-relay.gmail.com with ESMTPS id 00721157ae682-6f99fd2370esm554397b3.17.2025.02.07.12.00.33 (version=TLS1_2 cipher=ECDHE-ECDSA-AES128-GCM-SHA256 bits=128/128); Fri, 07 Feb 2025 12:00:33 -0800 (PST) X-Relaying-Domain: iol.unh.edu Date: Fri, 07 Feb 2025 12:00:33 -0800 (PST) Message-ID: <67a66661.050a0220.2aa160.2a9cSMTPIN_ADDED_MISSING@mx.google.com> Received: from [172.21.0.8] (unknown [172.18.0.240]) by postal.iol.unh.edu (Postfix) with ESMTP id 269A56052485; Fri, 7 Feb 2025 15:00:31 -0500 (EST) Subject: |SUCCESS| pw149306 [PATCH] bus/fslmc: fix use after rte_free From: dpdklab@iol.unh.edu To: Test Report Cc: dpdk-test-reports@iol.unh.edu In-Reply-To: <20241218170530.140747-1-stephen@networkplumber.org> References: <20241218170530.140747-1-stephen@networkplumber.org> Content-Type: text/plain X-BeenThere: test-report@dpdk.org X-Mailman-Version: 2.1.29 Precedence: list List-Id: automatic DPDK test reports List-Unsubscribe: , List-Archive: List-Post: List-Help: List-Subscribe: , Errors-To: test-report-bounces@dpdk.org Test-Label: iol-compile-amd64-testing Test-Status: SUCCESS http://dpdk.org/patch/149306 _Testing PASS_ Submitter: Stephen Hemminger Date: Wednesday, December 18 2024 17:05:30 DPDK git baseline: Repo:dpdk Branch: master CommitID:4dc4e33ffa108e945fc8a1e2bbc7819791faa61e 149306 --> testing pass Test environment and result as below: +---------------------+--------------------+------------------+-------------------+-------------------+-------------------------+----------------------+ | Environment | dpdk_meson_compile | dpdk_compile_ovs | dpdk_compile_spdk | dpdk_msvc_compile | dpdk_llvm_clang_compile | dpdk_mingw64_compile | +=====================+====================+==================+===================+===================+=========================+======================+ | CentOS Stream 9 | PASS | PASS | PASS | SKIPPED | SKIPPED | SKIPPED | +---------------------+--------------------+------------------+-------------------+-------------------+-------------------------+----------------------+ | Fedora 39 (Clang) | PASS | PASS | PASS | SKIPPED | SKIPPED | SKIPPED | +---------------------+--------------------+------------------+-------------------+-------------------+-------------------------+----------------------+ | Debian 12 | PASS | PASS | PASS | SKIPPED | SKIPPED | SKIPPED | +---------------------+--------------------+------------------+-------------------+-------------------+-------------------------+----------------------+ | Fedora 39 | PASS | PASS | PASS | SKIPPED | SKIPPED | SKIPPED | +---------------------+--------------------+------------------+-------------------+-------------------+-------------------------+----------------------+ | Fedora 40 | PASS | PASS | PASS | SKIPPED | SKIPPED | SKIPPED | +---------------------+--------------------+------------------+-------------------+-------------------+-------------------------+----------------------+ | openSUSE Leap 15 | PASS | SKIPPED | SKIPPED | SKIPPED | SKIPPED | SKIPPED | +---------------------+--------------------+------------------+-------------------+-------------------+-------------------------+----------------------+ | RHEL9 | PASS | PASS | SKIPPED | SKIPPED | SKIPPED | SKIPPED | +---------------------+--------------------+------------------+-------------------+-------------------+-------------------------+----------------------+ | Ubuntu 20.04 | PASS | SKIPPED | SKIPPED | SKIPPED | SKIPPED | SKIPPED | +---------------------+--------------------+------------------+-------------------+-------------------+-------------------------+----------------------+ | Ubuntu 22.04 | PASS | PASS | PASS | SKIPPED | SKIPPED | SKIPPED | +---------------------+--------------------+------------------+-------------------+-------------------+-------------------------+----------------------+ | Ubuntu 24.04 | PASS | PASS | PASS | SKIPPED | SKIPPED | SKIPPED | +---------------------+--------------------+------------------+-------------------+-------------------+-------------------------+----------------------+ | Alpine | PASS | PASS | SKIPPED | SKIPPED | SKIPPED | SKIPPED | +---------------------+--------------------+------------------+-------------------+-------------------+-------------------------+----------------------+ | FreeBSD 13.4 | PASS | SKIPPED | SKIPPED | SKIPPED | SKIPPED | SKIPPED | +---------------------+--------------------+------------------+-------------------+-------------------+-------------------------+----------------------+ | RHEL8 | PASS | PASS | SKIPPED | SKIPPED | SKIPPED | SKIPPED | +---------------------+--------------------+------------------+-------------------+-------------------+-------------------------+----------------------+ | FreeBSD 14.2 | PASS | SKIPPED | SKIPPED | SKIPPED | SKIPPED | SKIPPED | +---------------------+--------------------+------------------+-------------------+-------------------+-------------------------+----------------------+ | Fedora 40 (Clang) | PASS | PASS | PASS | SKIPPED | SKIPPED | SKIPPED | +---------------------+--------------------+------------------+-------------------+-------------------+-------------------------+----------------------+ | Windows Server 2022 | SKIPPED | SKIPPED | SKIPPED | PASS | PASS | PASS | +---------------------+--------------------+------------------+-------------------+-------------------+-------------------------+----------------------+ CentOS Stream 9 Kernel: Depends on container host Compiler: gcc 11.5.0 20240719 (Red Hat 11.5.0-2) Fedora 39 (Clang) Kernel: Depends on container host Compiler: clang 17.0.6 (Fedora 17.0.6-2.fc39) Debian 12 Kernel: Depends on container host Compiler: gcc (Debian 12.2.0-14) 12.2.0 Fedora 39 Kernel: Depends on container host Compiler: gcc 13.3.1 20240522 (Red Hat 13.3.1-1) Fedora 40 Kernel: Depends on container host Compiler: gcc 14.2.1 20240912 (Red Hat 14.2.1-3) openSUSE Leap 15 Kernel: Depends on container host Compiler: gcc (SUSE Linux) 7.5.0 RHEL9 Kernel: Depends on container host Compiler: gcc 11.5.0 20240719 (Red Hat 11.5.0-2) Ubuntu 20.04 Kernel: Depends on container host Compiler: gcc (Ubuntu 9.4.0-1ubuntu1~20.04.2) 9.4.0 Ubuntu 22.04 Kernel: Depends on container host Compiler: gcc (Ubuntu 11.4.0-1ubuntu1~22.04) 11.4.0 Ubuntu 24.04 Kernel: Depends on container host Compiler: gcc (Ubuntu 13.3.0-6ubuntu2~24.04) 13.3.0 Alpine Kernel: Depends on container host Compiler: gcc (Alpine 14.2.0) 14.2.0 FreeBSD 13.4 Kernel: 13.4-RELEASE-p1 Compiler: clang 18.1.6 RHEL8 Kernel: Depends on container host Compiler: gcc 8.5.0 20210514 (Red Hat 8.5.0-22) FreeBSD 14.2 Kernel: 14.2-RELEASE Compiler: clang 18.1.6 Fedora 40 (Clang) Kernel: Depends on container host Compiler: clang 18.1.8 (Fedora 18.1.8-1.fc40) Windows Server 2022 Kernel: 10.0.20348.2031 Compiler: clang 15.0.7, gcc 14.1.0 (MinGW), and MSVC VS 19.39.33521 To view detailed results, visit: https://lab.dpdk.org/results/dashboard/patchsets/32161/ UNH-IOL DPDK Community Lab To manage your email subscriptions, visit: https://lab.dpdk.org/results/dashboard/preferences/subscriptions/