From mboxrd@z Thu Jan 1 00:00:00 1970 Return-Path: Received: from mails.dpdk.org (mails.dpdk.org [217.70.189.124]) by inbox.dpdk.org (Postfix) with ESMTP id 03F46461BF for ; Fri, 7 Feb 2025 21:00:35 +0100 (CET) Received: from mails.dpdk.org (localhost [127.0.0.1]) by mails.dpdk.org (Postfix) with ESMTP id F179D40290; Fri, 7 Feb 2025 21:00:34 +0100 (CET) Received: from mail-il1-f226.google.com (mail-il1-f226.google.com [209.85.166.226]) by mails.dpdk.org (Postfix) with ESMTP id 03EE64026C for ; Fri, 7 Feb 2025 21:00:34 +0100 (CET) Received: by mail-il1-f226.google.com with SMTP id e9e14a558f8ab-3d01fe20598so8551905ab.3 for ; Fri, 07 Feb 2025 12:00:33 -0800 (PST) DKIM-Signature: v=1; a=rsa-sha256; c=relaxed/relaxed; d=iol.unh.edu; s=unh-iol; t=1738958433; x=1739563233; darn=dpdk.org; h=cc:to:from:subject:message-id:date:from:to:cc:subject:date :message-id:reply-to; bh=6+E4ojb4hRnpBvwza8AWp+HD9z0zWmu4fFvw5OKQqyQ=; b=gAoMARcGbNEa2WJVJOuklGEWOPeXT/ZyWovH6v7C1GmrwK3Cc3cM3h62XD9TGikoxl AjdBpxRZtpldzpUrIeOz6hyd/6d88mCW09Kwgwx2TlnXhe6+yPG3nJAhbrCLbickT5I3 pFI8GcCbakAXTqPHsDH2Xs8F3qAuLQrh17RCo= X-Google-DKIM-Signature: v=1; a=rsa-sha256; c=relaxed/relaxed; d=1e100.net; s=20230601; t=1738958433; x=1739563233; h=cc:to:from:subject:message-id:date:x-gm-message-state:from:to:cc :subject:date:message-id:reply-to; bh=6+E4ojb4hRnpBvwza8AWp+HD9z0zWmu4fFvw5OKQqyQ=; b=JxqtuHJ24BpRjvzf3X0xxaTz1lEkNZ6oAGOqCSdahd7Crty0x+KlAMAh4SawCABLad jIl15GijI2rz15P+vjf9rsarhDhm14CkcS1FP+OhCybysi1pETLtkBPi5phB8InXrwtq s7gxjfMhC/N5waizO61T/Q/oNVHSXyMvbYCCx+gGoO6dG6D1hQVLKfX3mHTObGyz7Tak 6zFDhPh9uazhQJeHXO0CV161hp3rfGlbmpW1T9k/8IIJFBjJeG6/8Bs64cI2qoFpFj9N kCbDt1zHMWrwnrhGz4tiChPkhXWPofdQrUwufuwVIAt0eEJt/G3V09oiuvQ14gKii8n+ Q7eg== X-Gm-Message-State: AOJu0YzFyl3/uRHkKj+Urc7XQWhlZDze0mT41Ch4Kv3Bk7hmYv0uz/f/ wiwQbJ4RPRWiWD0gPhi74rKNDhNlhicNTdRBgAS0zDPGuTdbzREjM9EWnJtFxhFuizZMqAkfPIF afm9je//9Dc9PBaFbVp7rRC0OF90mcFWF6eCxV808 X-Gm-Gg: ASbGnctmDFFIVfjHFfi5kEJguXGRghTJ6A49WF+Viy/UpkpVrKCESEIMemmV14fcBIk sT4EQ1BL4eR3JeH6Rox6kGCfVNpY1tmypblbutSScPQFIkGArwpLMQh01tdUcATlDCnWj84ea1h 4TNAvJqYE98p1Tka2HBeyJ4+dGkYEUzp2dPF8M97yaOxRf/Y2021hHd7L0lEVviXzpqQ5LUe/N+ 1Ya7wA34eigKka9O0XskwLEoD0wxtiuCay7QPHLkow41i+m2m0iqe2rtz3OxdBzcIAOsfWhYCah 0rkvV7zgQX7hX5xqIecWbMIbESAy6Q== X-Google-Smtp-Source: AGHT+IGUO2EeQV5gjroiYhrHK251eZphEkjZsIZlxXw6HCry7rUfCagMZbgSOwEtIJ/Aw5L8uhhFTDLXu6jd X-Received: by 2002:a05:6e02:1a0d:b0:3d0:137a:8c9d with SMTP id e9e14a558f8ab-3d13dd13f7emr34462335ab.8.1738958433385; Fri, 07 Feb 2025 12:00:33 -0800 (PST) Received: from postal.iol.unh.edu (postal.iol.unh.edu. [132.177.123.84]) by smtp-relay.gmail.com with ESMTPS id 8926c6da1cb9f-4eccf9f73easm271029173.42.2025.02.07.12.00.33 (version=TLS1_2 cipher=ECDHE-ECDSA-AES128-GCM-SHA256 bits=128/128); Fri, 07 Feb 2025 12:00:33 -0800 (PST) X-Relaying-Domain: iol.unh.edu Date: Fri, 07 Feb 2025 12:00:33 -0800 (PST) Message-ID: <67a66661.050a0220.2b9964.e487SMTPIN_ADDED_MISSING@mx.google.com> Received: from [172.21.0.13] (unknown [172.18.0.240]) by postal.iol.unh.edu (Postfix) with ESMTP id DAD2E605247D; Fri, 7 Feb 2025 15:00:02 -0500 (EST) Subject: |SUCCESS| [GIT MASTER] 7df61db6c387703a36306c1aea92225921e2eeb2 From: dpdklab@iol.unh.edu To: Test Report Cc: dpdk-test-reports@iol.unh.edu, Akhil Goyal Content-Type: text/plain X-BeenThere: test-report@dpdk.org X-Mailman-Version: 2.1.29 Precedence: list List-Id: automatic DPDK test reports List-Unsubscribe: , List-Archive: List-Post: List-Help: List-Subscribe: , Errors-To: test-report-bounces@dpdk.org _Testing PASS_ Branch: dpdk-next-crypto 7df61db6c387703a36306c1aea92225921e2eeb2 --> testing pass Test environment and result as below: +---------------------+--------------------+------------------+-------------------+-------------------+-------------------------+----------------------+ | Environment | dpdk_meson_compile | dpdk_compile_ovs | dpdk_compile_spdk | dpdk_msvc_compile | dpdk_llvm_clang_compile | dpdk_mingw64_compile | +=====================+====================+==================+===================+===================+=========================+======================+ | CentOS Stream 9 | PASS | PASS | PASS | SKIPPED | SKIPPED | SKIPPED | +---------------------+--------------------+------------------+-------------------+-------------------+-------------------------+----------------------+ | Debian 12 | PASS | PASS | PASS | SKIPPED | SKIPPED | SKIPPED | +---------------------+--------------------+------------------+-------------------+-------------------+-------------------------+----------------------+ | Fedora 39 (Clang) | PASS | PASS | PASS | SKIPPED | SKIPPED | SKIPPED | +---------------------+--------------------+------------------+-------------------+-------------------+-------------------------+----------------------+ | Fedora 39 | PASS | PASS | PASS | SKIPPED | SKIPPED | SKIPPED | +---------------------+--------------------+------------------+-------------------+-------------------+-------------------------+----------------------+ | Fedora 40 (Clang) | PASS | PASS | PASS | SKIPPED | SKIPPED | SKIPPED | +---------------------+--------------------+------------------+-------------------+-------------------+-------------------------+----------------------+ | Fedora 40 | PASS | PASS | PASS | SKIPPED | SKIPPED | SKIPPED | +---------------------+--------------------+------------------+-------------------+-------------------+-------------------------+----------------------+ | RHEL8 | PASS | PASS | SKIPPED | SKIPPED | SKIPPED | SKIPPED | +---------------------+--------------------+------------------+-------------------+-------------------+-------------------------+----------------------+ | RHEL9 | PASS | PASS | SKIPPED | SKIPPED | SKIPPED | SKIPPED | +---------------------+--------------------+------------------+-------------------+-------------------+-------------------------+----------------------+ | Ubuntu 20.04 | PASS | SKIPPED | SKIPPED | SKIPPED | SKIPPED | SKIPPED | +---------------------+--------------------+------------------+-------------------+-------------------+-------------------------+----------------------+ | Ubuntu 22.04 | PASS | PASS | PASS | SKIPPED | SKIPPED | SKIPPED | +---------------------+--------------------+------------------+-------------------+-------------------+-------------------------+----------------------+ | Ubuntu 24.04 | PASS | PASS | PASS | SKIPPED | SKIPPED | SKIPPED | +---------------------+--------------------+------------------+-------------------+-------------------+-------------------------+----------------------+ | FreeBSD 14.2 | PASS | SKIPPED | SKIPPED | SKIPPED | SKIPPED | SKIPPED | +---------------------+--------------------+------------------+-------------------+-------------------+-------------------------+----------------------+ | FreeBSD 13.4 | PASS | SKIPPED | SKIPPED | SKIPPED | SKIPPED | SKIPPED | +---------------------+--------------------+------------------+-------------------+-------------------+-------------------------+----------------------+ | Alpine | PASS | PASS | SKIPPED | SKIPPED | SKIPPED | SKIPPED | +---------------------+--------------------+------------------+-------------------+-------------------+-------------------------+----------------------+ | openSUSE Leap 15 | PASS | SKIPPED | SKIPPED | SKIPPED | SKIPPED | SKIPPED | +---------------------+--------------------+------------------+-------------------+-------------------+-------------------------+----------------------+ | Windows Server 2022 | SKIPPED | SKIPPED | SKIPPED | PASS | PASS | PASS | +---------------------+--------------------+------------------+-------------------+-------------------+-------------------------+----------------------+ CentOS Stream 9 Kernel: Depends on container host Compiler: gcc 11.5.0 20240719 (Red Hat 11.5.0-2) Debian 12 Kernel: Depends on container host Compiler: gcc (Debian 12.2.0-14) 12.2.0 Fedora 39 (Clang) Kernel: Depends on container host Compiler: clang 17.0.6 (Fedora 17.0.6-2.fc39) Fedora 39 Kernel: Depends on container host Compiler: gcc 13.3.1 20240522 (Red Hat 13.3.1-1) Fedora 40 (Clang) Kernel: Depends on container host Compiler: clang 18.1.8 (Fedora 18.1.8-1.fc40) Fedora 40 Kernel: Depends on container host Compiler: gcc 14.2.1 20240912 (Red Hat 14.2.1-3) RHEL8 Kernel: Depends on container host Compiler: gcc 8.5.0 20210514 (Red Hat 8.5.0-22) RHEL9 Kernel: Depends on container host Compiler: gcc 11.5.0 20240719 (Red Hat 11.5.0-2) Ubuntu 20.04 Kernel: Depends on container host Compiler: gcc (Ubuntu 9.4.0-1ubuntu1~20.04.2) 9.4.0 Ubuntu 22.04 Kernel: Depends on container host Compiler: gcc (Ubuntu 11.4.0-1ubuntu1~22.04) 11.4.0 Ubuntu 24.04 Kernel: Depends on container host Compiler: gcc (Ubuntu 13.3.0-6ubuntu2~24.04) 13.3.0 FreeBSD 14.2 Kernel: 14.2-RELEASE Compiler: clang 18.1.6 FreeBSD 13.4 Kernel: 13.4-RELEASE-p1 Compiler: clang 18.1.6 Alpine Kernel: Depends on container host Compiler: gcc (Alpine 14.2.0) 14.2.0 openSUSE Leap 15 Kernel: Depends on container host Compiler: gcc (SUSE Linux) 7.5.0 Windows Server 2022 Kernel: 10.0.20348.2031 Compiler: clang 15.0.7, gcc 14.1.0 (MinGW), and MSVC VS 19.39.33521 To view detailed results, visit: https://lab.dpdk.org/results/dashboard/tarballs/31975/ UNH-IOL DPDK Community Lab To manage your email subscriptions, visit: https://lab.dpdk.org/results/dashboard/preferences/subscriptions/