From mboxrd@z Thu Jan 1 00:00:00 1970 Return-Path: Received: from mails.dpdk.org (mails.dpdk.org [217.70.189.124]) by inbox.dpdk.org (Postfix) with ESMTP id 70FE4461BF for ; Fri, 7 Feb 2025 21:00:39 +0100 (CET) Received: from mails.dpdk.org (localhost [127.0.0.1]) by mails.dpdk.org (Postfix) with ESMTP id 6974440290; Fri, 7 Feb 2025 21:00:39 +0100 (CET) Received: from mail-io1-f97.google.com (mail-io1-f97.google.com [209.85.166.97]) by mails.dpdk.org (Postfix) with ESMTP id 575764026C for ; Fri, 7 Feb 2025 21:00:34 +0100 (CET) Received: by mail-io1-f97.google.com with SMTP id ca18e2360f4ac-852050432a8so74074339f.1 for ; Fri, 07 Feb 2025 12:00:34 -0800 (PST) DKIM-Signature: v=1; a=rsa-sha256; c=relaxed/relaxed; d=iol.unh.edu; s=unh-iol; t=1738958433; x=1739563233; darn=dpdk.org; h=references:in-reply-to:cc:to:from:subject:message-id:date:from:to :cc:subject:date:message-id:reply-to; bh=aW2E/LNwVn5gE9vm+nkI7FIeQaNWUohidoHJGhELJP4=; b=Z7YtkEQRr2MExqKg2hGGCelFP9ChYwXiQx2HPtEd5fxwh+qccBqwY600TEJLpVuB9I oJfW4pVYPpNKsqjSe5339jmQ5HslNsdBHGWftIWR5KH5uXHWVGyB7xcqnoXZSDCBUmBH v5YoAviVzwOaV/GcShmEQwSb/n2qaImMNjAt8= X-Google-DKIM-Signature: v=1; a=rsa-sha256; c=relaxed/relaxed; d=1e100.net; s=20230601; t=1738958433; x=1739563233; h=references:in-reply-to:cc:to:from:subject:message-id:date :x-gm-message-state:from:to:cc:subject:date:message-id:reply-to; bh=aW2E/LNwVn5gE9vm+nkI7FIeQaNWUohidoHJGhELJP4=; b=qp1DxVsBrbhibuJTTTquJ7fw9t15RMIVSEvRU/+6O0E59ny8DnFqqRHZLswZMUg6O7 1w5t3zMSIMB2BlZLVTXS7X0yIMsbCLejddTQP5tJRteCgMjVAPmj2J6WAAe9r70xZhHo 7pCr8FQDVMGl3daWYQIhSHbgDFEORJRWQ1PDfZG3D7NnLCg0eu16ylrayRYeSPxZmXI4 uPpzZQVSqRGeqq4F8fJQt8MdFD55oAP7JAuqyluavClbMqcRbVULX9bCLzvIDT0fFqCG XtN+cDVkkKlid8fDA0jZDzfW9Co9o/Qy1EPqwScFrtEEUAg7/s5Q9vNUrFdCt1VABilJ /5QQ== X-Gm-Message-State: AOJu0Ywd9w7ONaNAFXy65YpccB/05ww/eQJR0ErQAbjZHfsmGeUtwDc5 qY3XSTYnOP+eqDLgcAffqhXaEPPJIHn4shQA0hjEO/fWqvnfnIHppyv/IP+EGf+qTnqPASqmxR2 aNssk/XsVS7G0si1Y5AgMjPNrh+ViX6C9puRsg9CJ X-Gm-Gg: ASbGncuHRoQaEZMgAWrE89YU7vCzdgR9LA3mv5IeuelaFU83qJKCZ4XkmZeC6tMlQf8 gULPVPc0qblp8Glt/KoM06BVmSoFwATCfqdpVjWHKJuskH8FMncQ7y4hyjQVcpR4Hk8aSAeauuM LrBzoPnFjrktpcqIipESljGPPL8xceF7dj24siJuF9YDwy0q70WMPE9HmngbIavmXSZaetK8K5S R26c7NpPxJ8TacFEooTufce52IJBefu5oFG3JqGoBk+szZ3//qo2vBOyv0EBA1s1aj1HpSDqCHZ QCM4MnBCdX7/bR2oggN/UOoc0p5s9g== X-Google-Smtp-Source: AGHT+IF1tdMVBUKsQ6+9e6Tf7sf5PCndE2051Lh/hNyYHG6KUr0+VCWHwmmh5nfQ+4Pvn5dPOAAQ3peZxx6R X-Received: by 2002:a05:6602:1ca:b0:841:ab27:acac with SMTP id ca18e2360f4ac-854f39a4610mr705352739f.2.1738958433725; Fri, 07 Feb 2025 12:00:33 -0800 (PST) Received: from postal.iol.unh.edu (postal.iol.unh.edu. [132.177.123.84]) by smtp-relay.gmail.com with ESMTPS id 8926c6da1cb9f-4eccfaa1c94sm262128173.56.2025.02.07.12.00.33 (version=TLS1_2 cipher=ECDHE-ECDSA-AES128-GCM-SHA256 bits=128/128); Fri, 07 Feb 2025 12:00:33 -0800 (PST) X-Relaying-Domain: iol.unh.edu Date: Fri, 07 Feb 2025 12:00:33 -0800 (PST) Message-ID: <67a66661.050a0220.4666e.d763SMTPIN_ADDED_MISSING@mx.google.com> Received: from [172.21.0.5] (unknown [172.18.0.240]) by postal.iol.unh.edu (Postfix) with ESMTP id 521566052486; Fri, 7 Feb 2025 15:00:33 -0500 (EST) Subject: |SUCCESS| pw149287 [PATCH] net/nfp: implement the burst mode get ope From: dpdklab@iol.unh.edu To: Test Report Cc: dpdk-test-reports@iol.unh.edu In-Reply-To: <20241218063036.1697438-1-chaoyong.he@corigine.com> References: <20241218063036.1697438-1-chaoyong.he@corigine.com> Content-Type: text/plain X-BeenThere: test-report@dpdk.org X-Mailman-Version: 2.1.29 Precedence: list List-Id: automatic DPDK test reports List-Unsubscribe: , List-Archive: List-Post: List-Help: List-Subscribe: , Errors-To: test-report-bounces@dpdk.org Test-Label: iol-compile-amd64-testing Test-Status: SUCCESS http://dpdk.org/patch/149287 _Testing PASS_ Submitter: Chaoyong He Date: Wednesday, December 18 2024 06:30:36 DPDK git baseline: Repo:dpdk Branch: master CommitID:78d0246a2e2fb14cba220d507192d12d2ce896ac 149287 --> testing pass Test environment and result as below: +---------------------+--------------------+------------------+-------------------+-------------------+-------------------------+----------------------+ | Environment | dpdk_meson_compile | dpdk_compile_ovs | dpdk_compile_spdk | dpdk_msvc_compile | dpdk_llvm_clang_compile | dpdk_mingw64_compile | +=====================+====================+==================+===================+===================+=========================+======================+ | CentOS Stream 9 | PASS | PASS | PASS | SKIPPED | SKIPPED | SKIPPED | +---------------------+--------------------+------------------+-------------------+-------------------+-------------------------+----------------------+ | Fedora 39 | PASS | PASS | PASS | SKIPPED | SKIPPED | SKIPPED | +---------------------+--------------------+------------------+-------------------+-------------------+-------------------------+----------------------+ | Fedora 39 (Clang) | PASS | PASS | PASS | SKIPPED | SKIPPED | SKIPPED | +---------------------+--------------------+------------------+-------------------+-------------------+-------------------------+----------------------+ | Debian 12 | PASS | PASS | PASS | SKIPPED | SKIPPED | SKIPPED | +---------------------+--------------------+------------------+-------------------+-------------------+-------------------------+----------------------+ | RHEL9 | PASS | PASS | SKIPPED | SKIPPED | SKIPPED | SKIPPED | +---------------------+--------------------+------------------+-------------------+-------------------+-------------------------+----------------------+ | Fedora 40 (Clang) | PASS | PASS | PASS | SKIPPED | SKIPPED | SKIPPED | +---------------------+--------------------+------------------+-------------------+-------------------+-------------------------+----------------------+ | RHEL8 | PASS | PASS | SKIPPED | SKIPPED | SKIPPED | SKIPPED | +---------------------+--------------------+------------------+-------------------+-------------------+-------------------------+----------------------+ | Ubuntu 20.04 | PASS | SKIPPED | SKIPPED | SKIPPED | SKIPPED | SKIPPED | +---------------------+--------------------+------------------+-------------------+-------------------+-------------------------+----------------------+ | Ubuntu 22.04 | PASS | PASS | PASS | SKIPPED | SKIPPED | SKIPPED | +---------------------+--------------------+------------------+-------------------+-------------------+-------------------------+----------------------+ | Alpine | PASS | PASS | SKIPPED | SKIPPED | SKIPPED | SKIPPED | +---------------------+--------------------+------------------+-------------------+-------------------+-------------------------+----------------------+ | FreeBSD 13.4 | PASS | SKIPPED | SKIPPED | SKIPPED | SKIPPED | SKIPPED | +---------------------+--------------------+------------------+-------------------+-------------------+-------------------------+----------------------+ | FreeBSD 14.2 | PASS | SKIPPED | SKIPPED | SKIPPED | SKIPPED | SKIPPED | +---------------------+--------------------+------------------+-------------------+-------------------+-------------------------+----------------------+ | Fedora 40 | PASS | PASS | PASS | SKIPPED | SKIPPED | SKIPPED | +---------------------+--------------------+------------------+-------------------+-------------------+-------------------------+----------------------+ | openSUSE Leap 15 | PASS | SKIPPED | SKIPPED | SKIPPED | SKIPPED | SKIPPED | +---------------------+--------------------+------------------+-------------------+-------------------+-------------------------+----------------------+ | Ubuntu 24.04 | PASS | PASS | PASS | SKIPPED | SKIPPED | SKIPPED | +---------------------+--------------------+------------------+-------------------+-------------------+-------------------------+----------------------+ | Windows Server 2022 | SKIPPED | SKIPPED | SKIPPED | PASS | PASS | PASS | +---------------------+--------------------+------------------+-------------------+-------------------+-------------------------+----------------------+ CentOS Stream 9 Kernel: Depends on container host Compiler: gcc 11.5.0 20240719 (Red Hat 11.5.0-2) Fedora 39 Kernel: Depends on container host Compiler: gcc 13.3.1 20240522 (Red Hat 13.3.1-1) Fedora 39 (Clang) Kernel: Depends on container host Compiler: clang 17.0.6 (Fedora 17.0.6-2.fc39) Debian 12 Kernel: Depends on container host Compiler: gcc (Debian 12.2.0-14) 12.2.0 RHEL9 Kernel: Depends on container host Compiler: gcc 11.5.0 20240719 (Red Hat 11.5.0-2) Fedora 40 (Clang) Kernel: Depends on container host Compiler: clang 18.1.8 (Fedora 18.1.8-1.fc40) RHEL8 Kernel: Depends on container host Compiler: gcc 8.5.0 20210514 (Red Hat 8.5.0-22) Ubuntu 20.04 Kernel: Depends on container host Compiler: gcc (Ubuntu 9.4.0-1ubuntu1~20.04.2) 9.4.0 Ubuntu 22.04 Kernel: Depends on container host Compiler: gcc (Ubuntu 11.4.0-1ubuntu1~22.04) 11.4.0 Alpine Kernel: Depends on container host Compiler: gcc (Alpine 14.2.0) 14.2.0 FreeBSD 13.4 Kernel: 13.4-RELEASE-p1 Compiler: clang 18.1.6 FreeBSD 14.2 Kernel: 14.2-RELEASE Compiler: clang 18.1.6 Fedora 40 Kernel: Depends on container host Compiler: gcc 14.2.1 20240912 (Red Hat 14.2.1-3) openSUSE Leap 15 Kernel: Depends on container host Compiler: gcc (SUSE Linux) 7.5.0 Ubuntu 24.04 Kernel: Depends on container host Compiler: gcc (Ubuntu 13.3.0-6ubuntu2~24.04) 13.3.0 Windows Server 2022 Kernel: 10.0.20348.2031 Compiler: clang 15.0.7, gcc 14.1.0 (MinGW), and MSVC VS 19.39.33521 To view detailed results, visit: https://lab.dpdk.org/results/dashboard/patchsets/32156/ UNH-IOL DPDK Community Lab To manage your email subscriptions, visit: https://lab.dpdk.org/results/dashboard/preferences/subscriptions/