From mboxrd@z Thu Jan 1 00:00:00 1970 Return-Path: Received: from mails.dpdk.org (mails.dpdk.org [217.70.189.124]) by inbox.dpdk.org (Postfix) with ESMTP id 969B1461BF for ; Fri, 7 Feb 2025 21:00:39 +0100 (CET) Received: from mails.dpdk.org (localhost [127.0.0.1]) by mails.dpdk.org (Postfix) with ESMTP id 8C2DD402C9; Fri, 7 Feb 2025 21:00:39 +0100 (CET) Received: from mail-pj1-f98.google.com (mail-pj1-f98.google.com [209.85.216.98]) by mails.dpdk.org (Postfix) with ESMTP id 460374026C for ; Fri, 7 Feb 2025 21:00:36 +0100 (CET) Received: by mail-pj1-f98.google.com with SMTP id 98e67ed59e1d1-2f9b91dff71so3988972a91.2 for ; Fri, 07 Feb 2025 12:00:36 -0800 (PST) DKIM-Signature: v=1; a=rsa-sha256; c=relaxed/relaxed; d=iol.unh.edu; s=unh-iol; t=1738958435; x=1739563235; darn=dpdk.org; h=references:in-reply-to:cc:to:from:subject:message-id:date:from:to :cc:subject:date:message-id:reply-to; bh=OypO6hmGRy16spCaa5yKMzXSTd6YKL1IjlxhkJfnPTE=; b=WTzxWjYdwXqiNBYQpyhEDVGRg8yqPBfOpTtKCzG2Lk40Rx+uZESXO7PCnWzHkcDnQO GfMeOXTKzgAY6YFcL4+rdRg0HJhx5AB99C89IJAm09E5cSE/LsdbHpU4TBnVWE5BKkjN YAiusbBwhuN8dwDqtSvoVPifYSgYeCvsSYAX8= X-Google-DKIM-Signature: v=1; a=rsa-sha256; c=relaxed/relaxed; d=1e100.net; s=20230601; t=1738958435; x=1739563235; h=references:in-reply-to:cc:to:from:subject:message-id:date :x-gm-message-state:from:to:cc:subject:date:message-id:reply-to; bh=OypO6hmGRy16spCaa5yKMzXSTd6YKL1IjlxhkJfnPTE=; b=qgJn4m3Li/2Gjk/1mf9Smmb9UDxKCd6qxxgbC5iHewyF2zVGm3iooRN9cX4ksXzIXe 2qmnwYHz4L5IcSEyGXSU48qJB2mL1g1zks2UdkIJrfEh3hq3qIAdWoavsNDWCjnLGMqH m2cG9S2TSR7E1McDLr0HERSZl/VSKEXjl0fenLKZvVhzOPCe8fst1Yd2/NtnHkfVRPAJ BVgufBPDqRde7cnaKGxYRwPQCzVUo0JnMskQLr4/qskFeKDtUw23kHfuzD6yz6W7t0gA bJEKVhB1wBEuRemTktPi7bCsNXU5LFGYRWbVPSckcbDClDr7Q9lvCmA+UfL6tqlXS0+c Cshg== X-Gm-Message-State: AOJu0Yz8QitIy8+0dvOXDXZ4+LapU4HK86Tm9IS9qolvkS9BjjQDH2gf B02a4wGbY0bsCTT4/16oh6vrPCIiVYJ25hWvr85TYRPpZn5h1Ks52IJL0XhfU6yPBmlpD7+72bU ZcwsU2WXWNwo2DyDefgJCvSU7XHgoRXxkXjadiYk3 X-Gm-Gg: ASbGncvLb45CobUcdjQBUAkgztGEz+tzXUaYZ1aKFvTeLH6Xm8npxwQq9PF+Jt9ArXq WXMBJp3LLLhShCE8tSAaA5YgQHbgVnEw56O0+90mRRAYftnfxMaqkJUdFDwZ8R4DqTCGdXYDHdd JFFEWuM3wbBTOBiY35a3ozX32tJbspZQ0yXNXxdGLbgUPFQa9KYoZZBrYjcbINo4gYZccIhEU+q OQDASeRlTK6OboyKw1j0jDnB4hE6I0khEgE87fCWNZ5Ejd0QuHOiTbLNPhXMeR7kSu+MBV7XZlE aXKOeiqBp6SkK6eo9Ws8mOcysud45A== X-Google-Smtp-Source: AGHT+IF9lPtu0Qv6wwPkTE1hB68oLSys0jqQbg5dmjAQMRnt1UpKb0GNWFmZ+eZOz45kkB4NObk50KswMF/X X-Received: by 2002:a17:90b:23c7:b0:2ee:5691:774e with SMTP id 98e67ed59e1d1-2fa23f44ca1mr6873406a91.2.1738958433916; Fri, 07 Feb 2025 12:00:33 -0800 (PST) Received: from postal.iol.unh.edu (postal.iol.unh.edu. [132.177.123.84]) by smtp-relay.gmail.com with ESMTPS id 98e67ed59e1d1-2fa09a7ad34sm303048a91.9.2025.02.07.12.00.33 (version=TLS1_2 cipher=ECDHE-ECDSA-AES128-GCM-SHA256 bits=128/128); Fri, 07 Feb 2025 12:00:33 -0800 (PST) X-Relaying-Domain: iol.unh.edu Date: Fri, 07 Feb 2025 12:00:33 -0800 (PST) Message-ID: <67a66661.170a0220.266a4e.072cSMTPIN_ADDED_MISSING@mx.google.com> Received: from [172.21.0.10] (unknown [172.18.0.240]) by postal.iol.unh.edu (Postfix) with ESMTP id 48AB86052484; Fri, 7 Feb 2025 15:00:30 -0500 (EST) Subject: |SUCCESS| pw149253-149258 [PATCH] [v3,6/6] net/virtio: remove unneed From: dpdklab@iol.unh.edu To: Test Report Cc: dpdk-test-reports@iol.unh.edu In-Reply-To: <20241216191323.75753-7-stephen@networkplumber.org> References: <20241216191323.75753-7-stephen@networkplumber.org> Content-Type: text/plain X-BeenThere: test-report@dpdk.org X-Mailman-Version: 2.1.29 Precedence: list List-Id: automatic DPDK test reports List-Unsubscribe: , List-Archive: List-Post: List-Help: List-Subscribe: , Errors-To: test-report-bounces@dpdk.org Test-Label: iol-compile-amd64-testing Test-Status: SUCCESS http://dpdk.org/patch/149258 _Testing PASS_ Submitter: Stephen Hemminger Date: Monday, December 16 2024 19:11:38 DPDK git baseline: Repo:dpdk Branch: master CommitID:f1e0472368d4dbb1da33ae68b18ca21bc8a55259 149253-149258 --> testing pass Test environment and result as below: +---------------------+--------------------+------------------+-------------------+-------------------------+----------------------+-------------------+ | Environment | dpdk_meson_compile | dpdk_compile_ovs | dpdk_compile_spdk | dpdk_llvm_clang_compile | dpdk_mingw64_compile | dpdk_msvc_compile | +=====================+====================+==================+===================+=========================+======================+===================+ | CentOS Stream 9 | PASS | PASS | PASS | SKIPPED | SKIPPED | SKIPPED | +---------------------+--------------------+------------------+-------------------+-------------------------+----------------------+-------------------+ | Debian 12 | PASS | PASS | PASS | SKIPPED | SKIPPED | SKIPPED | +---------------------+--------------------+------------------+-------------------+-------------------------+----------------------+-------------------+ | Fedora 39 (Clang) | PASS | PASS | PASS | SKIPPED | SKIPPED | SKIPPED | +---------------------+--------------------+------------------+-------------------+-------------------------+----------------------+-------------------+ | Fedora 39 | PASS | PASS | PASS | SKIPPED | SKIPPED | SKIPPED | +---------------------+--------------------+------------------+-------------------+-------------------------+----------------------+-------------------+ | Fedora 40 (Clang) | PASS | PASS | PASS | SKIPPED | SKIPPED | SKIPPED | +---------------------+--------------------+------------------+-------------------+-------------------------+----------------------+-------------------+ | Fedora 40 | PASS | PASS | PASS | SKIPPED | SKIPPED | SKIPPED | +---------------------+--------------------+------------------+-------------------+-------------------------+----------------------+-------------------+ | openSUSE Leap 15 | PASS | SKIPPED | SKIPPED | SKIPPED | SKIPPED | SKIPPED | +---------------------+--------------------+------------------+-------------------+-------------------------+----------------------+-------------------+ | RHEL8 | PASS | PASS | SKIPPED | SKIPPED | SKIPPED | SKIPPED | +---------------------+--------------------+------------------+-------------------+-------------------------+----------------------+-------------------+ | RHEL9 | PASS | PASS | SKIPPED | SKIPPED | SKIPPED | SKIPPED | +---------------------+--------------------+------------------+-------------------+-------------------------+----------------------+-------------------+ | Ubuntu 20.04 | PASS | SKIPPED | SKIPPED | SKIPPED | SKIPPED | SKIPPED | +---------------------+--------------------+------------------+-------------------+-------------------------+----------------------+-------------------+ | Ubuntu 22.04 | PASS | PASS | PASS | SKIPPED | SKIPPED | SKIPPED | +---------------------+--------------------+------------------+-------------------+-------------------------+----------------------+-------------------+ | Ubuntu 24.04 | PASS | PASS | PASS | SKIPPED | SKIPPED | SKIPPED | +---------------------+--------------------+------------------+-------------------+-------------------------+----------------------+-------------------+ | FreeBSD 13.4 | PASS | SKIPPED | SKIPPED | SKIPPED | SKIPPED | SKIPPED | +---------------------+--------------------+------------------+-------------------+-------------------------+----------------------+-------------------+ | Alpine | PASS | PASS | SKIPPED | SKIPPED | SKIPPED | SKIPPED | +---------------------+--------------------+------------------+-------------------+-------------------------+----------------------+-------------------+ | FreeBSD 14.2 | PASS | SKIPPED | SKIPPED | SKIPPED | SKIPPED | SKIPPED | +---------------------+--------------------+------------------+-------------------+-------------------------+----------------------+-------------------+ | Windows Server 2022 | SKIPPED | SKIPPED | SKIPPED | PASS | PASS | PASS | +---------------------+--------------------+------------------+-------------------+-------------------------+----------------------+-------------------+ CentOS Stream 9 Kernel: Depends on container host Compiler: gcc 11.5.0 20240719 (Red Hat 11.5.0-2) Debian 12 Kernel: Depends on container host Compiler: gcc (Debian 12.2.0-14) 12.2.0 Fedora 39 (Clang) Kernel: Depends on container host Compiler: clang 17.0.6 (Fedora 17.0.6-2.fc39) Fedora 39 Kernel: Depends on container host Compiler: gcc 13.3.1 20240522 (Red Hat 13.3.1-1) Fedora 40 (Clang) Kernel: Depends on container host Compiler: clang 18.1.8 (Fedora 18.1.8-1.fc40) Fedora 40 Kernel: Depends on container host Compiler: gcc 14.2.1 20240912 (Red Hat 14.2.1-3) openSUSE Leap 15 Kernel: Depends on container host Compiler: gcc (SUSE Linux) 7.5.0 RHEL8 Kernel: Depends on container host Compiler: gcc 8.5.0 20210514 (Red Hat 8.5.0-22) RHEL9 Kernel: Depends on container host Compiler: gcc 11.5.0 20240719 (Red Hat 11.5.0-2) Ubuntu 20.04 Kernel: Depends on container host Compiler: gcc (Ubuntu 9.4.0-1ubuntu1~20.04.2) 9.4.0 Ubuntu 22.04 Kernel: Depends on container host Compiler: gcc (Ubuntu 11.4.0-1ubuntu1~22.04) 11.4.0 Ubuntu 24.04 Kernel: Depends on container host Compiler: gcc (Ubuntu 13.3.0-6ubuntu2~24.04) 13.3.0 FreeBSD 13.4 Kernel: 13.4-RELEASE-p1 Compiler: clang 18.1.6 Alpine Kernel: Depends on container host Compiler: gcc (Alpine 14.2.0) 14.2.0 FreeBSD 14.2 Kernel: 14.2-RELEASE Compiler: clang 18.1.6 Windows Server 2022 Kernel: 10.0.20348.2031 Compiler: clang 15.0.7, gcc 14.1.0 (MinGW), and MSVC VS 19.39.33521 To view detailed results, visit: https://lab.dpdk.org/results/dashboard/patchsets/32149/ UNH-IOL DPDK Community Lab To manage your email subscriptions, visit: https://lab.dpdk.org/results/dashboard/preferences/subscriptions/