From mboxrd@z Thu Jan 1 00:00:00 1970 Return-Path: Received: from mails.dpdk.org (mails.dpdk.org [217.70.189.124]) by inbox.dpdk.org (Postfix) with ESMTP id C04E2461BF for ; Fri, 7 Feb 2025 21:00:43 +0100 (CET) Received: from mails.dpdk.org (localhost [127.0.0.1]) by mails.dpdk.org (Postfix) with ESMTP id B965A40290; Fri, 7 Feb 2025 21:00:43 +0100 (CET) Received: from mail-yw1-f226.google.com (mail-yw1-f226.google.com [209.85.128.226]) by mails.dpdk.org (Postfix) with ESMTP id 6A5FE4026C for ; Fri, 7 Feb 2025 21:00:42 +0100 (CET) Received: by mail-yw1-f226.google.com with SMTP id 00721157ae682-6efe4e3d698so22706497b3.0 for ; Fri, 07 Feb 2025 12:00:42 -0800 (PST) DKIM-Signature: v=1; a=rsa-sha256; c=relaxed/relaxed; d=iol.unh.edu; s=unh-iol; t=1738958442; x=1739563242; darn=dpdk.org; h=references:in-reply-to:cc:to:from:subject:message-id:date:from:to :cc:subject:date:message-id:reply-to; bh=b6gtc1hUVjGbk5xV47iPTDagH0hB7mvaGBwt8trXADc=; b=dMwPooHRCtqTUMIW0Rjk+Q53MCg2oOUOF6tmhAEoa8S5ltSU1qYhG7796p0M/gZ/4t SmeiKHknuC7KnxFqyHmr9ejkudHM52jkKj3vhr4Tt8g1s1XcnakyYg669OGMd+0GqpVV N4vR7aOscapmEjlubmb+anYafn+MROcvcQvpo= X-Google-DKIM-Signature: v=1; a=rsa-sha256; c=relaxed/relaxed; d=1e100.net; s=20230601; t=1738958442; x=1739563242; h=references:in-reply-to:cc:to:from:subject:message-id:date :x-gm-message-state:from:to:cc:subject:date:message-id:reply-to; bh=b6gtc1hUVjGbk5xV47iPTDagH0hB7mvaGBwt8trXADc=; b=wnjXgSI1MjfFzpjIkrRHkHLkEIzm9pty9WRZeO2EtQGCibAe0tvNlM+/JvA9BiQpnz F/1UHMOyTAnES0y8l4G2Eobe3s/iRvrYC2hf0gtKTUkhDIOTU0uX8qb+qJuRnbS2EHnS NR1SfuYeAKNihP8dYMXlrBJEa9oGS7lw3klhvYjVohzL+79Fkic4X45xVK3f354t/R8K qB/GoaGbfXa2jc/bjpmU+03fPCSMgazDQR0jAkVs3S/JrO3BP7vZ2u0qm9hsccE8AdeU /6fImRcDa/nMMOXdEh0K3bCih4nVjuizaSo7eEJAuFVUaujJ+QWGzHXz5NUJsVXYIjyw BZCg== X-Gm-Message-State: AOJu0YxDtEfMOt2+77pL9PwB0cIkC5wyV2SDeIS6xf+D7g42wwdJ8Wux KSI51P0TrwfxQB6JLiT93vbAL5nDHZZAmjhjNbsXEvtDJucR+xuJrM13pJ1MuQXH+YUfMwZwN0I Hq7DEM/u4AntPpJitW8PvEO4JYmxbvW4BIfsFVATU X-Gm-Gg: ASbGnct33kfFqrMbCSnFXiOvnfTZY9NNP3DDySOh1IMYmJRlncQD0g1b7Le8DH4URMI F9o14J2SxHwg+Im2ktBP4j/Zcpa8ri1h6sgOzi+jAsY79jRUUEEkSFQiHjDUXM38ZbJVRhl79Ph vKO1v+DChL0d70ppc7N7Fp6NIGFc2P54t9I1LknWOwtEecDRDuiymDBryeklyYnqiOvuyS9rnB4 JWbQWmI5fb5BI2UNIYcu0CPsSptXy3rSpgSQg9zOY66WfdaIPg4rNNZpxKqyrc+xuakGyNmRvJS WzwmEwq8PvDSdZ/f/QLoeA6/mV+dIQ== X-Google-Smtp-Source: AGHT+IHttSHd4HH5wkWmysqfSbT1V4tPbmIXFCkjsvGDn+YGSYKkc7LHAoWHtu6zE5yrd1hUwTutWhejU6zD X-Received: by 2002:a05:690c:6112:b0:6ef:8122:282f with SMTP id 00721157ae682-6f9b29d8b50mr41152827b3.24.1738958441737; Fri, 07 Feb 2025 12:00:41 -0800 (PST) Received: from postal.iol.unh.edu (postal.iol.unh.edu. [132.177.123.84]) by smtp-relay.gmail.com with ESMTPS id 00721157ae682-6f99fcf6c7asm582507b3.1.2025.02.07.12.00.41 (version=TLS1_2 cipher=ECDHE-ECDSA-AES128-GCM-SHA256 bits=128/128); Fri, 07 Feb 2025 12:00:41 -0800 (PST) X-Relaying-Domain: iol.unh.edu Date: Fri, 07 Feb 2025 12:00:41 -0800 (PST) Message-ID: <67a66669.050a0220.a8abb.2b6cSMTPIN_ADDED_MISSING@mx.google.com> Received: from [172.21.0.12] (unknown [172.18.0.240]) by postal.iol.unh.edu (Postfix) with ESMTP id 5C6966052483; Fri, 7 Feb 2025 15:00:11 -0500 (EST) Subject: |SUCCESS| pw149307 [PATCH] [1/1] net/{octeon_ep,enetfec}: remove unu From: dpdklab@iol.unh.edu To: Test Report Cc: dpdk-test-reports@iol.unh.edu In-Reply-To: <20241218200306.546714-2-otilibil@eurecom.fr> References: <20241218200306.546714-2-otilibil@eurecom.fr> Content-Type: text/plain X-BeenThere: test-report@dpdk.org X-Mailman-Version: 2.1.29 Precedence: list List-Id: automatic DPDK test reports List-Unsubscribe: , List-Archive: List-Post: List-Help: List-Subscribe: , Errors-To: test-report-bounces@dpdk.org Test-Label: iol-compile-amd64-testing Test-Status: SUCCESS http://dpdk.org/patch/149307 _Testing PASS_ Submitter: Ariel Otilibili-Anieli Date: Wednesday, December 18 2024 20:00:09 DPDK git baseline: Repo:dpdk Branch: master CommitID:78d0246a2e2fb14cba220d507192d12d2ce896ac 149307 --> testing pass Test environment and result as below: +---------------------+--------------------+------------------+-------------------+-------------------+-------------------------+----------------------+ | Environment | dpdk_meson_compile | dpdk_compile_ovs | dpdk_compile_spdk | dpdk_msvc_compile | dpdk_llvm_clang_compile | dpdk_mingw64_compile | +=====================+====================+==================+===================+===================+=========================+======================+ | Debian 12 | PASS | PASS | PASS | SKIPPED | SKIPPED | SKIPPED | +---------------------+--------------------+------------------+-------------------+-------------------+-------------------------+----------------------+ | Fedora 39 | PASS | PASS | PASS | SKIPPED | SKIPPED | SKIPPED | +---------------------+--------------------+------------------+-------------------+-------------------+-------------------------+----------------------+ | Fedora 40 | PASS | PASS | PASS | SKIPPED | SKIPPED | SKIPPED | +---------------------+--------------------+------------------+-------------------+-------------------+-------------------------+----------------------+ | openSUSE Leap 15 | PASS | SKIPPED | SKIPPED | SKIPPED | SKIPPED | SKIPPED | +---------------------+--------------------+------------------+-------------------+-------------------+-------------------------+----------------------+ | RHEL8 | PASS | PASS | SKIPPED | SKIPPED | SKIPPED | SKIPPED | +---------------------+--------------------+------------------+-------------------+-------------------+-------------------------+----------------------+ | RHEL9 | PASS | PASS | SKIPPED | SKIPPED | SKIPPED | SKIPPED | +---------------------+--------------------+------------------+-------------------+-------------------+-------------------------+----------------------+ | Ubuntu 24.04 | PASS | PASS | PASS | SKIPPED | SKIPPED | SKIPPED | +---------------------+--------------------+------------------+-------------------+-------------------+-------------------------+----------------------+ | Ubuntu 20.04 | PASS | SKIPPED | SKIPPED | SKIPPED | SKIPPED | SKIPPED | +---------------------+--------------------+------------------+-------------------+-------------------+-------------------------+----------------------+ | Alpine | PASS | PASS | SKIPPED | SKIPPED | SKIPPED | SKIPPED | +---------------------+--------------------+------------------+-------------------+-------------------+-------------------------+----------------------+ | FreeBSD 13.4 | PASS | SKIPPED | SKIPPED | SKIPPED | SKIPPED | SKIPPED | +---------------------+--------------------+------------------+-------------------+-------------------+-------------------------+----------------------+ | FreeBSD 14.2 | PASS | SKIPPED | SKIPPED | SKIPPED | SKIPPED | SKIPPED | +---------------------+--------------------+------------------+-------------------+-------------------+-------------------------+----------------------+ | Fedora 39 (Clang) | PASS | PASS | PASS | SKIPPED | SKIPPED | SKIPPED | +---------------------+--------------------+------------------+-------------------+-------------------+-------------------------+----------------------+ | Fedora 40 (Clang) | PASS | PASS | PASS | SKIPPED | SKIPPED | SKIPPED | +---------------------+--------------------+------------------+-------------------+-------------------+-------------------------+----------------------+ | Ubuntu 22.04 | PASS | PASS | PASS | SKIPPED | SKIPPED | SKIPPED | +---------------------+--------------------+------------------+-------------------+-------------------+-------------------------+----------------------+ | Windows Server 2022 | SKIPPED | SKIPPED | SKIPPED | PASS | PASS | PASS | +---------------------+--------------------+------------------+-------------------+-------------------+-------------------------+----------------------+ Debian 12 Kernel: Depends on container host Compiler: gcc (Debian 12.2.0-14) 12.2.0 Fedora 39 Kernel: Depends on container host Compiler: gcc 13.3.1 20240522 (Red Hat 13.3.1-1) Fedora 40 Kernel: Depends on container host Compiler: gcc 14.2.1 20240912 (Red Hat 14.2.1-3) openSUSE Leap 15 Kernel: Depends on container host Compiler: gcc (SUSE Linux) 7.5.0 RHEL8 Kernel: Depends on container host Compiler: gcc 8.5.0 20210514 (Red Hat 8.5.0-22) RHEL9 Kernel: Depends on container host Compiler: gcc 11.5.0 20240719 (Red Hat 11.5.0-2) Ubuntu 24.04 Kernel: Depends on container host Compiler: gcc (Ubuntu 13.3.0-6ubuntu2~24.04) 13.3.0 Ubuntu 20.04 Kernel: Depends on container host Compiler: gcc (Ubuntu 9.4.0-1ubuntu1~20.04.2) 9.4.0 Alpine Kernel: Depends on container host Compiler: gcc (Alpine 14.2.0) 14.2.0 FreeBSD 13.4 Kernel: 13.4-RELEASE-p1 Compiler: clang 18.1.6 FreeBSD 14.2 Kernel: 14.2-RELEASE Compiler: clang 18.1.6 Fedora 39 (Clang) Kernel: Depends on container host Compiler: clang 17.0.6 (Fedora 17.0.6-2.fc39) Fedora 40 (Clang) Kernel: Depends on container host Compiler: clang 18.1.8 (Fedora 18.1.8-1.fc40) Ubuntu 22.04 Kernel: Depends on container host Compiler: gcc (Ubuntu 11.4.0-1ubuntu1~22.04) 11.4.0 Windows Server 2022 Kernel: 10.0.20348.2031 Compiler: clang 15.0.7, gcc 14.1.0 (MinGW), and MSVC VS 19.39.33521 To view detailed results, visit: https://lab.dpdk.org/results/dashboard/patchsets/32162/ UNH-IOL DPDK Community Lab To manage your email subscriptions, visit: https://lab.dpdk.org/results/dashboard/preferences/subscriptions/