From mboxrd@z Thu Jan 1 00:00:00 1970 Return-Path: Received: from mails.dpdk.org (mails.dpdk.org [217.70.189.124]) by inbox.dpdk.org (Postfix) with ESMTP id 029E4461BF for ; Fri, 7 Feb 2025 21:01:00 +0100 (CET) Received: from mails.dpdk.org (localhost [127.0.0.1]) by mails.dpdk.org (Postfix) with ESMTP id EF0FD40290; Fri, 7 Feb 2025 21:00:59 +0100 (CET) Received: from mail-yb1-f227.google.com (mail-yb1-f227.google.com [209.85.219.227]) by mails.dpdk.org (Postfix) with ESMTP id 71E8E4026C for ; Fri, 7 Feb 2025 21:00:58 +0100 (CET) Received: by mail-yb1-f227.google.com with SMTP id 3f1490d57ef6-e46ebe19368so2030817276.0 for ; Fri, 07 Feb 2025 12:00:58 -0800 (PST) DKIM-Signature: v=1; a=rsa-sha256; c=relaxed/relaxed; d=iol.unh.edu; s=unh-iol; t=1738958458; x=1739563258; darn=dpdk.org; h=references:in-reply-to:cc:to:from:subject:message-id:date:from:to :cc:subject:date:message-id:reply-to; bh=hHPMl4ZsCcC8LF3vaNE6jaSAk32T0Kh7A1qjoCh2Jic=; b=KNXS+eU44GIyfEmHezdy0Xt0Tdr6d8Z26bg/enzjsw2W0Et+QkC2dRkXCpy3tqx9Gk 84YFg2bEeMaYKwbYARZHia5Yxi+W6Okr1igS6u/Do+Avj6toMoe1sRwTUimnQNZCwwT/ Elo+iV0NKfSZanMDNOdaUR+8SA2P42YOi9z0k= X-Google-DKIM-Signature: v=1; a=rsa-sha256; c=relaxed/relaxed; d=1e100.net; s=20230601; t=1738958458; x=1739563258; h=references:in-reply-to:cc:to:from:subject:message-id:date :x-gm-message-state:from:to:cc:subject:date:message-id:reply-to; bh=hHPMl4ZsCcC8LF3vaNE6jaSAk32T0Kh7A1qjoCh2Jic=; b=HwH5p60f6ae0BUebpnNUS9sRa0OtoXxQifKVpf/P/usmFih1RPntRIzZBUMwjMfFWU cn01DhEcT2udWOX/lb8jOOaXN/SzmtW0qyK+7ohAkBipiWtw2669xXxmHFZskqgFK9bk x+EAisELP/nXVOa8xqnboaPbjBoHqFToWoHSBGK9UJzE1rFHlGMnS5it7T1PYdEHMtG8 yDKQMTqSD8xeRzH10RYEiOs8zF2ka/s+CHxHPTFODKiWJy5TSzqcTS8tZgxQfpD/+pWG mD8NgoSoi0PRKEvppfsYoPGc0ZDZXK+U5/xJPRce+Kgbj2bV4SuMDFnnInWa/mFTSSrV 9wYA== X-Gm-Message-State: AOJu0YzRO7fLfI5vUdEf7c//Zo6MPWfWd6V/6Nn3rdiZMcgV2SlPUwuD urG21dO3y2llUZIoenpimHdKrL5SqJXexsk9NBbFjOrWY7it6uTQbm0Zo+JGR3yoV+ZKGmjlH9w GzuqcJaUmhCQL78CNvDDmK3RXehXr7fS5PLlg6apg X-Gm-Gg: ASbGncukWlcAZ0SO3SDOkiIZ/slYa6xbID08xhca2JK0MSd18aKr/xi4ikI2ZWIjmeQ snj5aPLMQADrHKLgWC1asd2dxLWTMWIJSik7Ba3Uk2nOsOYocFdCIE5TqMqWIPozo1sT89bO1jp lUo0K5biSceBVpOgH9hCXKPLEi3tnmSPAczpZ+6/SwAuZNBSTJTECtZ3NjTA5KNeN8Lm0Kc6cDv TI114gKatJaOCcDlRXlK0j0QVrmcM8uq4m36R0QjIG8TNwpG2lCcbr1Hwh/jF0lydy4sXsaOIsv kQ+340sQMxQ7ouDnsu1fpAUSw94xSg== X-Google-Smtp-Source: AGHT+IFgqA1M/yFwjXUszjpbSu3obkQyrYHtfhZTnOiQG2T7euHXzCop4d9KJ1FyEbqlIY0Am5Q6vNzjaA0x X-Received: by 2002:a05:6902:2210:b0:e58:9c24:5bcb with SMTP id 3f1490d57ef6-e5b4618b924mr3626835276.18.1738958457698; Fri, 07 Feb 2025 12:00:57 -0800 (PST) Received: from postal.iol.unh.edu (postal.iol.unh.edu. [132.177.123.84]) by smtp-relay.gmail.com with ESMTPS id 3f1490d57ef6-e5b3b77b83esm225625276.16.2025.02.07.12.00.57 (version=TLS1_2 cipher=ECDHE-ECDSA-AES128-GCM-SHA256 bits=128/128); Fri, 07 Feb 2025 12:00:57 -0800 (PST) X-Relaying-Domain: iol.unh.edu Date: Fri, 07 Feb 2025 12:00:57 -0800 (PST) Message-ID: <67a66679.250a0220.38a275.bd87SMTPIN_ADDED_MISSING@mx.google.com> Received: from [172.21.0.6] (unknown [172.18.0.240]) by postal.iol.unh.edu (Postfix) with ESMTP id 52EE76052471; Fri, 7 Feb 2025 15:00:26 -0500 (EST) Subject: |SUCCESS| pw149305 [PATCH] drivers/common: avoid truncation of const From: dpdklab@iol.unh.edu To: Test Report Cc: dpdk-test-reports@iol.unh.edu In-Reply-To: <1734537913-1159-1-git-send-email-andremue@linux.microsoft.com> References: <1734537913-1159-1-git-send-email-andremue@linux.microsoft.com> Content-Type: text/plain X-BeenThere: test-report@dpdk.org X-Mailman-Version: 2.1.29 Precedence: list List-Id: automatic DPDK test reports List-Unsubscribe: , List-Archive: List-Post: List-Help: List-Subscribe: , Errors-To: test-report-bounces@dpdk.org Test-Label: iol-compile-amd64-testing Test-Status: SUCCESS http://dpdk.org/patch/149305 _Testing PASS_ Submitter: Andre Muezerie Date: Wednesday, December 18 2024 16:05:12 DPDK git baseline: Repo:dpdk Branch: master CommitID:ce85dd8562ad9673eb4fe46b4a8bd3a508e8b32f 149305 --> testing pass Test environment and result as below: +---------------------+--------------------+------------------+-------------------+-------------------+-------------------------+----------------------+ | Environment | dpdk_meson_compile | dpdk_compile_ovs | dpdk_compile_spdk | dpdk_msvc_compile | dpdk_llvm_clang_compile | dpdk_mingw64_compile | +=====================+====================+==================+===================+===================+=========================+======================+ | CentOS Stream 9 | PASS | PASS | PASS | SKIPPED | SKIPPED | SKIPPED | +---------------------+--------------------+------------------+-------------------+-------------------+-------------------------+----------------------+ | Debian 12 | PASS | PASS | PASS | SKIPPED | SKIPPED | SKIPPED | +---------------------+--------------------+------------------+-------------------+-------------------+-------------------------+----------------------+ | Fedora 40 | PASS | PASS | PASS | SKIPPED | SKIPPED | SKIPPED | +---------------------+--------------------+------------------+-------------------+-------------------+-------------------------+----------------------+ | RHEL8 | PASS | PASS | SKIPPED | SKIPPED | SKIPPED | SKIPPED | +---------------------+--------------------+------------------+-------------------+-------------------+-------------------------+----------------------+ | Fedora 40 (Clang) | PASS | PASS | PASS | SKIPPED | SKIPPED | SKIPPED | +---------------------+--------------------+------------------+-------------------+-------------------+-------------------------+----------------------+ | Fedora 39 | PASS | PASS | PASS | SKIPPED | SKIPPED | SKIPPED | +---------------------+--------------------+------------------+-------------------+-------------------+-------------------------+----------------------+ | Ubuntu 20.04 | PASS | SKIPPED | SKIPPED | SKIPPED | SKIPPED | SKIPPED | +---------------------+--------------------+------------------+-------------------+-------------------+-------------------------+----------------------+ | Ubuntu 22.04 | PASS | PASS | PASS | SKIPPED | SKIPPED | SKIPPED | +---------------------+--------------------+------------------+-------------------+-------------------+-------------------------+----------------------+ | Ubuntu 24.04 | PASS | PASS | PASS | SKIPPED | SKIPPED | SKIPPED | +---------------------+--------------------+------------------+-------------------+-------------------+-------------------------+----------------------+ | Alpine | PASS | PASS | SKIPPED | SKIPPED | SKIPPED | SKIPPED | +---------------------+--------------------+------------------+-------------------+-------------------+-------------------------+----------------------+ | FreeBSD 13.4 | PASS | SKIPPED | SKIPPED | SKIPPED | SKIPPED | SKIPPED | +---------------------+--------------------+------------------+-------------------+-------------------+-------------------------+----------------------+ | FreeBSD 14.2 | PASS | SKIPPED | SKIPPED | SKIPPED | SKIPPED | SKIPPED | +---------------------+--------------------+------------------+-------------------+-------------------+-------------------------+----------------------+ | Fedora 39 (Clang) | PASS | PASS | PASS | SKIPPED | SKIPPED | SKIPPED | +---------------------+--------------------+------------------+-------------------+-------------------+-------------------------+----------------------+ | openSUSE Leap 15 | PASS | SKIPPED | SKIPPED | SKIPPED | SKIPPED | SKIPPED | +---------------------+--------------------+------------------+-------------------+-------------------+-------------------------+----------------------+ | RHEL9 | PASS | PASS | SKIPPED | SKIPPED | SKIPPED | SKIPPED | +---------------------+--------------------+------------------+-------------------+-------------------+-------------------------+----------------------+ | Windows Server 2022 | SKIPPED | SKIPPED | SKIPPED | PASS | PASS | PASS | +---------------------+--------------------+------------------+-------------------+-------------------+-------------------------+----------------------+ CentOS Stream 9 Kernel: Depends on container host Compiler: gcc 11.5.0 20240719 (Red Hat 11.5.0-2) Debian 12 Kernel: Depends on container host Compiler: gcc (Debian 12.2.0-14) 12.2.0 Fedora 40 Kernel: Depends on container host Compiler: gcc 14.2.1 20240912 (Red Hat 14.2.1-3) RHEL8 Kernel: Depends on container host Compiler: gcc 8.5.0 20210514 (Red Hat 8.5.0-22) Fedora 40 (Clang) Kernel: Depends on container host Compiler: clang 18.1.8 (Fedora 18.1.8-1.fc40) Fedora 39 Kernel: Depends on container host Compiler: gcc 13.3.1 20240522 (Red Hat 13.3.1-1) Ubuntu 20.04 Kernel: Depends on container host Compiler: gcc (Ubuntu 9.4.0-1ubuntu1~20.04.2) 9.4.0 Ubuntu 22.04 Kernel: Depends on container host Compiler: gcc (Ubuntu 11.4.0-1ubuntu1~22.04) 11.4.0 Ubuntu 24.04 Kernel: Depends on container host Compiler: gcc (Ubuntu 13.3.0-6ubuntu2~24.04) 13.3.0 Alpine Kernel: Depends on container host Compiler: gcc (Alpine 14.2.0) 14.2.0 FreeBSD 13.4 Kernel: 13.4-RELEASE-p1 Compiler: clang 18.1.6 FreeBSD 14.2 Kernel: 14.2-RELEASE Compiler: clang 18.1.6 Fedora 39 (Clang) Kernel: Depends on container host Compiler: clang 17.0.6 (Fedora 17.0.6-2.fc39) openSUSE Leap 15 Kernel: Depends on container host Compiler: gcc (SUSE Linux) 7.5.0 RHEL9 Kernel: Depends on container host Compiler: gcc 11.5.0 20240719 (Red Hat 11.5.0-2) Windows Server 2022 Kernel: 10.0.20348.2031 Compiler: clang 15.0.7, gcc 14.1.0 (MinGW), and MSVC VS 19.39.33521 To view detailed results, visit: https://lab.dpdk.org/results/dashboard/patchsets/32160/ UNH-IOL DPDK Community Lab To manage your email subscriptions, visit: https://lab.dpdk.org/results/dashboard/preferences/subscriptions/