From mboxrd@z Thu Jan 1 00:00:00 1970 Return-Path: Received: from mails.dpdk.org (mails.dpdk.org [217.70.189.124]) by inbox.dpdk.org (Postfix) with ESMTP id 1FBF8461BF for ; Fri, 7 Feb 2025 21:01:02 +0100 (CET) Received: from mails.dpdk.org (localhost [127.0.0.1]) by mails.dpdk.org (Postfix) with ESMTP id 1AE0C40290; Fri, 7 Feb 2025 21:01:02 +0100 (CET) Received: from mail-yw1-f228.google.com (mail-yw1-f228.google.com [209.85.128.228]) by mails.dpdk.org (Postfix) with ESMTP id F402F4026C for ; Fri, 7 Feb 2025 21:00:58 +0100 (CET) Received: by mail-yw1-f228.google.com with SMTP id 00721157ae682-6efe4324f96so22551197b3.1 for ; Fri, 07 Feb 2025 12:00:58 -0800 (PST) DKIM-Signature: v=1; a=rsa-sha256; c=relaxed/relaxed; d=iol.unh.edu; s=unh-iol; t=1738958458; x=1739563258; darn=dpdk.org; h=references:in-reply-to:cc:to:from:subject:message-id:date:from:to :cc:subject:date:message-id:reply-to; bh=DKmlx3bg/Y8G7CZigI+IgNcQAz37gyk2tnpYt8Gh9ag=; b=S69j8I7gVXMxZ2mDwnvQIKrU+la30WDQhui/vT3lKYdWwhHcKE80dIP7gFbuPoFErA XqH2SkMMhVljEWYRw7oHGPgOq2OrCIlci5QoawpGqFHxv9j8C/ck7zwKitl0kBA1ttlM pm+Zmipr6jmYW2CCUFGeRo+OXbmnrdOsYj2Bk= X-Google-DKIM-Signature: v=1; a=rsa-sha256; c=relaxed/relaxed; d=1e100.net; s=20230601; t=1738958458; x=1739563258; h=references:in-reply-to:cc:to:from:subject:message-id:date :x-gm-message-state:from:to:cc:subject:date:message-id:reply-to; bh=DKmlx3bg/Y8G7CZigI+IgNcQAz37gyk2tnpYt8Gh9ag=; b=BLZdYwjz2m7NGS5Be231t81x5kDI7Skn8ZD8DqrlaGt0wM/wbubjO1fPJPHQj6m2zn pOQ9fT7UjQ27fSchqpdbyp5gXSMRd4CtoVLXM5tbeMoGX71nbDUOqaag0v6gjdSnlJWf /t80hxI6cefZzap0ylnPbp+OGR8Tkz2LHFIOVOm/uxYz4Y3dl+cK+BwNeBORYVK7/mHQ VPedCkoRqyKgfF8uG3At2aD+Wjp6VTQMf+eS9B8T0QEM+FKIOKJNKGDFCoMdBwdgyTXJ vAdt+cmDdWfngi6mC8cmOmrEl06vHCTVvsro/tdvYP7E6sJBwAREzJ0u3I3fHb0XyuWy sqBA== X-Gm-Message-State: AOJu0YxuWWjK/Ria0Dzk/X+EHaZ7llziPBX3RQZdaJoyuZBFVavSpQOR ICtpNzQZgkSNV8Azy6InTcDMRYlYzC49tG9Zg+IypQusykqC0URlu3vzGozieeud6LeaaFAodbR J3+JXAGvxUz0PzaW/VhF+YCE2qqCE9br3aXh8MrgF X-Gm-Gg: ASbGncvtn7sO3EyEIgt73JiPrausw0qi5JMxMxGuIQGddcTsz602AH+RT+Api5/I/QL e5YphGIi4Qyi0GKj7SHTB/G0YVJfy2kFSTj0H7v8EibF+8TlGAJuw+CdHN5g2aud8d1RTkDxlqg 2b7RBqhf9IwBDwr7pjY7q7Ey3e6yRGCdcJq5I6dortNZvx8Un9W9kpDzj+47mcXFhE8KAwYID8a y9Lzo/YEttI+uARu7j0g3bsZnDfI515qD2ct/BNIlAD0C4eCdfVwjyofJhkT0hneD8h1zAaYrQ+ ULYmYnzGa2nnqbh4VWsgHQuyi5LDVg== X-Google-Smtp-Source: AGHT+IFhKpzmbjgUp+PfxYydMI8aNUA8BOYyRAeHCSA1XawGEtH7353kmZYcnziTR8XkH//vqnyh3PPF+UwR X-Received: by 2002:a05:690c:6282:b0:6f8:3a62:31a with SMTP id 00721157ae682-6f9b29d829dmr42986917b3.30.1738958458253; Fri, 07 Feb 2025 12:00:58 -0800 (PST) Received: from postal.iol.unh.edu (postal.iol.unh.edu. [132.177.123.84]) by smtp-relay.gmail.com with ESMTPS id 00721157ae682-6f99ff94324sm526387b3.48.2025.02.07.12.00.58 (version=TLS1_2 cipher=ECDHE-ECDSA-AES128-GCM-SHA256 bits=128/128); Fri, 07 Feb 2025 12:00:58 -0800 (PST) X-Relaying-Domain: iol.unh.edu Date: Fri, 07 Feb 2025 12:00:58 -0800 (PST) Message-ID: <67a6667a.050a0220.2efdb8.27bbSMTPIN_ADDED_MISSING@mx.google.com> Received: from [172.21.0.9] (unknown [172.18.0.240]) by postal.iol.unh.edu (Postfix) with ESMTP id D8B4A6052472; Fri, 7 Feb 2025 15:00:27 -0500 (EST) Subject: |SUCCESS| pw149289-149303 [PATCH] [v4,15/15] net/zxdh: mtu update op From: dpdklab@iol.unh.edu To: Test Report Cc: dpdk-test-reports@iol.unh.edu In-Reply-To: <20241218092603.1218855-16-wang.junlong1@zte.com.cn> References: <20241218092603.1218855-16-wang.junlong1@zte.com.cn> Content-Type: text/plain X-BeenThere: test-report@dpdk.org X-Mailman-Version: 2.1.29 Precedence: list List-Id: automatic DPDK test reports List-Unsubscribe: , List-Archive: List-Post: List-Help: List-Subscribe: , Errors-To: test-report-bounces@dpdk.org Test-Label: iol-compile-amd64-testing Test-Status: SUCCESS http://dpdk.org/patch/149303 _Testing PASS_ Submitter: Junlong Wang Date: Wednesday, December 18 2024 09:26:02 DPDK git baseline: Repo:dpdk Branch: master CommitID:78d0246a2e2fb14cba220d507192d12d2ce896ac 149289-149303 --> testing pass Test environment and result as below: +---------------------+--------------------+------------------+-------------------+-------------------+-------------------------+----------------------+ | Environment | dpdk_meson_compile | dpdk_compile_ovs | dpdk_compile_spdk | dpdk_msvc_compile | dpdk_llvm_clang_compile | dpdk_mingw64_compile | +=====================+====================+==================+===================+===================+=========================+======================+ | CentOS Stream 9 | PASS | PASS | PASS | SKIPPED | SKIPPED | SKIPPED | +---------------------+--------------------+------------------+-------------------+-------------------+-------------------------+----------------------+ | Fedora 39 | PASS | PASS | PASS | SKIPPED | SKIPPED | SKIPPED | +---------------------+--------------------+------------------+-------------------+-------------------+-------------------------+----------------------+ | Debian 12 | PASS | PASS | PASS | SKIPPED | SKIPPED | SKIPPED | +---------------------+--------------------+------------------+-------------------+-------------------+-------------------------+----------------------+ | Fedora 40 (Clang) | PASS | PASS | PASS | SKIPPED | SKIPPED | SKIPPED | +---------------------+--------------------+------------------+-------------------+-------------------+-------------------------+----------------------+ | openSUSE Leap 15 | PASS | SKIPPED | SKIPPED | SKIPPED | SKIPPED | SKIPPED | +---------------------+--------------------+------------------+-------------------+-------------------+-------------------------+----------------------+ | Fedora 40 | PASS | PASS | PASS | SKIPPED | SKIPPED | SKIPPED | +---------------------+--------------------+------------------+-------------------+-------------------+-------------------------+----------------------+ | RHEL8 | PASS | PASS | SKIPPED | SKIPPED | SKIPPED | SKIPPED | +---------------------+--------------------+------------------+-------------------+-------------------+-------------------------+----------------------+ | RHEL9 | PASS | PASS | SKIPPED | SKIPPED | SKIPPED | SKIPPED | +---------------------+--------------------+------------------+-------------------+-------------------+-------------------------+----------------------+ | Ubuntu 20.04 | PASS | SKIPPED | SKIPPED | SKIPPED | SKIPPED | SKIPPED | +---------------------+--------------------+------------------+-------------------+-------------------+-------------------------+----------------------+ | Ubuntu 22.04 | PASS | PASS | PASS | SKIPPED | SKIPPED | SKIPPED | +---------------------+--------------------+------------------+-------------------+-------------------+-------------------------+----------------------+ | Ubuntu 24.04 | PASS | PASS | PASS | SKIPPED | SKIPPED | SKIPPED | +---------------------+--------------------+------------------+-------------------+-------------------+-------------------------+----------------------+ | FreeBSD 13.4 | PASS | SKIPPED | SKIPPED | SKIPPED | SKIPPED | SKIPPED | +---------------------+--------------------+------------------+-------------------+-------------------+-------------------------+----------------------+ | FreeBSD 14.2 | PASS | SKIPPED | SKIPPED | SKIPPED | SKIPPED | SKIPPED | +---------------------+--------------------+------------------+-------------------+-------------------+-------------------------+----------------------+ | Fedora 39 (Clang) | PASS | PASS | PASS | SKIPPED | SKIPPED | SKIPPED | +---------------------+--------------------+------------------+-------------------+-------------------+-------------------------+----------------------+ | Alpine | PASS | PASS | SKIPPED | SKIPPED | SKIPPED | SKIPPED | +---------------------+--------------------+------------------+-------------------+-------------------+-------------------------+----------------------+ | Windows Server 2022 | SKIPPED | SKIPPED | SKIPPED | PASS | PASS | PASS | +---------------------+--------------------+------------------+-------------------+-------------------+-------------------------+----------------------+ CentOS Stream 9 Kernel: Depends on container host Compiler: gcc 11.5.0 20240719 (Red Hat 11.5.0-2) Fedora 39 Kernel: Depends on container host Compiler: gcc 13.3.1 20240522 (Red Hat 13.3.1-1) Debian 12 Kernel: Depends on container host Compiler: gcc (Debian 12.2.0-14) 12.2.0 Fedora 40 (Clang) Kernel: Depends on container host Compiler: clang 18.1.8 (Fedora 18.1.8-1.fc40) openSUSE Leap 15 Kernel: Depends on container host Compiler: gcc (SUSE Linux) 7.5.0 Fedora 40 Kernel: Depends on container host Compiler: gcc 14.2.1 20240912 (Red Hat 14.2.1-3) RHEL8 Kernel: Depends on container host Compiler: gcc 8.5.0 20210514 (Red Hat 8.5.0-22) RHEL9 Kernel: Depends on container host Compiler: gcc 11.5.0 20240719 (Red Hat 11.5.0-2) Ubuntu 20.04 Kernel: Depends on container host Compiler: gcc (Ubuntu 9.4.0-1ubuntu1~20.04.2) 9.4.0 Ubuntu 22.04 Kernel: Depends on container host Compiler: gcc (Ubuntu 11.4.0-1ubuntu1~22.04) 11.4.0 Ubuntu 24.04 Kernel: Depends on container host Compiler: gcc (Ubuntu 13.3.0-6ubuntu2~24.04) 13.3.0 FreeBSD 13.4 Kernel: 13.4-RELEASE-p1 Compiler: clang 18.1.6 FreeBSD 14.2 Kernel: 14.2-RELEASE Compiler: clang 18.1.6 Fedora 39 (Clang) Kernel: Depends on container host Compiler: clang 17.0.6 (Fedora 17.0.6-2.fc39) Alpine Kernel: Depends on container host Compiler: gcc (Alpine 14.2.0) 14.2.0 Windows Server 2022 Kernel: 10.0.20348.2031 Compiler: clang 15.0.7, gcc 14.1.0 (MinGW), and MSVC VS 19.39.33521 To view detailed results, visit: https://lab.dpdk.org/results/dashboard/patchsets/32158/ UNH-IOL DPDK Community Lab To manage your email subscriptions, visit: https://lab.dpdk.org/results/dashboard/preferences/subscriptions/