From mboxrd@z Thu Jan 1 00:00:00 1970 Return-Path: Received: from mails.dpdk.org (mails.dpdk.org [217.70.189.124]) by inbox.dpdk.org (Postfix) with ESMTP id 3A173461BF for ; Fri, 7 Feb 2025 21:01:05 +0100 (CET) Received: from mails.dpdk.org (localhost [127.0.0.1]) by mails.dpdk.org (Postfix) with ESMTP id 35C0D40290; Fri, 7 Feb 2025 21:01:05 +0100 (CET) Received: from mail-io1-f98.google.com (mail-io1-f98.google.com [209.85.166.98]) by mails.dpdk.org (Postfix) with ESMTP id AA7114026C for ; Fri, 7 Feb 2025 21:01:01 +0100 (CET) Received: by mail-io1-f98.google.com with SMTP id ca18e2360f4ac-84a012f7232so102634739f.0 for ; Fri, 07 Feb 2025 12:01:01 -0800 (PST) DKIM-Signature: v=1; a=rsa-sha256; c=relaxed/relaxed; d=iol.unh.edu; s=unh-iol; t=1738958461; x=1739563261; darn=dpdk.org; h=references:in-reply-to:cc:to:from:subject:message-id:date:from:to :cc:subject:date:message-id:reply-to; bh=GEwj5qoI2ncn1nbGex9a4t7g/X8sCAC36Io3oYvzMvU=; b=Ji0zPwzecPkzyk+yDY0LpknbCMTNFg9LN3hZr2xsw02MXL4At2hCczbuQTTyySUOrb cyTqJ3l5pXS4d50Z1q9KZkLN5tP/qbUw1huHjTGK8W+km3Uzs+aIKaREKQcQupvO9MNk 3IR5J3NF6lgQehRFtFhPGokZNuwWfF/lclphc= X-Google-DKIM-Signature: v=1; a=rsa-sha256; c=relaxed/relaxed; d=1e100.net; s=20230601; t=1738958461; x=1739563261; h=references:in-reply-to:cc:to:from:subject:message-id:date :x-gm-message-state:from:to:cc:subject:date:message-id:reply-to; bh=GEwj5qoI2ncn1nbGex9a4t7g/X8sCAC36Io3oYvzMvU=; b=b3AJvK76Ic+Nt9D1+1rCk5L1sUWCZqd/Xng13SejpGmFXuJ8RyeE/Qz0GZc0x9l3CC szjER9dN/HBh0R4f9L2DaSMHKKcnMsCWgqQtP+tVKKtL3JWfPvZcincMZviqXoV0SD5y cpA0+a36NroXo1jhV5sPoxsbm9HMzAckSJFXBiRk5rltuUUeI2Z4SiwJyXp//C9amYp5 iOI4nj/K+X5uqCviCMs1BzGLrYkTRq6NIbzbjH79O/tbtDn3LocAfWvbVAroGSDU1aK9 MwM269UVpJ3UDFH5cJ8BYzGqu11pFcsRpAKsOq2Vr1X/WBDvodb260lyhAlJ/2dIhfgD CalQ== X-Gm-Message-State: AOJu0YyJcMUDfw5IjmTpUUU/vL5F50za/yNOtRHKCl/WYOWkdGc8LVV2 h9KzlkbpIbEpZtCh0gk2bOfsHK/Ed85Aq7Qje/DCASDcfeOMKxSABznYcYSBo8supV6KB8ezL3V zBiGyKBW5OiKqJPI+USgeZBQtu3YGqdIx02BpSlNN X-Gm-Gg: ASbGncs1K6aHQhrW1Md+ayzJJ0jXwV7vxNm+JrCOG+c9vB9YKkD9hckZiL3B8kh7WMZ 2x3MPb1eYatDRlKm/jKq7KDEim4MUwegZJYLyQjUdfb4wlBPj4leLtIVtxCmImhAN8ckv9re+Ho DGXrQVnuiiBTCHYS5Iu4AW82sugT6Z7Niuk9DeewnEjm0ZCpyux+2Ru4SqtHragMlm2ClzzRp9o k+laT5HLFvEDgZH5pY7/PwlIHMjp399LHa7TFaRFDIXoWqmlnh/YncGDbetLC5wwZK2+vdJAcww EhyrPlg4M98VXj7yLssKF4XFY/JwjA== X-Google-Smtp-Source: AGHT+IGEjymuF3k40W9qfNkJD9h3GP+CKm7UZSUFoppaNncBgAZ7Kv//Eu6yMLYV6CUkJTuHIwXsQL2DD91t X-Received: by 2002:a6b:7719:0:b0:841:99cb:776f with SMTP id ca18e2360f4ac-854f3a4caa3mr682970139f.6.1738958460919; Fri, 07 Feb 2025 12:01:00 -0800 (PST) Received: from postal.iol.unh.edu (postal.iol.unh.edu. [132.177.123.84]) by smtp-relay.gmail.com with ESMTPS id 8926c6da1cb9f-4ecda7d7724sm142509173.25.2025.02.07.12.01.00 (version=TLS1_2 cipher=ECDHE-ECDSA-AES128-GCM-SHA256 bits=128/128); Fri, 07 Feb 2025 12:01:00 -0800 (PST) X-Relaying-Domain: iol.unh.edu Date: Fri, 07 Feb 2025 12:01:00 -0800 (PST) Message-ID: <67a6667c.050a0220.245b9e.6b95SMTPIN_ADDED_MISSING@mx.google.com> Received: from [172.21.0.7] (unknown [172.18.0.240]) by postal.iol.unh.edu (Postfix) with ESMTP id 6E5486052477; Fri, 7 Feb 2025 15:00:29 -0500 (EST) Subject: |SUCCESS| pw149304 [PATCH] [v3] app/test: fix stack overflow in lpm6 From: dpdklab@iol.unh.edu To: Test Report Cc: dpdk-test-reports@iol.unh.edu In-Reply-To: <1734535286-27267-1-git-send-email-andremue@linux.microsoft.com> References: <1734535286-27267-1-git-send-email-andremue@linux.microsoft.com> Content-Type: text/plain X-BeenThere: test-report@dpdk.org X-Mailman-Version: 2.1.29 Precedence: list List-Id: automatic DPDK test reports List-Unsubscribe: , List-Archive: List-Post: List-Help: List-Subscribe: , Errors-To: test-report-bounces@dpdk.org Test-Label: iol-compile-amd64-testing Test-Status: SUCCESS http://dpdk.org/patch/149304 _Testing PASS_ Submitter: Andre Muezerie Date: Wednesday, December 18 2024 15:21:26 DPDK git baseline: Repo:dpdk Branch: master CommitID:4dc4e33ffa108e945fc8a1e2bbc7819791faa61e 149304 --> testing pass Test environment and result as below: +---------------------+--------------------+------------------+-------------------+-------------------+-------------------------+----------------------+ | Environment | dpdk_meson_compile | dpdk_compile_ovs | dpdk_compile_spdk | dpdk_msvc_compile | dpdk_llvm_clang_compile | dpdk_mingw64_compile | +=====================+====================+==================+===================+===================+=========================+======================+ | Debian 12 | PASS | PASS | PASS | SKIPPED | SKIPPED | SKIPPED | +---------------------+--------------------+------------------+-------------------+-------------------+-------------------------+----------------------+ | Fedora 39 (Clang) | PASS | PASS | PASS | SKIPPED | SKIPPED | SKIPPED | +---------------------+--------------------+------------------+-------------------+-------------------+-------------------------+----------------------+ | Fedora 40 (Clang) | PASS | PASS | PASS | SKIPPED | SKIPPED | SKIPPED | +---------------------+--------------------+------------------+-------------------+-------------------+-------------------------+----------------------+ | Fedora 40 | PASS | PASS | PASS | SKIPPED | SKIPPED | SKIPPED | +---------------------+--------------------+------------------+-------------------+-------------------+-------------------------+----------------------+ | openSUSE Leap 15 | PASS | SKIPPED | SKIPPED | SKIPPED | SKIPPED | SKIPPED | +---------------------+--------------------+------------------+-------------------+-------------------+-------------------------+----------------------+ | RHEL9 | PASS | PASS | SKIPPED | SKIPPED | SKIPPED | SKIPPED | +---------------------+--------------------+------------------+-------------------+-------------------+-------------------------+----------------------+ | Ubuntu 20.04 | PASS | SKIPPED | SKIPPED | SKIPPED | SKIPPED | SKIPPED | +---------------------+--------------------+------------------+-------------------+-------------------+-------------------------+----------------------+ | Ubuntu 24.04 | PASS | PASS | PASS | SKIPPED | SKIPPED | SKIPPED | +---------------------+--------------------+------------------+-------------------+-------------------+-------------------------+----------------------+ | Alpine | PASS | PASS | SKIPPED | SKIPPED | SKIPPED | SKIPPED | +---------------------+--------------------+------------------+-------------------+-------------------+-------------------------+----------------------+ | FreeBSD 13.4 | PASS | SKIPPED | SKIPPED | SKIPPED | SKIPPED | SKIPPED | +---------------------+--------------------+------------------+-------------------+-------------------+-------------------------+----------------------+ | FreeBSD 14.2 | PASS | SKIPPED | SKIPPED | SKIPPED | SKIPPED | SKIPPED | +---------------------+--------------------+------------------+-------------------+-------------------+-------------------------+----------------------+ | CentOS Stream 9 | PASS | PASS | PASS | SKIPPED | SKIPPED | SKIPPED | +---------------------+--------------------+------------------+-------------------+-------------------+-------------------------+----------------------+ | RHEL8 | PASS | PASS | SKIPPED | SKIPPED | SKIPPED | SKIPPED | +---------------------+--------------------+------------------+-------------------+-------------------+-------------------------+----------------------+ | Fedora 39 | PASS | PASS | PASS | SKIPPED | SKIPPED | SKIPPED | +---------------------+--------------------+------------------+-------------------+-------------------+-------------------------+----------------------+ | Ubuntu 22.04 | PASS | PASS | PASS | SKIPPED | SKIPPED | SKIPPED | +---------------------+--------------------+------------------+-------------------+-------------------+-------------------------+----------------------+ | Windows Server 2022 | SKIPPED | SKIPPED | SKIPPED | PASS | PASS | PASS | +---------------------+--------------------+------------------+-------------------+-------------------+-------------------------+----------------------+ Debian 12 Kernel: Depends on container host Compiler: gcc (Debian 12.2.0-14) 12.2.0 Fedora 39 (Clang) Kernel: Depends on container host Compiler: clang 17.0.6 (Fedora 17.0.6-2.fc39) Fedora 40 (Clang) Kernel: Depends on container host Compiler: clang 18.1.8 (Fedora 18.1.8-1.fc40) Fedora 40 Kernel: Depends on container host Compiler: gcc 14.2.1 20240912 (Red Hat 14.2.1-3) openSUSE Leap 15 Kernel: Depends on container host Compiler: gcc (SUSE Linux) 7.5.0 RHEL9 Kernel: Depends on container host Compiler: gcc 11.5.0 20240719 (Red Hat 11.5.0-2) Ubuntu 20.04 Kernel: Depends on container host Compiler: gcc (Ubuntu 9.4.0-1ubuntu1~20.04.2) 9.4.0 Ubuntu 24.04 Kernel: Depends on container host Compiler: gcc (Ubuntu 13.3.0-6ubuntu2~24.04) 13.3.0 Alpine Kernel: Depends on container host Compiler: gcc (Alpine 14.2.0) 14.2.0 FreeBSD 13.4 Kernel: 13.4-RELEASE-p1 Compiler: clang 18.1.6 FreeBSD 14.2 Kernel: 14.2-RELEASE Compiler: clang 18.1.6 CentOS Stream 9 Kernel: Depends on container host Compiler: gcc 11.5.0 20240719 (Red Hat 11.5.0-2) RHEL8 Kernel: Depends on container host Compiler: gcc 8.5.0 20210514 (Red Hat 8.5.0-22) Fedora 39 Kernel: Depends on container host Compiler: gcc 13.3.1 20240522 (Red Hat 13.3.1-1) Ubuntu 22.04 Kernel: Depends on container host Compiler: gcc (Ubuntu 11.4.0-1ubuntu1~22.04) 11.4.0 Windows Server 2022 Kernel: 10.0.20348.2031 Compiler: clang 15.0.7, gcc 14.1.0 (MinGW), and MSVC VS 19.39.33521 To view detailed results, visit: https://lab.dpdk.org/results/dashboard/patchsets/32159/ UNH-IOL DPDK Community Lab To manage your email subscriptions, visit: https://lab.dpdk.org/results/dashboard/preferences/subscriptions/