From mboxrd@z Thu Jan 1 00:00:00 1970 Return-Path: Received: from mails.dpdk.org (mails.dpdk.org [217.70.189.124]) by inbox.dpdk.org (Postfix) with ESMTP id 58667461BF for ; Fri, 7 Feb 2025 21:01:25 +0100 (CET) Received: from mails.dpdk.org (localhost [127.0.0.1]) by mails.dpdk.org (Postfix) with ESMTP id 513B74029A; Fri, 7 Feb 2025 21:01:25 +0100 (CET) Received: from mail-io1-f99.google.com (mail-io1-f99.google.com [209.85.166.99]) by mails.dpdk.org (Postfix) with ESMTP id 86B734026C for ; Fri, 7 Feb 2025 21:01:24 +0100 (CET) Received: by mail-io1-f99.google.com with SMTP id ca18e2360f4ac-844e394395aso62863339f.3 for ; Fri, 07 Feb 2025 12:01:24 -0800 (PST) DKIM-Signature: v=1; a=rsa-sha256; c=relaxed/relaxed; d=iol.unh.edu; s=unh-iol; t=1738958484; x=1739563284; darn=dpdk.org; h=references:in-reply-to:cc:to:from:subject:message-id:date:from:to :cc:subject:date:message-id:reply-to; bh=EXca7+DA+0UbcKQBl4unpugk6Uqe4oufj4Xm+cafS5c=; b=g7pmpzJnnAS2JYxHVzAtEo9YzI7PHqikQvoH8StwRtdHrN5dCiBwuhvnGxHm/Lohs7 hgQ8/w3TfBIvo/T/vbQNPIDF9EblW9Gn/hqEDtXw/qfoyzZPXYoH91GLo23R+Fq7vtX0 GPoUI5+mdaKREaUlAKLDoftBZ6LGR6LfELbd8= X-Google-DKIM-Signature: v=1; a=rsa-sha256; c=relaxed/relaxed; d=1e100.net; s=20230601; t=1738958484; x=1739563284; h=references:in-reply-to:cc:to:from:subject:message-id:date :x-gm-message-state:from:to:cc:subject:date:message-id:reply-to; bh=EXca7+DA+0UbcKQBl4unpugk6Uqe4oufj4Xm+cafS5c=; b=lX947DtefEIvTWQGi5Pfw8LR/WHkIuiDD2jWuOC2h3qoL8CAlz/loptjk4Ut70zJlR 8gXLk4hWe3YOmFm9nWn0UJUCB1Tp1OxzlzlpoduCc8Oe8N515EA/Zh6roeH6MS6GJAUc 7cNWufezCsOA9q0sP15ycKCzi9cMEVPjqqSwSrDsEiLi+SDjV65GbhlyLPgRbhX8xRMy jP8o+ee44q5CszstzLNdNwqdlyEiZdiQi0pHs2WohD18aRXz8cEtf9H8eKx3zuayp3fx Nc+GyqFekysl7qAPRmLrGBPCY3M1zL/BSDRqLkgSmF2BZ4d5iSaq78Gg0Hy3RXuvTJEu J7og== X-Gm-Message-State: AOJu0YzkkDwA3mFcHtvdkbcocJloMqeb0XI6Gv0vtSnl05WfjfiGFXzu 3HYGVFO4T/jQ8xFxeKcR60XdY5cIr15VZDCg1X0fKMdUarO+S2dd42zNojm9KUI1/CJPcMsCFUc JbVJtozPjBd+kpnKKBUj2gO6ZTAq5nLErHOYnrLgY X-Gm-Gg: ASbGncsDzhoKhvKaSNFPd3B2qYpnBwgZKKwkOdHX53CgfkhTvza/L5KuKwsGYewjmCL 5NJrfuejs1eNp8iFUWNLiKN7lKVKfHkbWx63pwH5AL+xDtSnqUlIb8E/xisGbdgaHstc2XyORr6 GC3eIguUXxO/eSq5TCAMHIs9qYmP6aT1EwNs3gCSMfmmrvu03DyzEBWuC4u6PRfpsHt1/k+FZgE NkiRumXcssuq64ZT3fBWD7BsBJGHNGRUcY//+11JqyDl4sDcm+kGYSJyMrOcBOqu+3AqUM7qPMD NGw9kKOcItu9uuZr+gBjBfbdMp7hIw== X-Google-Smtp-Source: AGHT+IEYnOwgsrN/3guUqWQN3IH2rhQmw4X7TaInXP0Ys3cMnHfuPLqQaGs8GlNEwvJlvfaatZ3R5gkAeaua X-Received: by 2002:a05:6602:298b:b0:841:a652:b0c8 with SMTP id ca18e2360f4ac-854fd87ff28mr506469139f.3.1738958483874; Fri, 07 Feb 2025 12:01:23 -0800 (PST) Received: from postal.iol.unh.edu (postal.iol.unh.edu. [132.177.123.84]) by smtp-relay.gmail.com with ESMTPS id 8926c6da1cb9f-4eccfad4343sm259348173.61.2025.02.07.12.01.23 (version=TLS1_2 cipher=ECDHE-ECDSA-AES128-GCM-SHA256 bits=128/128); Fri, 07 Feb 2025 12:01:23 -0800 (PST) X-Relaying-Domain: iol.unh.edu Date: Fri, 07 Feb 2025 12:01:23 -0800 (PST) Message-ID: <67a66693.050a0220.11ad8d.d624SMTPIN_ADDED_MISSING@mx.google.com> Received: from [172.21.0.12] (unknown [172.18.0.240]) by postal.iol.unh.edu (Postfix) with ESMTP id 59874605247D; Fri, 7 Feb 2025 15:00:53 -0500 (EST) Subject: |SUCCESS| pw149284 [PATCH] net/virtio: fix Rx checksum calculation From: dpdklab@iol.unh.edu To: Test Report Cc: dpdk-test-reports@iol.unh.edu In-Reply-To: <20241217153253.457646-1-maxime.coquelin@redhat.com> References: <20241217153253.457646-1-maxime.coquelin@redhat.com> Content-Type: text/plain X-BeenThere: test-report@dpdk.org X-Mailman-Version: 2.1.29 Precedence: list List-Id: automatic DPDK test reports List-Unsubscribe: , List-Archive: List-Post: List-Help: List-Subscribe: , Errors-To: test-report-bounces@dpdk.org Test-Label: iol-compile-amd64-testing Test-Status: SUCCESS http://dpdk.org/patch/149284 _Testing PASS_ Submitter: Maxime Coquelin Date: Tuesday, December 17 2024 15:32:53 DPDK git baseline: Repo:dpdk Branch: master CommitID:510b460e02594a70d4ce19e2d29df3ade8af36d7 149284 --> testing pass Test environment and result as below: +---------------------+--------------------+------------------+-------------------+-------------------+-------------------------+----------------------+ | Environment | dpdk_meson_compile | dpdk_compile_ovs | dpdk_compile_spdk | dpdk_msvc_compile | dpdk_llvm_clang_compile | dpdk_mingw64_compile | +=====================+====================+==================+===================+===================+=========================+======================+ | Fedora 39 (Clang) | PASS | PASS | PASS | SKIPPED | SKIPPED | SKIPPED | +---------------------+--------------------+------------------+-------------------+-------------------+-------------------------+----------------------+ | Fedora 39 | PASS | PASS | PASS | SKIPPED | SKIPPED | SKIPPED | +---------------------+--------------------+------------------+-------------------+-------------------+-------------------------+----------------------+ | openSUSE Leap 15 | PASS | SKIPPED | SKIPPED | SKIPPED | SKIPPED | SKIPPED | +---------------------+--------------------+------------------+-------------------+-------------------+-------------------------+----------------------+ | RHEL9 | PASS | PASS | SKIPPED | SKIPPED | SKIPPED | SKIPPED | +---------------------+--------------------+------------------+-------------------+-------------------+-------------------------+----------------------+ | Ubuntu 20.04 | PASS | SKIPPED | SKIPPED | SKIPPED | SKIPPED | SKIPPED | +---------------------+--------------------+------------------+-------------------+-------------------+-------------------------+----------------------+ | Ubuntu 22.04 | PASS | PASS | PASS | SKIPPED | SKIPPED | SKIPPED | +---------------------+--------------------+------------------+-------------------+-------------------+-------------------------+----------------------+ | Ubuntu 24.04 | PASS | PASS | PASS | SKIPPED | SKIPPED | SKIPPED | +---------------------+--------------------+------------------+-------------------+-------------------+-------------------------+----------------------+ | Alpine | PASS | PASS | SKIPPED | SKIPPED | SKIPPED | SKIPPED | +---------------------+--------------------+------------------+-------------------+-------------------+-------------------------+----------------------+ | FreeBSD 13.4 | PASS | SKIPPED | SKIPPED | SKIPPED | SKIPPED | SKIPPED | +---------------------+--------------------+------------------+-------------------+-------------------+-------------------------+----------------------+ | FreeBSD 14.2 | PASS | SKIPPED | SKIPPED | SKIPPED | SKIPPED | SKIPPED | +---------------------+--------------------+------------------+-------------------+-------------------+-------------------------+----------------------+ | CentOS Stream 9 | PASS | PASS | PASS | SKIPPED | SKIPPED | SKIPPED | +---------------------+--------------------+------------------+-------------------+-------------------+-------------------------+----------------------+ | Debian 12 | PASS | PASS | PASS | SKIPPED | SKIPPED | SKIPPED | +---------------------+--------------------+------------------+-------------------+-------------------+-------------------------+----------------------+ | Fedora 40 | PASS | PASS | PASS | SKIPPED | SKIPPED | SKIPPED | +---------------------+--------------------+------------------+-------------------+-------------------+-------------------------+----------------------+ | Fedora 40 (Clang) | PASS | PASS | PASS | SKIPPED | SKIPPED | SKIPPED | +---------------------+--------------------+------------------+-------------------+-------------------+-------------------------+----------------------+ | RHEL8 | PASS | PASS | SKIPPED | SKIPPED | SKIPPED | SKIPPED | +---------------------+--------------------+------------------+-------------------+-------------------+-------------------------+----------------------+ | Windows Server 2022 | SKIPPED | SKIPPED | SKIPPED | PASS | PASS | PASS | +---------------------+--------------------+------------------+-------------------+-------------------+-------------------------+----------------------+ Fedora 39 (Clang) Kernel: Depends on container host Compiler: clang 17.0.6 (Fedora 17.0.6-2.fc39) Fedora 39 Kernel: Depends on container host Compiler: gcc 13.3.1 20240522 (Red Hat 13.3.1-1) openSUSE Leap 15 Kernel: Depends on container host Compiler: gcc (SUSE Linux) 7.5.0 RHEL9 Kernel: Depends on container host Compiler: gcc 11.5.0 20240719 (Red Hat 11.5.0-2) Ubuntu 20.04 Kernel: Depends on container host Compiler: gcc (Ubuntu 9.4.0-1ubuntu1~20.04.2) 9.4.0 Ubuntu 22.04 Kernel: Depends on container host Compiler: gcc (Ubuntu 11.4.0-1ubuntu1~22.04) 11.4.0 Ubuntu 24.04 Kernel: Depends on container host Compiler: gcc (Ubuntu 13.3.0-6ubuntu2~24.04) 13.3.0 Alpine Kernel: Depends on container host Compiler: gcc (Alpine 14.2.0) 14.2.0 FreeBSD 13.4 Kernel: 13.4-RELEASE-p1 Compiler: clang 18.1.6 FreeBSD 14.2 Kernel: 14.2-RELEASE Compiler: clang 18.1.6 CentOS Stream 9 Kernel: Depends on container host Compiler: gcc 11.5.0 20240719 (Red Hat 11.5.0-2) Debian 12 Kernel: Depends on container host Compiler: gcc (Debian 12.2.0-14) 12.2.0 Fedora 40 Kernel: Depends on container host Compiler: gcc 14.2.1 20240912 (Red Hat 14.2.1-3) Fedora 40 (Clang) Kernel: Depends on container host Compiler: clang 18.1.8 (Fedora 18.1.8-1.fc40) RHEL8 Kernel: Depends on container host Compiler: gcc 8.5.0 20210514 (Red Hat 8.5.0-22) Windows Server 2022 Kernel: 10.0.20348.2031 Compiler: clang 15.0.7, gcc 14.1.0 (MinGW), and MSVC VS 19.39.33521 To view detailed results, visit: https://lab.dpdk.org/results/dashboard/patchsets/32153/ UNH-IOL DPDK Community Lab To manage your email subscriptions, visit: https://lab.dpdk.org/results/dashboard/preferences/subscriptions/