From mboxrd@z Thu Jan 1 00:00:00 1970 Return-Path: Received: from mails.dpdk.org (mails.dpdk.org [217.70.189.124]) by inbox.dpdk.org (Postfix) with ESMTP id 768C0461BF for ; Fri, 7 Feb 2025 21:01:29 +0100 (CET) Received: from mails.dpdk.org (localhost [127.0.0.1]) by mails.dpdk.org (Postfix) with ESMTP id 70B9740290; Fri, 7 Feb 2025 21:01:29 +0100 (CET) Received: from mail-qv1-f98.google.com (mail-qv1-f98.google.com [209.85.219.98]) by mails.dpdk.org (Postfix) with ESMTP id 2FB2C4026C for ; Fri, 7 Feb 2025 21:01:25 +0100 (CET) Received: by mail-qv1-f98.google.com with SMTP id 6a1803df08f44-6dd0d09215aso19556216d6.2 for ; Fri, 07 Feb 2025 12:01:25 -0800 (PST) DKIM-Signature: v=1; a=rsa-sha256; c=relaxed/relaxed; d=iol.unh.edu; s=unh-iol; t=1738958484; x=1739563284; darn=dpdk.org; h=references:in-reply-to:cc:to:from:subject:message-id:date:from:to :cc:subject:date:message-id:reply-to; bh=Gs0gqtQGS+js0jHP6SpceWbC/QfRz/KTyshtUchJV9I=; b=GBD3NKXaBRfjAnjC+EF+O4gtBfBfMlqMPEniSOz+LEhiRproiDbfVASNfc41gJtXLS DQd/0j2phM9a1SauiMTywTEX8ZXwX+pk1ASgjtv8SPKCB1vPr7767d9l37Anahsfh8P+ ovPyFmipPymWkuNIefTZGxSV+5dggyXQjHMXs= X-Google-DKIM-Signature: v=1; a=rsa-sha256; c=relaxed/relaxed; d=1e100.net; s=20230601; t=1738958484; x=1739563284; h=references:in-reply-to:cc:to:from:subject:message-id:date :x-gm-message-state:from:to:cc:subject:date:message-id:reply-to; bh=Gs0gqtQGS+js0jHP6SpceWbC/QfRz/KTyshtUchJV9I=; b=FSggCuTQnT3C72a894PRK97jtVn0QL1gPhdloHD/8Xj0oFsL5z2AUMElomg5rknl9Q nUVIpesH862K1TXLxFPxZ1WmEWIIghwWha3WkxBx5X7oqCrZ85eY3okzM4VoG+tM6peC tIbwNPRjD2r+qt/+rIJ22ApdTthjZSYpuzjETbn5h+pnPbdYAyl4xAiBelnbzLsGSFwQ W19kuXKgN/oMemcdUavwGxKtuQZQIQysfPPhvZ8B7xYc5k5+cKtjtI+/T3mjHckHgijf JoN92fuQ71sbXICLMoGMSJ+Erwab36ytsF00mp8j8sbNc+TnUfgiZmrlLg7jAt7ANiJ1 x60w== X-Gm-Message-State: AOJu0Yw2SRVhxgSS9Ssl9Q/4qr9jhiSLhju04NkHcPtJ6wZB2PZeHwRs LvLfa+MLw0w7yUH/Km4HNnZqliPfpgjU2Z3E1SjZaqv+CKobmSm0JzuzjZwRpdEAREm+QNWqVMu +e2rpkkLl7BzuF6OO844ioVusNl2JJvZReOgKScAT X-Gm-Gg: ASbGncu6FDqA9UohxUOgBQlMR26ahiD2WEE7HS9Y946K9M6SfOJRdJ3JFi2ISidkNHM 6YQvxKFt8Q6Il8vqksHnUiqe9a+x4ouJf+ogst0iVYhO2mPwusXI8hAHpTg/ofT9ea0Wmfe6DbY 7rix+gD4vaUnGp8XHKf2Fx7eOnijhy4C4X9dvcLuFzpCnCXPjdRb1elgN0oPULhPbIbnULYrUsj fB1a6YqT/SfGoe/vODayrokzXwaRxIIo0BsNMXvTSh3UiUwUTjc/id+vkgDSRtp9PH2sLUNc+Qw c3eLX/lzC6NvXi2YM4MxSold5IIL0A== X-Google-Smtp-Source: AGHT+IHPEEfeUGFj3EqrSHgleNSr3GtJ8tsVy8u1/nYS/8ffFt1jNr+ZPlAQeA7ykxntn6KePfRB9WB5AfV6 X-Received: by 2002:ad4:5f89:0:b0:6e4:3ddc:5d34 with SMTP id 6a1803df08f44-6e4455e89cfmr57655616d6.15.1738958484479; Fri, 07 Feb 2025 12:01:24 -0800 (PST) Received: from postal.iol.unh.edu (postal.iol.unh.edu. [132.177.123.84]) by smtp-relay.gmail.com with ESMTPS id 6a1803df08f44-6e4517571b9sm28696d6.55.2025.02.07.12.01.24 (version=TLS1_2 cipher=ECDHE-ECDSA-AES128-GCM-SHA256 bits=128/128); Fri, 07 Feb 2025 12:01:24 -0800 (PST) X-Relaying-Domain: iol.unh.edu Date: Fri, 07 Feb 2025 12:01:24 -0800 (PST) Message-ID: <67a66694.050a0220.268fee.020fSMTPIN_ADDED_MISSING@mx.google.com> Received: from [172.21.0.9] (unknown [172.18.0.240]) by postal.iol.unh.edu (Postfix) with ESMTP id 3B9516052472; Fri, 7 Feb 2025 15:01:24 -0500 (EST) Subject: |SUCCESS| pw149288 [PATCH] net/nfp: fix VF link speed problem From: dpdklab@iol.unh.edu To: Test Report Cc: dpdk-test-reports@iol.unh.edu In-Reply-To: <20241218065255.1698520-1-chaoyong.he@corigine.com> References: <20241218065255.1698520-1-chaoyong.he@corigine.com> Content-Type: text/plain X-BeenThere: test-report@dpdk.org X-Mailman-Version: 2.1.29 Precedence: list List-Id: automatic DPDK test reports List-Unsubscribe: , List-Archive: List-Post: List-Help: List-Subscribe: , Errors-To: test-report-bounces@dpdk.org Test-Label: iol-compile-amd64-testing Test-Status: SUCCESS http://dpdk.org/patch/149288 _Testing PASS_ Submitter: Chaoyong He Date: Wednesday, December 18 2024 06:52:55 DPDK git baseline: Repo:dpdk Branch: master CommitID:78d0246a2e2fb14cba220d507192d12d2ce896ac 149288 --> testing pass Test environment and result as below: +---------------------+--------------------+------------------+-------------------+-------------------+-------------------------+----------------------+ | Environment | dpdk_meson_compile | dpdk_compile_ovs | dpdk_compile_spdk | dpdk_msvc_compile | dpdk_llvm_clang_compile | dpdk_mingw64_compile | +=====================+====================+==================+===================+===================+=========================+======================+ | CentOS Stream 9 | PASS | PASS | PASS | SKIPPED | SKIPPED | SKIPPED | +---------------------+--------------------+------------------+-------------------+-------------------+-------------------------+----------------------+ | Debian 12 | PASS | PASS | PASS | SKIPPED | SKIPPED | SKIPPED | +---------------------+--------------------+------------------+-------------------+-------------------+-------------------------+----------------------+ | Fedora 39 (Clang) | PASS | PASS | PASS | SKIPPED | SKIPPED | SKIPPED | +---------------------+--------------------+------------------+-------------------+-------------------+-------------------------+----------------------+ | Fedora 39 | PASS | PASS | PASS | SKIPPED | SKIPPED | SKIPPED | +---------------------+--------------------+------------------+-------------------+-------------------+-------------------------+----------------------+ | Fedora 40 | PASS | PASS | PASS | SKIPPED | SKIPPED | SKIPPED | +---------------------+--------------------+------------------+-------------------+-------------------+-------------------------+----------------------+ | openSUSE Leap 15 | PASS | SKIPPED | SKIPPED | SKIPPED | SKIPPED | SKIPPED | +---------------------+--------------------+------------------+-------------------+-------------------+-------------------------+----------------------+ | Ubuntu 20.04 | PASS | SKIPPED | SKIPPED | SKIPPED | SKIPPED | SKIPPED | +---------------------+--------------------+------------------+-------------------+-------------------+-------------------------+----------------------+ | RHEL9 | PASS | PASS | SKIPPED | SKIPPED | SKIPPED | SKIPPED | +---------------------+--------------------+------------------+-------------------+-------------------+-------------------------+----------------------+ | Ubuntu 24.04 | PASS | PASS | PASS | SKIPPED | SKIPPED | SKIPPED | +---------------------+--------------------+------------------+-------------------+-------------------+-------------------------+----------------------+ | Ubuntu 22.04 | PASS | PASS | PASS | SKIPPED | SKIPPED | SKIPPED | +---------------------+--------------------+------------------+-------------------+-------------------+-------------------------+----------------------+ | Alpine | PASS | PASS | SKIPPED | SKIPPED | SKIPPED | SKIPPED | +---------------------+--------------------+------------------+-------------------+-------------------+-------------------------+----------------------+ | FreeBSD 14.2 | PASS | SKIPPED | SKIPPED | SKIPPED | SKIPPED | SKIPPED | +---------------------+--------------------+------------------+-------------------+-------------------+-------------------------+----------------------+ | FreeBSD 13.4 | PASS | SKIPPED | SKIPPED | SKIPPED | SKIPPED | SKIPPED | +---------------------+--------------------+------------------+-------------------+-------------------+-------------------------+----------------------+ | RHEL8 | PASS | PASS | SKIPPED | SKIPPED | SKIPPED | SKIPPED | +---------------------+--------------------+------------------+-------------------+-------------------+-------------------------+----------------------+ | Fedora 40 (Clang) | PASS | PASS | PASS | SKIPPED | SKIPPED | SKIPPED | +---------------------+--------------------+------------------+-------------------+-------------------+-------------------------+----------------------+ | Windows Server 2022 | SKIPPED | SKIPPED | SKIPPED | PASS | PASS | PASS | +---------------------+--------------------+------------------+-------------------+-------------------+-------------------------+----------------------+ CentOS Stream 9 Kernel: Depends on container host Compiler: gcc 11.5.0 20240719 (Red Hat 11.5.0-2) Debian 12 Kernel: Depends on container host Compiler: gcc (Debian 12.2.0-14) 12.2.0 Fedora 39 (Clang) Kernel: Depends on container host Compiler: clang 17.0.6 (Fedora 17.0.6-2.fc39) Fedora 39 Kernel: Depends on container host Compiler: gcc 13.3.1 20240522 (Red Hat 13.3.1-1) Fedora 40 Kernel: Depends on container host Compiler: gcc 14.2.1 20240912 (Red Hat 14.2.1-3) openSUSE Leap 15 Kernel: Depends on container host Compiler: gcc (SUSE Linux) 7.5.0 Ubuntu 20.04 Kernel: Depends on container host Compiler: gcc (Ubuntu 9.4.0-1ubuntu1~20.04.2) 9.4.0 RHEL9 Kernel: Depends on container host Compiler: gcc 11.5.0 20240719 (Red Hat 11.5.0-2) Ubuntu 24.04 Kernel: Depends on container host Compiler: gcc (Ubuntu 13.3.0-6ubuntu2~24.04) 13.3.0 Ubuntu 22.04 Kernel: Depends on container host Compiler: gcc (Ubuntu 11.4.0-1ubuntu1~22.04) 11.4.0 Alpine Kernel: Depends on container host Compiler: gcc (Alpine 14.2.0) 14.2.0 FreeBSD 14.2 Kernel: 14.2-RELEASE Compiler: clang 18.1.6 FreeBSD 13.4 Kernel: 13.4-RELEASE-p1 Compiler: clang 18.1.6 RHEL8 Kernel: Depends on container host Compiler: gcc 8.5.0 20210514 (Red Hat 8.5.0-22) Fedora 40 (Clang) Kernel: Depends on container host Compiler: clang 18.1.8 (Fedora 18.1.8-1.fc40) Windows Server 2022 Kernel: 10.0.20348.2031 Compiler: clang 15.0.7, gcc 14.1.0 (MinGW), and MSVC VS 19.39.33521 To view detailed results, visit: https://lab.dpdk.org/results/dashboard/patchsets/32157/ UNH-IOL DPDK Community Lab To manage your email subscriptions, visit: https://lab.dpdk.org/results/dashboard/preferences/subscriptions/