From mboxrd@z Thu Jan 1 00:00:00 1970 Return-Path: Received: from mails.dpdk.org (mails.dpdk.org [217.70.189.124]) by inbox.dpdk.org (Postfix) with ESMTP id 9C714461BF for ; Fri, 7 Feb 2025 21:01:35 +0100 (CET) Received: from mails.dpdk.org (localhost [127.0.0.1]) by mails.dpdk.org (Postfix) with ESMTP id 9144B40290; Fri, 7 Feb 2025 21:01:35 +0100 (CET) Received: from mail-pl1-f225.google.com (mail-pl1-f225.google.com [209.85.214.225]) by mails.dpdk.org (Postfix) with ESMTP id 3F1244026C for ; Fri, 7 Feb 2025 21:01:34 +0100 (CET) Received: by mail-pl1-f225.google.com with SMTP id d9443c01a7336-21c2f1b610dso61491285ad.0 for ; Fri, 07 Feb 2025 12:01:34 -0800 (PST) DKIM-Signature: v=1; a=rsa-sha256; c=relaxed/relaxed; d=iol.unh.edu; s=unh-iol; t=1738958493; x=1739563293; darn=dpdk.org; h=cc:to:from:subject:message-id:date:from:to:cc:subject:date :message-id:reply-to; bh=+QcsNhi3bosbeRfREl80rJPs0rjs+Gv666YpAY/pUzY=; b=Gt6E2ymumOcGGQrzsMVqrurMCPxMCrJ0PCoE4v3MQ/9NNd5nmoZqBtzBbK+1dcmJLr 0YakZ35QjmOyShShfgiD4UAzELAKF/jALSCTkAj+3vKULZz1ivWkgNGbcawR9OjMmADt YsHUgOqqSPNRAhnkEVYKBkY6WEuai6UUtuwh4= X-Google-DKIM-Signature: v=1; a=rsa-sha256; c=relaxed/relaxed; d=1e100.net; s=20230601; t=1738958493; x=1739563293; h=cc:to:from:subject:message-id:date:x-gm-message-state:from:to:cc :subject:date:message-id:reply-to; bh=+QcsNhi3bosbeRfREl80rJPs0rjs+Gv666YpAY/pUzY=; b=g7QEVCcJEzaibzFlhcKMqvjZb1laGesQr+Co6r13lKm57iJSvNTmmrImQSyQLK+1ZM 4PXoFXMJrA345sbEZSGwNpRQnkSxu0sKt+0AcQbRts+iOK8lFKp9lAegsvnv0ziWRxQc AscnwrjQ9oxx2AJIY/M0b8PycgSiZ9bsoEvaLyM6nZGTl5JlyZ3af0xOaw3bJ3imgeV2 O1hL8MIP2CO2EIw6sPXvD/cC4b5KUM2Lp3aKD5eOO9xIbhIylraXKbGHniW/969wZOcg L23ZAwzP527NNlAyBv2oH50/bnMqoBEN1FksNJYnNIOwGUlpmF1y83HFe/FvSeqUUnek HuPg== X-Gm-Message-State: AOJu0Yxkg1NatOco/+/G8wNCJqouicd+ICSDUwcUcg3c8OuI07c0589t 0HnvL3NjSKXlyBL5bFHmgC+WUpcYyGln/8w+/D1PUjBT4BpHkQRQxdX9ptrfXWvX6F9JgK78Tmu 4W5nuSrT6EYZyqNKC4Ubj3SYi2jzGI3b4 X-Gm-Gg: ASbGnctGSLwLAMzk4KcsMWtXpNR+3Y2jfApsM3P7ezhlFDmlVSbsgqf6BFHF0axs0SZ 3/nNyneWq8v4RrZMdVzs59FUGVd69xhpMidaHSI8QQ8SRfHLb2l1nHfXp5/089rMpYznnw7oh1d uOREVElylfV2W5HTaIaAm5Rwazp6YalqBlsc7dgWH7xxKbSFjHGA7EyOU/ykESXv6nh7KHF6J3o 3xPVPToxL/FEkHpEicjBPs5JfcX5hOlMLZtbLzQpeFZg9Eka9H84CWAY4IhTNB861VnNaa37NS1 XwmIbjozF+Yz+tNoOYRWHzvtcOyX8g== X-Google-Smtp-Source: AGHT+IHTY2L4fdtNTQl3/GWQaKbXFLI9MuC0W/to2yD/Oy8wp/nAnJHHBNC1kBqnsIWc7cG+B/pOIGwIxn2Z X-Received: by 2002:a05:6a00:3e22:b0:725:8b00:167e with SMTP id d2e1a72fcca58-7305d519851mr7133440b3a.16.1738958493281; Fri, 07 Feb 2025 12:01:33 -0800 (PST) Received: from postal.iol.unh.edu (postal.iol.unh.edu. [132.177.123.84]) by smtp-relay.gmail.com with ESMTPS id d2e1a72fcca58-73048c282c9sm200063b3a.20.2025.02.07.12.01.33 (version=TLS1_2 cipher=ECDHE-ECDSA-AES128-GCM-SHA256 bits=128/128); Fri, 07 Feb 2025 12:01:33 -0800 (PST) X-Relaying-Domain: iol.unh.edu Date: Fri, 07 Feb 2025 12:01:33 -0800 (PST) Message-ID: <67a6669d.050a0220.c07d0.a227SMTPIN_ADDED_MISSING@mx.google.com> Received: from [172.21.0.7] (unknown [172.18.0.240]) by postal.iol.unh.edu (Postfix) with ESMTP id 617B16052477; Fri, 7 Feb 2025 15:01:32 -0500 (EST) Subject: |SUCCESS| [GIT MASTER] 39bcde2d05afc0f904f906182be1e659b60ceeb7 From: dpdklab@iol.unh.edu To: Test Report Cc: dpdk-test-reports@iol.unh.edu, Xueming Li , Christian Ehrhardt , Kevin Traynor , Luca Boccassi Content-Type: text/plain X-BeenThere: test-report@dpdk.org X-Mailman-Version: 2.1.29 Precedence: list List-Id: automatic DPDK test reports List-Unsubscribe: , List-Archive: List-Post: List-Help: List-Subscribe: , Errors-To: test-report-bounces@dpdk.org _Testing PASS_ Branch: tags/v23.11 39bcde2d05afc0f904f906182be1e659b60ceeb7 --> testing pass Test environment and result as below: +---------------------+--------------------+------------------+-------------------+-------------------+-------------------------+----------------------+ | Environment | dpdk_meson_compile | dpdk_compile_ovs | dpdk_compile_spdk | dpdk_msvc_compile | dpdk_llvm_clang_compile | dpdk_mingw64_compile | +=====================+====================+==================+===================+===================+=========================+======================+ | Fedora 39 | PASS | PASS | PASS | SKIPPED | SKIPPED | SKIPPED | +---------------------+--------------------+------------------+-------------------+-------------------+-------------------------+----------------------+ | Fedora 40 (Clang) | PASS | PASS | PASS | SKIPPED | SKIPPED | SKIPPED | +---------------------+--------------------+------------------+-------------------+-------------------+-------------------------+----------------------+ | Fedora 40 | PASS | PASS | PASS | SKIPPED | SKIPPED | SKIPPED | +---------------------+--------------------+------------------+-------------------+-------------------+-------------------------+----------------------+ | openSUSE Leap 15 | PASS | SKIPPED | SKIPPED | SKIPPED | SKIPPED | SKIPPED | +---------------------+--------------------+------------------+-------------------+-------------------+-------------------------+----------------------+ | RHEL8 | PASS | PASS | SKIPPED | SKIPPED | SKIPPED | SKIPPED | +---------------------+--------------------+------------------+-------------------+-------------------+-------------------------+----------------------+ | RHEL9 | PASS | PASS | SKIPPED | SKIPPED | SKIPPED | SKIPPED | +---------------------+--------------------+------------------+-------------------+-------------------+-------------------------+----------------------+ | Ubuntu 20.04 | PASS | SKIPPED | SKIPPED | SKIPPED | SKIPPED | SKIPPED | +---------------------+--------------------+------------------+-------------------+-------------------+-------------------------+----------------------+ | Ubuntu 24.04 | PASS | PASS | PASS | SKIPPED | SKIPPED | SKIPPED | +---------------------+--------------------+------------------+-------------------+-------------------+-------------------------+----------------------+ | Alpine | PASS | PASS | SKIPPED | SKIPPED | SKIPPED | SKIPPED | +---------------------+--------------------+------------------+-------------------+-------------------+-------------------------+----------------------+ | FreeBSD 13.4 | PASS | SKIPPED | SKIPPED | SKIPPED | SKIPPED | SKIPPED | +---------------------+--------------------+------------------+-------------------+-------------------+-------------------------+----------------------+ | FreeBSD 14.2 | PASS | SKIPPED | SKIPPED | SKIPPED | SKIPPED | SKIPPED | +---------------------+--------------------+------------------+-------------------+-------------------+-------------------------+----------------------+ | CentOS Stream 9 | PASS | PASS | PASS | SKIPPED | SKIPPED | SKIPPED | +---------------------+--------------------+------------------+-------------------+-------------------+-------------------------+----------------------+ | Fedora 39 (Clang) | PASS | PASS | PASS | SKIPPED | SKIPPED | SKIPPED | +---------------------+--------------------+------------------+-------------------+-------------------+-------------------------+----------------------+ | Debian 12 | PASS | PASS | PASS | SKIPPED | SKIPPED | SKIPPED | +---------------------+--------------------+------------------+-------------------+-------------------+-------------------------+----------------------+ | Ubuntu 22.04 | PASS | PASS | PASS | SKIPPED | SKIPPED | SKIPPED | +---------------------+--------------------+------------------+-------------------+-------------------+-------------------------+----------------------+ | Windows Server 2022 | SKIPPED | SKIPPED | SKIPPED | PASS | PASS | PASS | +---------------------+--------------------+------------------+-------------------+-------------------+-------------------------+----------------------+ Fedora 39 Kernel: Depends on container host Compiler: gcc 13.3.1 20240522 (Red Hat 13.3.1-1) Fedora 40 (Clang) Kernel: Depends on container host Compiler: clang 18.1.8 (Fedora 18.1.8-1.fc40) Fedora 40 Kernel: Depends on container host Compiler: gcc 14.2.1 20240912 (Red Hat 14.2.1-3) openSUSE Leap 15 Kernel: Depends on container host Compiler: gcc (SUSE Linux) 7.5.0 RHEL8 Kernel: Depends on container host Compiler: gcc 8.5.0 20210514 (Red Hat 8.5.0-22) RHEL9 Kernel: Depends on container host Compiler: gcc 11.5.0 20240719 (Red Hat 11.5.0-2) Ubuntu 20.04 Kernel: Depends on container host Compiler: gcc (Ubuntu 9.4.0-1ubuntu1~20.04.2) 9.4.0 Ubuntu 24.04 Kernel: Depends on container host Compiler: gcc (Ubuntu 13.3.0-6ubuntu2~24.04) 13.3.0 Alpine Kernel: Depends on container host Compiler: gcc (Alpine 14.2.0) 14.2.0 FreeBSD 13.4 Kernel: 13.4-RELEASE-p1 Compiler: clang 18.1.6 FreeBSD 14.2 Kernel: 14.2-RELEASE Compiler: clang 18.1.6 CentOS Stream 9 Kernel: Depends on container host Compiler: gcc 11.5.0 20240719 (Red Hat 11.5.0-2) Fedora 39 (Clang) Kernel: Depends on container host Compiler: clang 17.0.6 (Fedora 17.0.6-2.fc39) Debian 12 Kernel: Depends on container host Compiler: gcc (Debian 12.2.0-14) 12.2.0 Ubuntu 22.04 Kernel: Depends on container host Compiler: gcc (Ubuntu 11.4.0-1ubuntu1~22.04) 11.4.0 Windows Server 2022 Kernel: 10.0.20348.2031 Compiler: clang 15.0.7, gcc 14.1.0 (MinGW), and MSVC VS 19.39.33521 To view detailed results, visit: https://lab.dpdk.org/results/dashboard/tarballs/31947/ UNH-IOL DPDK Community Lab To manage your email subscriptions, visit: https://lab.dpdk.org/results/dashboard/preferences/subscriptions/