From mboxrd@z Thu Jan 1 00:00:00 1970 Return-Path: Received: from mails.dpdk.org (mails.dpdk.org [217.70.189.124]) by inbox.dpdk.org (Postfix) with ESMTP id B7E81461BF for ; Fri, 7 Feb 2025 21:01:39 +0100 (CET) Received: from mails.dpdk.org (localhost [127.0.0.1]) by mails.dpdk.org (Postfix) with ESMTP id AFDBE40290; Fri, 7 Feb 2025 21:01:39 +0100 (CET) Received: from mail-pl1-f227.google.com (mail-pl1-f227.google.com [209.85.214.227]) by mails.dpdk.org (Postfix) with ESMTP id D45774026C for ; Fri, 7 Feb 2025 21:01:37 +0100 (CET) Received: by mail-pl1-f227.google.com with SMTP id d9443c01a7336-21f4a4fbb35so27313435ad.0 for ; Fri, 07 Feb 2025 12:01:37 -0800 (PST) DKIM-Signature: v=1; a=rsa-sha256; c=relaxed/relaxed; d=iol.unh.edu; s=unh-iol; t=1738958497; x=1739563297; darn=dpdk.org; h=cc:to:from:subject:message-id:date:from:to:cc:subject:date :message-id:reply-to; bh=20QIQ+tfI5ZCTKnRYgURJSLrrY9SJqr9/d6P9qocaBU=; b=Kb84huc1PPEBUtN5XTvmPh14i6sSTFZ53RasZ1RW5ZgnUUjnyzIouuYco/aUQ0nKs3 bZtfrMvENbH0ER14Cyn3mqnccKtlo07/GKLDmzbmpZJDF3ncVROAG+lnURR+IxzV61wj aQZz/aJH9dPqxI52+7uBda0+hteJEuqoshiSI= X-Google-DKIM-Signature: v=1; a=rsa-sha256; c=relaxed/relaxed; d=1e100.net; s=20230601; t=1738958497; x=1739563297; h=cc:to:from:subject:message-id:date:x-gm-message-state:from:to:cc :subject:date:message-id:reply-to; bh=20QIQ+tfI5ZCTKnRYgURJSLrrY9SJqr9/d6P9qocaBU=; b=vO+MLvu13Sr1HddZi5+xd0zghU4lIzK2IgRZKoFEdwi6scFqdipwbwzBIi/zvq5T5M zgcE6r6dJ4t8E8jYkLBJYTsYRVS7dwKpTjVeDaJc/xn6CwMat512LPTBp6wHFFVFylou 5Hs4Xzcp4nMFDViIEU+mm9bfpBbd1X4TVyemmp86k2FecDaNRP73siG085RVBz+cdDeX XnkLTcUevVL4qrIgg5NAMFoKwI/SC/UKA4aCYOLP/6pVUfBmpaHpDM4dqJFYlfuMbv9s jl4aqVKSfI+z0MV/cdSUDDbBNG6oNnEQnHB/V3E/11CRQotzIhnheSi1Y/Zk8w1qbjeE 1XGQ== X-Gm-Message-State: AOJu0YxK8RADliJqCSoO95BCk4UAy9F2OYmaoHQdda3xxhRXFHJHQlps 34qxzRtvSkJDB/6gMeEr64RSZGuCVZ+tSUuwltAX/OieBjaRX3nDJ3sVWnj4kQJ9rO1QjMuo3eq v042N096BifigKSAyR/dJcXn81UfS+fTOdbObQ6GA X-Gm-Gg: ASbGncsISPUnsPH+pxMoQDQM6dtvTEwQsshifCjqt4SgTfWzMz2fgr7NCQhTrBA46by 5LtKlZnCEz9jicdUHAH7DbX9nJnceddVFBUUHhsEFW06r71foxCOfGWpbQMfetTgMwCR2GxB+cx UuzancWfB23AwHILmdck4rdwagiZ6PnEmrJ8iB0hoinapZa2hgXqtdZr9P4KyCkEIpOUheoBn2/ NVdyMxKfB1/5npUWeBfJe2NlhbejfBgVS85/ToRDoKZI+X/caaXE0DN3NLYnvMCbo7gxP17Bkqc W5VGdLNV6JxFr/NQrchfoJdlQ6Ce+w== X-Google-Smtp-Source: AGHT+IEIP8sRGDYasQDP9TEH3V0CfuZFxIZDW9Yck61bJL27PtUPCM0SMJXh+/olsB2rsJ10DLylIYsiM6rj X-Received: by 2002:a17:903:2b05:b0:21f:5cbc:8077 with SMTP id d9443c01a7336-21f5cbc8166mr37672385ad.24.1738958497019; Fri, 07 Feb 2025 12:01:37 -0800 (PST) Received: from postal.iol.unh.edu (postal.iol.unh.edu. [132.177.123.84]) by smtp-relay.gmail.com with ESMTPS id d9443c01a7336-21f3658d113sm2184215ad.64.2025.02.07.12.01.36 (version=TLS1_2 cipher=ECDHE-ECDSA-AES128-GCM-SHA256 bits=128/128); Fri, 07 Feb 2025 12:01:37 -0800 (PST) X-Relaying-Domain: iol.unh.edu Date: Fri, 07 Feb 2025 12:01:37 -0800 (PST) Message-ID: <67a666a1.170a0220.e4969.b9b6SMTPIN_ADDED_MISSING@mx.google.com> Received: from [172.21.0.6] (unknown [172.18.0.240]) by postal.iol.unh.edu (Postfix) with ESMTP id 7BB016052477; Fri, 7 Feb 2025 15:01:36 -0500 (EST) Subject: |SUCCESS| [GIT MASTER] 78d0246a2e2fb14cba220d507192d12d2ce896ac From: dpdklab@iol.unh.edu To: Test Report Cc: dpdk-test-reports@iol.unh.edu, Stephen Hemminger Content-Type: text/plain X-BeenThere: test-report@dpdk.org X-Mailman-Version: 2.1.29 Precedence: list List-Id: automatic DPDK test reports List-Unsubscribe: , List-Archive: List-Post: List-Help: List-Subscribe: , Errors-To: test-report-bounces@dpdk.org _Testing PASS_ Branch: dpdk-next-net 78d0246a2e2fb14cba220d507192d12d2ce896ac --> testing pass Test environment and result as below: +---------------------+--------------------+------------------+-------------------+-------------------+-------------------------+----------------------+ | Environment | dpdk_meson_compile | dpdk_compile_ovs | dpdk_compile_spdk | dpdk_msvc_compile | dpdk_llvm_clang_compile | dpdk_mingw64_compile | +=====================+====================+==================+===================+===================+=========================+======================+ | Debian 12 | PASS | PASS | PASS | SKIPPED | SKIPPED | SKIPPED | +---------------------+--------------------+------------------+-------------------+-------------------+-------------------------+----------------------+ | Fedora 39 | PASS | PASS | PASS | SKIPPED | SKIPPED | SKIPPED | +---------------------+--------------------+------------------+-------------------+-------------------+-------------------------+----------------------+ | Fedora 40 (Clang) | PASS | PASS | PASS | SKIPPED | SKIPPED | SKIPPED | +---------------------+--------------------+------------------+-------------------+-------------------+-------------------------+----------------------+ | openSUSE Leap 15 | PASS | SKIPPED | SKIPPED | SKIPPED | SKIPPED | SKIPPED | +---------------------+--------------------+------------------+-------------------+-------------------+-------------------------+----------------------+ | RHEL8 | PASS | PASS | SKIPPED | SKIPPED | SKIPPED | SKIPPED | +---------------------+--------------------+------------------+-------------------+-------------------+-------------------------+----------------------+ | RHEL9 | PASS | PASS | SKIPPED | SKIPPED | SKIPPED | SKIPPED | +---------------------+--------------------+------------------+-------------------+-------------------+-------------------------+----------------------+ | Ubuntu 24.04 | PASS | PASS | PASS | SKIPPED | SKIPPED | SKIPPED | +---------------------+--------------------+------------------+-------------------+-------------------+-------------------------+----------------------+ | FreeBSD 13.4 | PASS | SKIPPED | SKIPPED | SKIPPED | SKIPPED | SKIPPED | +---------------------+--------------------+------------------+-------------------+-------------------+-------------------------+----------------------+ | FreeBSD 14.2 | PASS | SKIPPED | SKIPPED | SKIPPED | SKIPPED | SKIPPED | +---------------------+--------------------+------------------+-------------------+-------------------+-------------------------+----------------------+ | CentOS Stream 9 | PASS | PASS | PASS | SKIPPED | SKIPPED | SKIPPED | +---------------------+--------------------+------------------+-------------------+-------------------+-------------------------+----------------------+ | Fedora 40 | PASS | PASS | PASS | SKIPPED | SKIPPED | SKIPPED | +---------------------+--------------------+------------------+-------------------+-------------------+-------------------------+----------------------+ | Fedora 39 (Clang) | PASS | PASS | PASS | SKIPPED | SKIPPED | SKIPPED | +---------------------+--------------------+------------------+-------------------+-------------------+-------------------------+----------------------+ | Ubuntu 20.04 | PASS | SKIPPED | SKIPPED | SKIPPED | SKIPPED | SKIPPED | +---------------------+--------------------+------------------+-------------------+-------------------+-------------------------+----------------------+ | Ubuntu 22.04 | PASS | PASS | PASS | SKIPPED | SKIPPED | SKIPPED | +---------------------+--------------------+------------------+-------------------+-------------------+-------------------------+----------------------+ | Windows Server 2022 | SKIPPED | SKIPPED | SKIPPED | PASS | PASS | PASS | +---------------------+--------------------+------------------+-------------------+-------------------+-------------------------+----------------------+ Debian 12 Kernel: Depends on container host Compiler: gcc (Debian 12.2.0-14) 12.2.0 Fedora 39 Kernel: Depends on container host Compiler: gcc 13.3.1 20240522 (Red Hat 13.3.1-1) Fedora 40 (Clang) Kernel: Depends on container host Compiler: clang 18.1.8 (Fedora 18.1.8-1.fc40) openSUSE Leap 15 Kernel: Depends on container host Compiler: gcc (SUSE Linux) 7.5.0 RHEL8 Kernel: Depends on container host Compiler: gcc 8.5.0 20210514 (Red Hat 8.5.0-22) RHEL9 Kernel: Depends on container host Compiler: gcc 11.5.0 20240719 (Red Hat 11.5.0-2) Ubuntu 24.04 Kernel: Depends on container host Compiler: gcc (Ubuntu 13.3.0-6ubuntu2~24.04) 13.3.0 FreeBSD 13.4 Kernel: 13.4-RELEASE-p1 Compiler: clang 18.1.6 FreeBSD 14.2 Kernel: 14.2-RELEASE Compiler: clang 18.1.6 CentOS Stream 9 Kernel: Depends on container host Compiler: gcc 11.5.0 20240719 (Red Hat 11.5.0-2) Fedora 40 Kernel: Depends on container host Compiler: gcc 14.2.1 20240912 (Red Hat 14.2.1-3) Fedora 39 (Clang) Kernel: Depends on container host Compiler: clang 17.0.6 (Fedora 17.0.6-2.fc39) Ubuntu 20.04 Kernel: Depends on container host Compiler: gcc (Ubuntu 9.4.0-1ubuntu1~20.04.2) 9.4.0 Ubuntu 22.04 Kernel: Depends on container host Compiler: gcc (Ubuntu 11.4.0-1ubuntu1~22.04) 11.4.0 Windows Server 2022 Kernel: 10.0.20348.2031 Compiler: clang 15.0.7, gcc 14.1.0 (MinGW), and MSVC VS 19.39.33521 To view detailed results, visit: https://lab.dpdk.org/results/dashboard/tarballs/31955/ UNH-IOL DPDK Community Lab To manage your email subscriptions, visit: https://lab.dpdk.org/results/dashboard/preferences/subscriptions/