From mboxrd@z Thu Jan 1 00:00:00 1970 Return-Path: Received: from mails.dpdk.org (mails.dpdk.org [217.70.189.124]) by inbox.dpdk.org (Postfix) with ESMTP id E3FF1461C0 for ; Fri, 7 Feb 2025 21:01:51 +0100 (CET) Received: from mails.dpdk.org (localhost [127.0.0.1]) by mails.dpdk.org (Postfix) with ESMTP id DD8AF40290; Fri, 7 Feb 2025 21:01:51 +0100 (CET) Received: from mail-pj1-f98.google.com (mail-pj1-f98.google.com [209.85.216.98]) by mails.dpdk.org (Postfix) with ESMTP id 481B24026C for ; Fri, 7 Feb 2025 21:01:51 +0100 (CET) Received: by mail-pj1-f98.google.com with SMTP id 98e67ed59e1d1-2efe25558ddso3533822a91.2 for ; Fri, 07 Feb 2025 12:01:51 -0800 (PST) DKIM-Signature: v=1; a=rsa-sha256; c=relaxed/relaxed; d=iol.unh.edu; s=unh-iol; t=1738958510; x=1739563310; darn=dpdk.org; h=references:in-reply-to:cc:to:from:subject:message-id:date:from:to :cc:subject:date:message-id:reply-to; bh=LBbIYaSr6pCwNHPnl5HvuTRCCPDGPnOFR9X0ksQFFOM=; b=inx2ouaNG8lDyJaMcJCnsY/pUmmrqbeAIfy5B0t0a30+7gbzTkmo+Mb4Acz9jCfn70 z7CYz3FAnXqNoKWM8dkES4ugzsrXpnLuhYNIZ+17/aDWD2R4WI74VUZb4+2rJQ9nDuT2 2oeeKEk2CzMaNJYoLFIibM7Y+sLFLu6FBZb4Y= X-Google-DKIM-Signature: v=1; a=rsa-sha256; c=relaxed/relaxed; d=1e100.net; s=20230601; t=1738958510; x=1739563310; h=references:in-reply-to:cc:to:from:subject:message-id:date :x-gm-message-state:from:to:cc:subject:date:message-id:reply-to; bh=LBbIYaSr6pCwNHPnl5HvuTRCCPDGPnOFR9X0ksQFFOM=; b=YjsmYL2uaEumr0EmNxsJIUlbFZ5IJ5Zh95/8cbCBPnHB3ooRIYJo/VcJuoAsA/HFOY ZWwrS6moZYnJ7vIVfabTCk+N21r2f+eJG66sQLXLxewQ06AEZdvfmwtYFVQaxPZFoypY STrqRVm23dyl8L3iR9L8rjq+cZb+KphANf9drnDZT4J4F+8374XPYQerIMEK7oRJOkDa a+3p+DDvOzJEqn4dl4BiAM3Uz0gRKsf+I34Z4FGoGJtbMg0LD+S0i7C6oD9AZOOS571R AonYJRTGDVfcF35GHoa5XwIe2SVUAVu72apqA5waDylsYXPqzuiPx84rQs706XjQagXL 5tIA== X-Gm-Message-State: AOJu0Yz/c78IRP7lfXVuUqLfSQvB15it7mPepq2OTzvV3Y2VXB+zarxE mpEZ7PqqlmwcM9p3xDYNUsGB4HMwjaZWx9V6v9F4VudM2wqw9sqI3Wnmr7S/nhYg8qQobrRn5zc nCtelCbmxF+I/GsEUEez9XRDwHp/dIEjKr2sXVdMV X-Gm-Gg: ASbGnctgCtXsWOeegDiKiWrcSrN1wScN/8h+gdy1SLjJnEvewBC1WjZeSI7xdPkuXas QxKQ7i19PDkZQKnq+Cu8UvezIURFI5o79fHUgndAFfoU2BeQgArAAQmHTeRxUtIY53zt5kfYCwz lDheJLeXEl9YroI3FJHfrJ5yfz+p66ibWsyQKYm8A3Nwx663MGpH8T061nO1efQGCI1tUUBLZy6 GQFQ2L14vraqxURmNLGdnYw6KuZ7bJiXBsiFM0h6KNZvYomfF0nsjn5TfW+tQZCwIs91lQAQCz6 qE7vvZUzcD8y525koNjD5Pb9WHdEVQ== X-Google-Smtp-Source: AGHT+IEL+XQ9mKM9wGckKvF7zVVLpxhDXVeeFTr4XLAP7M+aqGe3ijhWRK8NW66bT8rV+nXLhyDzS4ow7pee X-Received: by 2002:a17:90b:1e04:b0:2ee:45fe:63b5 with SMTP id 98e67ed59e1d1-2fa23f4f724mr5955537a91.3.1738958510447; Fri, 07 Feb 2025 12:01:50 -0800 (PST) Received: from postal.iol.unh.edu (postal.iol.unh.edu. [132.177.123.84]) by smtp-relay.gmail.com with ESMTPS id 98e67ed59e1d1-2fa09a7ad34sm303240a91.9.2025.02.07.12.01.50 (version=TLS1_2 cipher=ECDHE-ECDSA-AES128-GCM-SHA256 bits=128/128); Fri, 07 Feb 2025 12:01:50 -0800 (PST) X-Relaying-Domain: iol.unh.edu Date: Fri, 07 Feb 2025 12:01:50 -0800 (PST) Message-ID: <67a666ae.170a0220.266a4e.074dSMTPIN_ADDED_MISSING@mx.google.com> Received: from [172.21.0.12] (unknown [172.18.0.240]) by postal.iol.unh.edu (Postfix) with ESMTP id A71306052484; Fri, 7 Feb 2025 15:01:49 -0500 (EST) Subject: |SUCCESS| pw149251 [PATCH] [v6] graph: mcore: optimize graph search From: dpdklab@iol.unh.edu To: Test Report Cc: dpdk-test-reports@iol.unh.edu In-Reply-To: <20241216014353.2036-1-chcchc88@163.com> References: <20241216014353.2036-1-chcchc88@163.com> Content-Type: text/plain X-BeenThere: test-report@dpdk.org X-Mailman-Version: 2.1.29 Precedence: list List-Id: automatic DPDK test reports List-Unsubscribe: , List-Archive: List-Post: List-Help: List-Subscribe: , Errors-To: test-report-bounces@dpdk.org Test-Label: iol-compile-amd64-testing Test-Status: SUCCESS http://dpdk.org/patch/149251 _Testing PASS_ Submitter: Huichao Cai Date: Monday, December 16 2024 01:43:53 DPDK git baseline: Repo:dpdk Branch: master CommitID:7df61db6c387703a36306c1aea92225921e2eeb2 149251 --> testing pass Test environment and result as below: +---------------------+--------------------+------------------+-------------------+-------------------------+----------------------+-------------------+ | Environment | dpdk_meson_compile | dpdk_compile_ovs | dpdk_compile_spdk | dpdk_llvm_clang_compile | dpdk_mingw64_compile | dpdk_msvc_compile | +=====================+====================+==================+===================+=========================+======================+===================+ | CentOS Stream 9 | PASS | PASS | PASS | SKIPPED | SKIPPED | SKIPPED | +---------------------+--------------------+------------------+-------------------+-------------------------+----------------------+-------------------+ | Debian 12 | PASS | PASS | PASS | SKIPPED | SKIPPED | SKIPPED | +---------------------+--------------------+------------------+-------------------+-------------------------+----------------------+-------------------+ | Fedora 39 (Clang) | PASS | PASS | PASS | SKIPPED | SKIPPED | SKIPPED | +---------------------+--------------------+------------------+-------------------+-------------------------+----------------------+-------------------+ | Fedora 39 | PASS | PASS | PASS | SKIPPED | SKIPPED | SKIPPED | +---------------------+--------------------+------------------+-------------------+-------------------------+----------------------+-------------------+ | Fedora 40 | PASS | PASS | PASS | SKIPPED | SKIPPED | SKIPPED | +---------------------+--------------------+------------------+-------------------+-------------------------+----------------------+-------------------+ | openSUSE Leap 15 | PASS | SKIPPED | SKIPPED | SKIPPED | SKIPPED | SKIPPED | +---------------------+--------------------+------------------+-------------------+-------------------------+----------------------+-------------------+ | RHEL8 | PASS | PASS | SKIPPED | SKIPPED | SKIPPED | SKIPPED | +---------------------+--------------------+------------------+-------------------+-------------------------+----------------------+-------------------+ | RHEL9 | PASS | PASS | SKIPPED | SKIPPED | SKIPPED | SKIPPED | +---------------------+--------------------+------------------+-------------------+-------------------------+----------------------+-------------------+ | Ubuntu 20.04 | PASS | SKIPPED | SKIPPED | SKIPPED | SKIPPED | SKIPPED | +---------------------+--------------------+------------------+-------------------+-------------------------+----------------------+-------------------+ | Ubuntu 24.04 | PASS | PASS | PASS | SKIPPED | SKIPPED | SKIPPED | +---------------------+--------------------+------------------+-------------------+-------------------------+----------------------+-------------------+ | Alpine | PASS | PASS | SKIPPED | SKIPPED | SKIPPED | SKIPPED | +---------------------+--------------------+------------------+-------------------+-------------------------+----------------------+-------------------+ | FreeBSD 13.4 | PASS | SKIPPED | SKIPPED | SKIPPED | SKIPPED | SKIPPED | +---------------------+--------------------+------------------+-------------------+-------------------------+----------------------+-------------------+ | FreeBSD 14.2 | PASS | SKIPPED | SKIPPED | SKIPPED | SKIPPED | SKIPPED | +---------------------+--------------------+------------------+-------------------+-------------------------+----------------------+-------------------+ | Fedora 40 (Clang) | PASS | PASS | PASS | SKIPPED | SKIPPED | SKIPPED | +---------------------+--------------------+------------------+-------------------+-------------------------+----------------------+-------------------+ | Ubuntu 22.04 | PASS | PASS | PASS | SKIPPED | SKIPPED | SKIPPED | +---------------------+--------------------+------------------+-------------------+-------------------------+----------------------+-------------------+ | Windows Server 2022 | SKIPPED | SKIPPED | SKIPPED | PASS | PASS | PASS | +---------------------+--------------------+------------------+-------------------+-------------------------+----------------------+-------------------+ CentOS Stream 9 Kernel: Depends on container host Compiler: gcc 11.5.0 20240719 (Red Hat 11.5.0-2) Debian 12 Kernel: Depends on container host Compiler: gcc (Debian 12.2.0-14) 12.2.0 Fedora 39 (Clang) Kernel: Depends on container host Compiler: clang 17.0.6 (Fedora 17.0.6-2.fc39) Fedora 39 Kernel: Depends on container host Compiler: gcc 13.3.1 20240522 (Red Hat 13.3.1-1) Fedora 40 Kernel: Depends on container host Compiler: gcc 14.2.1 20240912 (Red Hat 14.2.1-3) openSUSE Leap 15 Kernel: Depends on container host Compiler: gcc (SUSE Linux) 7.5.0 RHEL8 Kernel: Depends on container host Compiler: gcc 8.5.0 20210514 (Red Hat 8.5.0-22) RHEL9 Kernel: Depends on container host Compiler: gcc 11.5.0 20240719 (Red Hat 11.5.0-2) Ubuntu 20.04 Kernel: Depends on container host Compiler: gcc (Ubuntu 9.4.0-1ubuntu1~20.04.2) 9.4.0 Ubuntu 24.04 Kernel: Depends on container host Compiler: gcc (Ubuntu 13.3.0-6ubuntu2~24.04) 13.3.0 Alpine Kernel: Depends on container host Compiler: gcc (Alpine 14.2.0) 14.2.0 FreeBSD 13.4 Kernel: 13.4-RELEASE-p1 Compiler: clang 18.1.6 FreeBSD 14.2 Kernel: 14.2-RELEASE Compiler: clang 18.1.6 Fedora 40 (Clang) Kernel: Depends on container host Compiler: clang 18.1.8 (Fedora 18.1.8-1.fc40) Ubuntu 22.04 Kernel: Depends on container host Compiler: gcc (Ubuntu 11.4.0-1ubuntu1~22.04) 11.4.0 Windows Server 2022 Kernel: 10.0.20348.2031 Compiler: clang 15.0.7, gcc 14.1.0 (MinGW), and MSVC VS 19.39.33521 To view detailed results, visit: https://lab.dpdk.org/results/dashboard/patchsets/32147/ UNH-IOL DPDK Community Lab To manage your email subscriptions, visit: https://lab.dpdk.org/results/dashboard/preferences/subscriptions/