From mboxrd@z Thu Jan 1 00:00:00 1970 Return-Path: Received: from mails.dpdk.org (mails.dpdk.org [217.70.189.124]) by inbox.dpdk.org (Postfix) with ESMTP id 041CC461BF for ; Fri, 7 Feb 2025 21:01:54 +0100 (CET) Received: from mails.dpdk.org (localhost [127.0.0.1]) by mails.dpdk.org (Postfix) with ESMTP id 00C494029E; Fri, 7 Feb 2025 21:01:54 +0100 (CET) Received: from mail-pl1-f227.google.com (mail-pl1-f227.google.com [209.85.214.227]) by mails.dpdk.org (Postfix) with ESMTP id C5A624026C for ; Fri, 7 Feb 2025 21:01:52 +0100 (CET) Received: by mail-pl1-f227.google.com with SMTP id d9443c01a7336-2163dc5155fso52028175ad.0 for ; Fri, 07 Feb 2025 12:01:52 -0800 (PST) DKIM-Signature: v=1; a=rsa-sha256; c=relaxed/relaxed; d=iol.unh.edu; s=unh-iol; t=1738958512; x=1739563312; darn=dpdk.org; h=references:in-reply-to:cc:to:from:subject:message-id:date:from:to :cc:subject:date:message-id:reply-to; bh=YS44j2xQ99Kkq5rhfk2s8jc5kRjTE+W+rdzlnTIGWws=; b=XEqXMMK/MpOtjJ8Snmm24IRJLqlcidwdopShiLFatD7era50U8igKQCLJ17n26uC+o 1GqjWv3jPVyKq1y5ukC9LN6TNCNyisfe/MNNrLu3B4DoMEVaDlUzrYOYSasLwlX5hpB/ yLFlMtKhmQsOsr3hGCo64NA68+I/3gbAViwDM= X-Google-DKIM-Signature: v=1; a=rsa-sha256; c=relaxed/relaxed; d=1e100.net; s=20230601; t=1738958512; x=1739563312; h=references:in-reply-to:cc:to:from:subject:message-id:date :x-gm-message-state:from:to:cc:subject:date:message-id:reply-to; bh=YS44j2xQ99Kkq5rhfk2s8jc5kRjTE+W+rdzlnTIGWws=; b=gsdamQbl25y0l/utX9zz8cl0x4y6DEfi/IHl60Dkh5TwqmzMMATqmyzgxum2BoOAzq Mvp/XpJfUmyfrJK/bxNNcGgDEtEjOWcTTKlc410wucdA3PiDfsdnBcx0nrugze8UAqrF qvrCEXtjLtakP4+aiLwdFkXuTSAbN/6ZlXO7pfyjh57PMEnd+OnnCtcibAfEOCXXFLsz JExkRffufhJhsu9ARAOTlYoApdqgkZTw1wbCLLeVGB6wQ1qUkDdhMMqYFYIQ9fen2iAJ wAuJyo1zpM6/M0e51zi1SSr978JnQ2cKFI8ijrFc98QWU0j+Np74BD8oexFNaArAOsg8 AVpQ== X-Gm-Message-State: AOJu0YzS2cp3ehgQKmB2vI6SdlMHZE4LboUT9pFvB3D9youaeY2WXhRz js7c+dXKDFVBzLVabIDEaVninbf+IuImxnkSdB7rDFFtrZ3NCUmK+8Auo2sQKTjbg4Fn+LwgIVG K6bsbyTNO81YNMii4QVvTTieVp5S+keaFOohZAdWd X-Gm-Gg: ASbGnctsxZ1fh8VDyTD8Cnnv+zn1frhAvawpsiCaEElQo7APWr7eMzOaVJpy7qVGDEn IuiUt84emYL+/RKzJZASZRMOszPH0eKebJ3eimEE7CbJ+BTXIkYs6nyCo1m7ieZZLXBNtbyBX90 CuXRQv55TduaA8Ku1ffpiwTLFAHyx9DIttVmfD8lNzWz2bYys+DnNVmdFXok8T5/esVSk7aH+5B yG4iNrVkWrJXj3tG+xpPaRrc45ZrzzNt9XLZsEuIu0M/Fs7lrcUTBm5LFX4xf3ejvLpiLZ8bG+g +LOe8PIB2kXlxyPMdPSD2Bfk/SesZg== X-Google-Smtp-Source: AGHT+IEfrB+shFkB9CGbaV0XXO4NJ6ckRIvIjcoHhsUMLom/hbEpGIrH4lQkoy5g6eYE9JkD8CBVJ69MLgr0 X-Received: by 2002:a17:902:ecd1:b0:216:31aa:1308 with SMTP id d9443c01a7336-21f4e746a90mr67461335ad.34.1738958512139; Fri, 07 Feb 2025 12:01:52 -0800 (PST) Received: from postal.iol.unh.edu (postal.iol.unh.edu. [132.177.123.84]) by smtp-relay.gmail.com with ESMTPS id d9443c01a7336-21f3656de09sm2198395ad.55.2025.02.07.12.01.52 (version=TLS1_2 cipher=ECDHE-ECDSA-AES128-GCM-SHA256 bits=128/128); Fri, 07 Feb 2025 12:01:52 -0800 (PST) X-Relaying-Domain: iol.unh.edu Date: Fri, 07 Feb 2025 12:01:52 -0800 (PST) Message-ID: <67a666b0.170a0220.3d37bf.aff2SMTPIN_ADDED_MISSING@mx.google.com> Received: from [172.21.0.10] (unknown [172.18.0.240]) by postal.iol.unh.edu (Postfix) with ESMTP id 549B76052484; Fri, 7 Feb 2025 15:01:51 -0500 (EST) Subject: |SUCCESS| pw149259 [PATCH] [v2] eventdev: add port attribute for ind From: dpdklab@iol.unh.edu To: Test Report Cc: dpdk-test-reports@iol.unh.edu In-Reply-To: <20241216203313.31730-1-pravin.pathak@intel.com> References: <20241216203313.31730-1-pravin.pathak@intel.com> Content-Type: text/plain X-BeenThere: test-report@dpdk.org X-Mailman-Version: 2.1.29 Precedence: list List-Id: automatic DPDK test reports List-Unsubscribe: , List-Archive: List-Post: List-Help: List-Subscribe: , Errors-To: test-report-bounces@dpdk.org Test-Label: iol-compile-amd64-testing Test-Status: SUCCESS http://dpdk.org/patch/149259 _Testing PASS_ Submitter: Pathak, Pravin Date: Monday, December 16 2024 20:33:13 DPDK git baseline: Repo:dpdk Branch: master CommitID:1b3bf1128d9bda5595861814792f74b8f57160c8 149259 --> testing pass Test environment and result as below: +---------------------+--------------------+------------------+-------------------+-------------------------+----------------------+-------------------+ | Environment | dpdk_meson_compile | dpdk_compile_ovs | dpdk_compile_spdk | dpdk_llvm_clang_compile | dpdk_mingw64_compile | dpdk_msvc_compile | +=====================+====================+==================+===================+=========================+======================+===================+ | CentOS Stream 9 | PASS | PASS | PASS | SKIPPED | SKIPPED | SKIPPED | +---------------------+--------------------+------------------+-------------------+-------------------------+----------------------+-------------------+ | Fedora 39 (Clang) | PASS | PASS | PASS | SKIPPED | SKIPPED | SKIPPED | +---------------------+--------------------+------------------+-------------------+-------------------------+----------------------+-------------------+ | Fedora 39 | PASS | PASS | PASS | SKIPPED | SKIPPED | SKIPPED | +---------------------+--------------------+------------------+-------------------+-------------------------+----------------------+-------------------+ | openSUSE Leap 15 | PASS | SKIPPED | SKIPPED | SKIPPED | SKIPPED | SKIPPED | +---------------------+--------------------+------------------+-------------------+-------------------------+----------------------+-------------------+ | RHEL8 | PASS | PASS | SKIPPED | SKIPPED | SKIPPED | SKIPPED | +---------------------+--------------------+------------------+-------------------+-------------------------+----------------------+-------------------+ | RHEL9 | PASS | PASS | SKIPPED | SKIPPED | SKIPPED | SKIPPED | +---------------------+--------------------+------------------+-------------------+-------------------------+----------------------+-------------------+ | Ubuntu 22.04 | PASS | PASS | PASS | SKIPPED | SKIPPED | SKIPPED | +---------------------+--------------------+------------------+-------------------+-------------------------+----------------------+-------------------+ | Ubuntu 20.04 | PASS | SKIPPED | SKIPPED | SKIPPED | SKIPPED | SKIPPED | +---------------------+--------------------+------------------+-------------------+-------------------------+----------------------+-------------------+ | Ubuntu 24.04 | PASS | PASS | PASS | SKIPPED | SKIPPED | SKIPPED | +---------------------+--------------------+------------------+-------------------+-------------------------+----------------------+-------------------+ | FreeBSD 13.4 | PASS | SKIPPED | SKIPPED | SKIPPED | SKIPPED | SKIPPED | +---------------------+--------------------+------------------+-------------------+-------------------------+----------------------+-------------------+ | FreeBSD 14.2 | PASS | SKIPPED | SKIPPED | SKIPPED | SKIPPED | SKIPPED | +---------------------+--------------------+------------------+-------------------+-------------------------+----------------------+-------------------+ | Fedora 40 (Clang) | PASS | PASS | PASS | SKIPPED | SKIPPED | SKIPPED | +---------------------+--------------------+------------------+-------------------+-------------------------+----------------------+-------------------+ | Fedora 40 | PASS | PASS | PASS | SKIPPED | SKIPPED | SKIPPED | +---------------------+--------------------+------------------+-------------------+-------------------------+----------------------+-------------------+ | Debian 12 | PASS | PASS | PASS | SKIPPED | SKIPPED | SKIPPED | +---------------------+--------------------+------------------+-------------------+-------------------------+----------------------+-------------------+ | Alpine | PASS | PASS | SKIPPED | SKIPPED | SKIPPED | SKIPPED | +---------------------+--------------------+------------------+-------------------+-------------------------+----------------------+-------------------+ | Windows Server 2022 | SKIPPED | SKIPPED | SKIPPED | PASS | PASS | PASS | +---------------------+--------------------+------------------+-------------------+-------------------------+----------------------+-------------------+ CentOS Stream 9 Kernel: Depends on container host Compiler: gcc 11.5.0 20240719 (Red Hat 11.5.0-2) Fedora 39 (Clang) Kernel: Depends on container host Compiler: clang 17.0.6 (Fedora 17.0.6-2.fc39) Fedora 39 Kernel: Depends on container host Compiler: gcc 13.3.1 20240522 (Red Hat 13.3.1-1) openSUSE Leap 15 Kernel: Depends on container host Compiler: gcc (SUSE Linux) 7.5.0 RHEL8 Kernel: Depends on container host Compiler: gcc 8.5.0 20210514 (Red Hat 8.5.0-22) RHEL9 Kernel: Depends on container host Compiler: gcc 11.5.0 20240719 (Red Hat 11.5.0-2) Ubuntu 22.04 Kernel: Depends on container host Compiler: gcc (Ubuntu 11.4.0-1ubuntu1~22.04) 11.4.0 Ubuntu 20.04 Kernel: Depends on container host Compiler: gcc (Ubuntu 9.4.0-1ubuntu1~20.04.2) 9.4.0 Ubuntu 24.04 Kernel: Depends on container host Compiler: gcc (Ubuntu 13.3.0-6ubuntu2~24.04) 13.3.0 FreeBSD 13.4 Kernel: 13.4-RELEASE-p1 Compiler: clang 18.1.6 FreeBSD 14.2 Kernel: 14.2-RELEASE Compiler: clang 18.1.6 Fedora 40 (Clang) Kernel: Depends on container host Compiler: clang 18.1.8 (Fedora 18.1.8-1.fc40) Fedora 40 Kernel: Depends on container host Compiler: gcc 14.2.1 20240912 (Red Hat 14.2.1-3) Debian 12 Kernel: Depends on container host Compiler: gcc (Debian 12.2.0-14) 12.2.0 Alpine Kernel: Depends on container host Compiler: gcc (Alpine 14.2.0) 14.2.0 Windows Server 2022 Kernel: 10.0.20348.2031 Compiler: clang 15.0.7, gcc 14.1.0 (MinGW), and MSVC VS 19.39.33521 To view detailed results, visit: https://lab.dpdk.org/results/dashboard/patchsets/32150/ UNH-IOL DPDK Community Lab To manage your email subscriptions, visit: https://lab.dpdk.org/results/dashboard/preferences/subscriptions/