From mboxrd@z Thu Jan 1 00:00:00 1970 Return-Path: Received: from mails.dpdk.org (mails.dpdk.org [217.70.189.124]) by inbox.dpdk.org (Postfix) with ESMTP id 25527461BF for ; Fri, 7 Feb 2025 21:01:56 +0100 (CET) Received: from mails.dpdk.org (localhost [127.0.0.1]) by mails.dpdk.org (Postfix) with ESMTP id 16FC740290; Fri, 7 Feb 2025 21:01:56 +0100 (CET) Received: from mail-oo1-f98.google.com (mail-oo1-f98.google.com [209.85.161.98]) by mails.dpdk.org (Postfix) with ESMTP id C64FA4026C for ; Fri, 7 Feb 2025 21:01:53 +0100 (CET) Received: by mail-oo1-f98.google.com with SMTP id 006d021491bc7-5f2d7868ef0so734652eaf.3 for ; Fri, 07 Feb 2025 12:01:53 -0800 (PST) DKIM-Signature: v=1; a=rsa-sha256; c=relaxed/relaxed; d=iol.unh.edu; s=unh-iol; t=1738958513; x=1739563313; darn=dpdk.org; h=references:in-reply-to:cc:to:from:subject:message-id:date:from:to :cc:subject:date:message-id:reply-to; bh=+UJv2+CyAKqMxf9NHwgjAvBgp+EMHu5ZSnfvWh5nYnE=; b=dLJhSU7AwYhswZQnP13mhs7uPhSmEs7Jx+AC6S3lMB7OAx8TaT2aEd1gUyoAwxA8pb POTs6rIuR9OEaRe2yin3WKgnOud0VkPgUtBBj1Cxnci91RIVknfZWHtHBTz3vdfs8f1S sut5d0KiYnWALxSxFof0SQWMTtSrbN4HUkhlM= X-Google-DKIM-Signature: v=1; a=rsa-sha256; c=relaxed/relaxed; d=1e100.net; s=20230601; t=1738958513; x=1739563313; h=references:in-reply-to:cc:to:from:subject:message-id:date :x-gm-message-state:from:to:cc:subject:date:message-id:reply-to; bh=+UJv2+CyAKqMxf9NHwgjAvBgp+EMHu5ZSnfvWh5nYnE=; b=FPTrHLCPMI1eAai1A+RBsalGMqHKQ7qBsjO+uHAGeoOEdKh4+s/zVQCXFdaDjXGO8o lS63bhqGr++aIWwmhXmKPUy0rPO4G8yfffD+wsgxTmo72/bn4nsf1xIx8689FoQJI9Df SANuzd7czHUrMPlgEY9+vnYB6KAF+FgJ3Ivv1gYHVmCmEXiEnyAgBPq97mWF7t5GWKd/ xUyD/qk+DTGm3W1L4cn2Y8kWqP6utwcbdmynVy7JpfQeisTeCNLtplo1dM5n0U4MK8hI k/MCJV729UWSnUDLrP5fcLLKcfuDWH+c/f0aVqRzJSU4HqYqXa8NlJJw+oB7rruibd/I MJMw== X-Gm-Message-State: AOJu0Yzwsoc1o4XWRkpKB9TpZ1c6SyIganbSJWFNOHaRwxWL2xSSycHu 1RK6G+25GisRSHy+bEtuSM1i4fYLhg1BX+AC0CSB49X1e0eGEVsFNNxYja1+znFThuuiLpxeLjU W46z91WhPD2MLM2xn8pKXIy8JLu6lKu2rKQCFqCtT X-Gm-Gg: ASbGnctS9Qd0372o2wnDprnKrHKGbz1IBvlC/5hhuSiDSEoVJmINW30bzjpR6/q9LzD Z7/iQEs4vdXt6jDBKNf1wAC46oxk+dVUT1hoRf3GBH5WZ8xgpqxLYUKMlR3lUhWyye0kMK6wCln 5JW1Alne61bPuyrKa1sXKGmKs8T8y2b1XU3yEt7u8r6FQdncMWrekqmm4MRdhB/02vlAPyImc1a 0agVN2ze7s+kcCztJeH8gL5TrCl+KPJLUWpSf+o3q2Gmyy2cIcTIEepCmYPoprB37UUtIMKrl5d elhLAv9hkpbXHRYizmxpRRTIuIe6PQ== X-Google-Smtp-Source: AGHT+IELJDZLkrMZYRuKLWru/77Xb2GCwcypkmV3WoXZjFipENtqrLVxX/TcdKtGUz4h5tfTcOBIvdh6S7xh X-Received: by 2002:a05:6871:6010:b0:2b3:8400:23e8 with SMTP id 586e51a60fabf-2b83eb515c1mr3246612fac.6.1738958513091; Fri, 07 Feb 2025 12:01:53 -0800 (PST) Received: from postal.iol.unh.edu (postal.iol.unh.edu. [132.177.123.84]) by smtp-relay.gmail.com with ESMTPS id 586e51a60fabf-2b826267e32sm211562fac.38.2025.02.07.12.01.53 (version=TLS1_2 cipher=ECDHE-ECDSA-AES128-GCM-SHA256 bits=128/128); Fri, 07 Feb 2025 12:01:53 -0800 (PST) X-Relaying-Domain: iol.unh.edu Date: Fri, 07 Feb 2025 12:01:53 -0800 (PST) Message-ID: <67a666b1.050a0220.3083cd.b00fSMTPIN_ADDED_MISSING@mx.google.com> Received: from [172.21.0.5] (unknown [172.18.0.240]) by postal.iol.unh.edu (Postfix) with ESMTP id 878226052471; Fri, 7 Feb 2025 15:01:22 -0500 (EST) Subject: |SUCCESS| pw149287 [PATCH] net/nfp: implement the burst mode get ope From: dpdklab@iol.unh.edu To: Test Report Cc: dpdk-test-reports@iol.unh.edu In-Reply-To: <20241218063036.1697438-1-chaoyong.he@corigine.com> References: <20241218063036.1697438-1-chaoyong.he@corigine.com> Content-Type: text/plain X-BeenThere: test-report@dpdk.org X-Mailman-Version: 2.1.29 Precedence: list List-Id: automatic DPDK test reports List-Unsubscribe: , List-Archive: List-Post: List-Help: List-Subscribe: , Errors-To: test-report-bounces@dpdk.org Test-Label: iol-compile-amd64-testing Test-Status: SUCCESS http://dpdk.org/patch/149287 _Testing PASS_ Submitter: Chaoyong He Date: Wednesday, December 18 2024 06:30:36 DPDK git baseline: Repo:dpdk Branch: master CommitID:78d0246a2e2fb14cba220d507192d12d2ce896ac 149287 --> testing pass Test environment and result as below: +---------------------+--------------------+------------------+-------------------+-------------------+-------------------------+----------------------+ | Environment | dpdk_meson_compile | dpdk_compile_ovs | dpdk_compile_spdk | dpdk_msvc_compile | dpdk_llvm_clang_compile | dpdk_mingw64_compile | +=====================+====================+==================+===================+===================+=========================+======================+ | CentOS Stream 9 | PASS | PASS | PASS | SKIPPED | SKIPPED | SKIPPED | +---------------------+--------------------+------------------+-------------------+-------------------+-------------------------+----------------------+ | Debian 12 | PASS | PASS | PASS | SKIPPED | SKIPPED | SKIPPED | +---------------------+--------------------+------------------+-------------------+-------------------+-------------------------+----------------------+ | Fedora 39 (Clang) | PASS | PASS | PASS | SKIPPED | SKIPPED | SKIPPED | +---------------------+--------------------+------------------+-------------------+-------------------+-------------------------+----------------------+ | Fedora 40 (Clang) | PASS | PASS | PASS | SKIPPED | SKIPPED | SKIPPED | +---------------------+--------------------+------------------+-------------------+-------------------+-------------------------+----------------------+ | Fedora 40 | PASS | PASS | PASS | SKIPPED | SKIPPED | SKIPPED | +---------------------+--------------------+------------------+-------------------+-------------------+-------------------------+----------------------+ | openSUSE Leap 15 | PASS | SKIPPED | SKIPPED | SKIPPED | SKIPPED | SKIPPED | +---------------------+--------------------+------------------+-------------------+-------------------+-------------------------+----------------------+ | RHEL8 | PASS | PASS | SKIPPED | SKIPPED | SKIPPED | SKIPPED | +---------------------+--------------------+------------------+-------------------+-------------------+-------------------------+----------------------+ | RHEL9 | PASS | PASS | SKIPPED | SKIPPED | SKIPPED | SKIPPED | +---------------------+--------------------+------------------+-------------------+-------------------+-------------------------+----------------------+ | Ubuntu 20.04 | PASS | SKIPPED | SKIPPED | SKIPPED | SKIPPED | SKIPPED | +---------------------+--------------------+------------------+-------------------+-------------------+-------------------------+----------------------+ | Ubuntu 24.04 | PASS | PASS | PASS | SKIPPED | SKIPPED | SKIPPED | +---------------------+--------------------+------------------+-------------------+-------------------+-------------------------+----------------------+ | Alpine | PASS | PASS | SKIPPED | SKIPPED | SKIPPED | SKIPPED | +---------------------+--------------------+------------------+-------------------+-------------------+-------------------------+----------------------+ | FreeBSD 13.4 | PASS | SKIPPED | SKIPPED | SKIPPED | SKIPPED | SKIPPED | +---------------------+--------------------+------------------+-------------------+-------------------+-------------------------+----------------------+ | FreeBSD 14.2 | PASS | SKIPPED | SKIPPED | SKIPPED | SKIPPED | SKIPPED | +---------------------+--------------------+------------------+-------------------+-------------------+-------------------------+----------------------+ | Fedora 39 | PASS | PASS | PASS | SKIPPED | SKIPPED | SKIPPED | +---------------------+--------------------+------------------+-------------------+-------------------+-------------------------+----------------------+ | Ubuntu 22.04 | PASS | PASS | PASS | SKIPPED | SKIPPED | SKIPPED | +---------------------+--------------------+------------------+-------------------+-------------------+-------------------------+----------------------+ | Windows Server 2022 | SKIPPED | SKIPPED | SKIPPED | PASS | PASS | PASS | +---------------------+--------------------+------------------+-------------------+-------------------+-------------------------+----------------------+ CentOS Stream 9 Kernel: Depends on container host Compiler: gcc 11.5.0 20240719 (Red Hat 11.5.0-2) Debian 12 Kernel: Depends on container host Compiler: gcc (Debian 12.2.0-14) 12.2.0 Fedora 39 (Clang) Kernel: Depends on container host Compiler: clang 17.0.6 (Fedora 17.0.6-2.fc39) Fedora 40 (Clang) Kernel: Depends on container host Compiler: clang 18.1.8 (Fedora 18.1.8-1.fc40) Fedora 40 Kernel: Depends on container host Compiler: gcc 14.2.1 20240912 (Red Hat 14.2.1-3) openSUSE Leap 15 Kernel: Depends on container host Compiler: gcc (SUSE Linux) 7.5.0 RHEL8 Kernel: Depends on container host Compiler: gcc 8.5.0 20210514 (Red Hat 8.5.0-22) RHEL9 Kernel: Depends on container host Compiler: gcc 11.5.0 20240719 (Red Hat 11.5.0-2) Ubuntu 20.04 Kernel: Depends on container host Compiler: gcc (Ubuntu 9.4.0-1ubuntu1~20.04.2) 9.4.0 Ubuntu 24.04 Kernel: Depends on container host Compiler: gcc (Ubuntu 13.3.0-6ubuntu2~24.04) 13.3.0 Alpine Kernel: Depends on container host Compiler: gcc (Alpine 14.2.0) 14.2.0 FreeBSD 13.4 Kernel: 13.4-RELEASE-p1 Compiler: clang 18.1.6 FreeBSD 14.2 Kernel: 14.2-RELEASE Compiler: clang 18.1.6 Fedora 39 Kernel: Depends on container host Compiler: gcc 13.3.1 20240522 (Red Hat 13.3.1-1) Ubuntu 22.04 Kernel: Depends on container host Compiler: gcc (Ubuntu 11.4.0-1ubuntu1~22.04) 11.4.0 Windows Server 2022 Kernel: 10.0.20348.2031 Compiler: clang 15.0.7, gcc 14.1.0 (MinGW), and MSVC VS 19.39.33521 To view detailed results, visit: https://lab.dpdk.org/results/dashboard/patchsets/32156/ UNH-IOL DPDK Community Lab To manage your email subscriptions, visit: https://lab.dpdk.org/results/dashboard/preferences/subscriptions/