From mboxrd@z Thu Jan 1 00:00:00 1970 Return-Path: Received: from mails.dpdk.org (mails.dpdk.org [217.70.189.124]) by inbox.dpdk.org (Postfix) with ESMTP id 3E93B461BF for ; Fri, 7 Feb 2025 21:02:03 +0100 (CET) Received: from mails.dpdk.org (localhost [127.0.0.1]) by mails.dpdk.org (Postfix) with ESMTP id 35BBB40290; Fri, 7 Feb 2025 21:02:03 +0100 (CET) Received: from mail-pl1-f228.google.com (mail-pl1-f228.google.com [209.85.214.228]) by mails.dpdk.org (Postfix) with ESMTP id 53E1C4026C for ; Fri, 7 Feb 2025 21:02:02 +0100 (CET) Received: by mail-pl1-f228.google.com with SMTP id d9443c01a7336-21f62cc4088so10186755ad.3 for ; Fri, 07 Feb 2025 12:02:02 -0800 (PST) DKIM-Signature: v=1; a=rsa-sha256; c=relaxed/relaxed; d=iol.unh.edu; s=unh-iol; t=1738958521; x=1739563321; darn=dpdk.org; h=references:in-reply-to:cc:to:from:subject:message-id:date:from:to :cc:subject:date:message-id:reply-to; bh=sFAVj1VGrYGnpjG3SxhGM6oVT1qBuKhsOZ5xLzrXG0Y=; b=YBpE38ifLJXfb0RexseuEqbFuMys3e/VRy6pMUX/Lly/GSb46MwD4Lkowc+l3Cxtiq XiM+kUKFfAG5rJt7x4HDZz23pibcRsXGZM28twr7EXBr3ZAbs1LD8UdxwWB/V32KwLkG stoafHOfjcRnh1lhsY1eoeMqr16bGrzx9SWf4= X-Google-DKIM-Signature: v=1; a=rsa-sha256; c=relaxed/relaxed; d=1e100.net; s=20230601; t=1738958521; x=1739563321; h=references:in-reply-to:cc:to:from:subject:message-id:date :x-gm-message-state:from:to:cc:subject:date:message-id:reply-to; bh=sFAVj1VGrYGnpjG3SxhGM6oVT1qBuKhsOZ5xLzrXG0Y=; b=kKpxUlT8A8gqNL0sd5ftYx0YYgeDE980QP1FDyridFLMi+G3/jWylpKJ+szNSTajd0 5iPhC4Ggg+bNpGTktzjv431LCzUVFCa9soDtMRwJ/IoAWqs2aj2iUjSU/uNA8xyQV7Bs jeyhfSPwiGbtIfrr3nvzW2EenRCH/590vOWXrOFL6Msq8LJv611t/gDsW4qzUrw3S5UE W7g93WxyZDDto8RBdNMZ1Ak8y9xmRNZg5RAgQkEIkq8eX/iSgjmOO0Kl1omduEinRmpV 0o7aUYxYIef27QHN3rc8Ro0RWnuP7Zvh7y9+O5AxlvbBEJF/yKguGGuE1aACw2DMPGeF sInQ== X-Gm-Message-State: AOJu0Yxda3gNXVM0vPv8mKdto71wphmf8jRMM6SufZCAhmB6CM61V4z2 AbyRK6jlj0KFdMLY4yXhPI8RR5FPI0QkpRYf1iN4GuL16e3U5f4QdYlwtUwsoBK5jzlqfbUsmSQ vyNHfJ9jvuhvgKReSAhkzp3ooMNkSiU3bLey/dkZT X-Gm-Gg: ASbGncvM3HBnmFuJVxqvFGN6RbLZi4gEuLgt9UKGwA6jLVVNCLk8ky8rF48CxV/geKK DtktLE2fSLjOd17y4Ar7LlhXLxRFzsO6KIN2QUQ9ypq5R+wrUp88jaSE10BIOxaRaGxF8fHfXoz GzVn69dKqIi5IFNFqxC9Rxj91cRHkJWXHmaBBZ17roIdnPv5306SCYFIzWeLOBaBMP9TMIfyGjb /6/u3+zYj4FtUq4mNb/o7iCPbI/df/EAQSD0WoMYO9Rm8pcjSqHoTvnZDgWD0RWyIXGJiJ+zqqm UAL7Bnev7HO3rnYVxhMIOVAUrQsmVg== X-Google-Smtp-Source: AGHT+IFnBzkiI19tIz0YDtSMM1uXmybknpZrLgRFNu2ySo0Gsc5GjElIdIVU0vdpxdL+nlLTrdUkg+8WGPjv X-Received: by 2002:a17:903:19cc:b0:216:6590:d472 with SMTP id d9443c01a7336-21f4e6c61c0mr79684195ad.21.1738958521676; Fri, 07 Feb 2025 12:02:01 -0800 (PST) Received: from postal.iol.unh.edu (postal.iol.unh.edu. [132.177.123.84]) by smtp-relay.gmail.com with ESMTPS id d9443c01a7336-21f3650cd6fsm2171705ad.8.2025.02.07.12.02.01 (version=TLS1_2 cipher=ECDHE-ECDSA-AES128-GCM-SHA256 bits=128/128); Fri, 07 Feb 2025 12:02:01 -0800 (PST) X-Relaying-Domain: iol.unh.edu Date: Fri, 07 Feb 2025 12:02:01 -0800 (PST) Message-ID: <67a666b9.170a0220.27cc4a.af01SMTPIN_ADDED_MISSING@mx.google.com> Received: from [172.21.0.8] (unknown [172.18.0.240]) by postal.iol.unh.edu (Postfix) with ESMTP id D537B6052472; Fri, 7 Feb 2025 15:01:30 -0500 (EST) Subject: |SUCCESS| pw149259 [PATCH] [v2] eventdev: add port attribute for ind From: dpdklab@iol.unh.edu To: Test Report Cc: dpdk-test-reports@iol.unh.edu In-Reply-To: <20241216203313.31730-1-pravin.pathak@intel.com> References: <20241216203313.31730-1-pravin.pathak@intel.com> Content-Type: text/plain X-BeenThere: test-report@dpdk.org X-Mailman-Version: 2.1.29 Precedence: list List-Id: automatic DPDK test reports List-Unsubscribe: , List-Archive: List-Post: List-Help: List-Subscribe: , Errors-To: test-report-bounces@dpdk.org Test-Label: iol-compile-amd64-testing Test-Status: SUCCESS http://dpdk.org/patch/149259 _Testing PASS_ Submitter: Pathak, Pravin Date: Monday, December 16 2024 20:33:13 DPDK git baseline: Repo:dpdk Branch: master CommitID:1b3bf1128d9bda5595861814792f74b8f57160c8 149259 --> testing pass Test environment and result as below: +---------------------+--------------------+------------------+-------------------+-------------------------+----------------------+-------------------+ | Environment | dpdk_meson_compile | dpdk_compile_ovs | dpdk_compile_spdk | dpdk_llvm_clang_compile | dpdk_mingw64_compile | dpdk_msvc_compile | +=====================+====================+==================+===================+=========================+======================+===================+ | CentOS Stream 9 | PASS | PASS | PASS | SKIPPED | SKIPPED | SKIPPED | +---------------------+--------------------+------------------+-------------------+-------------------------+----------------------+-------------------+ | Fedora 39 (Clang) | PASS | PASS | PASS | SKIPPED | SKIPPED | SKIPPED | +---------------------+--------------------+------------------+-------------------+-------------------------+----------------------+-------------------+ | Fedora 39 | PASS | PASS | PASS | SKIPPED | SKIPPED | SKIPPED | +---------------------+--------------------+------------------+-------------------+-------------------------+----------------------+-------------------+ | openSUSE Leap 15 | PASS | SKIPPED | SKIPPED | SKIPPED | SKIPPED | SKIPPED | +---------------------+--------------------+------------------+-------------------+-------------------------+----------------------+-------------------+ | RHEL9 | PASS | PASS | SKIPPED | SKIPPED | SKIPPED | SKIPPED | +---------------------+--------------------+------------------+-------------------+-------------------------+----------------------+-------------------+ | Ubuntu 22.04 | PASS | PASS | PASS | SKIPPED | SKIPPED | SKIPPED | +---------------------+--------------------+------------------+-------------------+-------------------------+----------------------+-------------------+ | FreeBSD 14.2 | PASS | SKIPPED | SKIPPED | SKIPPED | SKIPPED | SKIPPED | +---------------------+--------------------+------------------+-------------------+-------------------------+----------------------+-------------------+ | Debian 12 | PASS | PASS | PASS | SKIPPED | SKIPPED | SKIPPED | +---------------------+--------------------+------------------+-------------------+-------------------------+----------------------+-------------------+ | Fedora 40 | PASS | PASS | PASS | SKIPPED | SKIPPED | SKIPPED | +---------------------+--------------------+------------------+-------------------+-------------------------+----------------------+-------------------+ | FreeBSD 13.4 | PASS | SKIPPED | SKIPPED | SKIPPED | SKIPPED | SKIPPED | +---------------------+--------------------+------------------+-------------------+-------------------------+----------------------+-------------------+ | Alpine | PASS | PASS | SKIPPED | SKIPPED | SKIPPED | SKIPPED | +---------------------+--------------------+------------------+-------------------+-------------------------+----------------------+-------------------+ | Ubuntu 20.04 | PASS | SKIPPED | SKIPPED | SKIPPED | SKIPPED | SKIPPED | +---------------------+--------------------+------------------+-------------------+-------------------------+----------------------+-------------------+ | Ubuntu 24.04 | PASS | PASS | PASS | SKIPPED | SKIPPED | SKIPPED | +---------------------+--------------------+------------------+-------------------+-------------------------+----------------------+-------------------+ | RHEL8 | PASS | PASS | SKIPPED | SKIPPED | SKIPPED | SKIPPED | +---------------------+--------------------+------------------+-------------------+-------------------------+----------------------+-------------------+ | Windows Server 2022 | SKIPPED | SKIPPED | SKIPPED | PASS | PASS | PASS | +---------------------+--------------------+------------------+-------------------+-------------------------+----------------------+-------------------+ CentOS Stream 9 Kernel: Depends on container host Compiler: gcc 11.5.0 20240719 (Red Hat 11.5.0-2) Fedora 39 (Clang) Kernel: Depends on container host Compiler: clang 17.0.6 (Fedora 17.0.6-2.fc39) Fedora 39 Kernel: Depends on container host Compiler: gcc 13.3.1 20240522 (Red Hat 13.3.1-1) openSUSE Leap 15 Kernel: Depends on container host Compiler: gcc (SUSE Linux) 7.5.0 RHEL9 Kernel: Depends on container host Compiler: gcc 11.5.0 20240719 (Red Hat 11.5.0-2) Ubuntu 22.04 Kernel: Depends on container host Compiler: gcc (Ubuntu 11.4.0-1ubuntu1~22.04) 11.4.0 FreeBSD 14.2 Kernel: 14.2-RELEASE Compiler: clang 18.1.6 Debian 12 Kernel: Depends on container host Compiler: gcc (Debian 12.2.0-14) 12.2.0 Fedora 40 Kernel: Depends on container host Compiler: gcc 14.2.1 20240912 (Red Hat 14.2.1-3) FreeBSD 13.4 Kernel: 13.4-RELEASE-p1 Compiler: clang 18.1.6 Alpine Kernel: Depends on container host Compiler: gcc (Alpine 14.2.0) 14.2.0 Ubuntu 20.04 Kernel: Depends on container host Compiler: gcc (Ubuntu 9.4.0-1ubuntu1~20.04.2) 9.4.0 Ubuntu 24.04 Kernel: Depends on container host Compiler: gcc (Ubuntu 13.3.0-6ubuntu2~24.04) 13.3.0 RHEL8 Kernel: Depends on container host Compiler: gcc 8.5.0 20210514 (Red Hat 8.5.0-22) Windows Server 2022 Kernel: 10.0.20348.2031 Compiler: clang 15.0.7, gcc 14.1.0 (MinGW), and MSVC VS 19.39.33521 To view detailed results, visit: https://lab.dpdk.org/results/dashboard/patchsets/32150/ UNH-IOL DPDK Community Lab To manage your email subscriptions, visit: https://lab.dpdk.org/results/dashboard/preferences/subscriptions/