From mboxrd@z Thu Jan 1 00:00:00 1970 Return-Path: Received: from mails.dpdk.org (mails.dpdk.org [217.70.189.124]) by inbox.dpdk.org (Postfix) with ESMTP id 88548461BF for ; Fri, 7 Feb 2025 21:02:17 +0100 (CET) Received: from mails.dpdk.org (localhost [127.0.0.1]) by mails.dpdk.org (Postfix) with ESMTP id 722BF40290; Fri, 7 Feb 2025 21:02:17 +0100 (CET) Received: from mail-qv1-f100.google.com (mail-qv1-f100.google.com [209.85.219.100]) by mails.dpdk.org (Postfix) with ESMTP id 46E404026C for ; Fri, 7 Feb 2025 21:02:16 +0100 (CET) Received: by mail-qv1-f100.google.com with SMTP id 6a1803df08f44-6e440e64249so21896186d6.3 for ; Fri, 07 Feb 2025 12:02:16 -0800 (PST) DKIM-Signature: v=1; a=rsa-sha256; c=relaxed/relaxed; d=iol.unh.edu; s=unh-iol; t=1738958535; x=1739563335; darn=dpdk.org; h=references:in-reply-to:cc:to:from:subject:message-id:date:from:to :cc:subject:date:message-id:reply-to; bh=WjgBDJ9q4+DOFzU3clJPDicjYdLG07J59Rq0fDgqFcE=; b=bQNn7y7mGf2G9qIPkh65Mm9xuTepUkslelR/lkEvDSh+pARsPtXbWzkWFS/bKphmw8 Tqu1MJ0L8Epawo+7uiyhasoWcP6OKUD9EKR9lnneckL3NJklYAGGfPd2PpG6HknlEWKz suEfUk8EUuMx1DSIivXfgomN2IpeeDcX+Ad78= X-Google-DKIM-Signature: v=1; a=rsa-sha256; c=relaxed/relaxed; d=1e100.net; s=20230601; t=1738958535; x=1739563335; h=references:in-reply-to:cc:to:from:subject:message-id:date :x-gm-message-state:from:to:cc:subject:date:message-id:reply-to; bh=WjgBDJ9q4+DOFzU3clJPDicjYdLG07J59Rq0fDgqFcE=; b=fqEKDYHbG6+ckMYNv2r2ORhG45bdon3VhK0+2+hd89Br1pJab/BvGGQ8Oxa01rLJwA +Z6kFnIxv1ClhQLS7ifFguo06vCEsRvj/FgqWqUsgHAcIvIwg5i3DlTJqb2Qime28IWd PFzLDYXSldQecuZv+R3Eo3VlaY27si/aq81s7vv8lKhB0haX2swr7kgzHtKakda2ak07 LgRlXAtSKu3ctfcECKgc+4rzb8w8u48Sg4G2ofB6MCehDrARzeIOc/mg7bx9EnvKa4gM cW/46ufPr/6LWOf+Y6HHZvuMCDTLoOdkzUNfdYzok9r9MDGCTG4RgESZAABj98X1O3b5 QUHA== X-Gm-Message-State: AOJu0Yz35CNTlC20g136aevGyZlgd/Ve9pifo0Ew8Wmb850gDyPYJgpm jQ7dIHHx+AGEvGHMDzBDF/tO9GxfxKInDMc6uLEglEc6mkEicoqQeRZCpjKdsuDScaUD1t28qFa H2iufBmFFTEoCxOKfbmJpC8KI5f2xA6OF+DuxKykd X-Gm-Gg: ASbGnctrjtUlVTef7KyJE+nakp8ozteSlcXm+5+9h/kkA4n9ErBPvPfAXLJ/yqsK35f lvHsPT9SWxWpfZyp5UMRNtCVIac2BbXU8JSHLVrXiKLa2euNPLKxBV9G1x1InwyP6ptBZEw9Unu Zx+wyjBw6bl9DyRa7vSWNYMV5fWPZf/mGJilhJ+re58mNCEW0s0vQCYVUt70ldddSDxncHZfczJ Hu/AfiKPjuKOKireTvshQu3kjj/cax9d/C65RJjcXA8dGZsPfzCpc8TAmT3wGA5g+D9OqA1TMS7 TvobMpW/Kxt/dUuM0CnCo10RkSlaSA== X-Google-Smtp-Source: AGHT+IHrSLCB5JDq64A4a7m/k8b2hTdK76LXHhReOe3iNuvE60TrMSchaDEZdRfA334HltmT9R6iKXlDdBVr X-Received: by 2002:a05:6214:501b:b0:6df:8112:3e48 with SMTP id 6a1803df08f44-6e445702f7fmr83955196d6.36.1738958535130; Fri, 07 Feb 2025 12:02:15 -0800 (PST) Received: from postal.iol.unh.edu (postal.iol.unh.edu. [132.177.123.84]) by smtp-relay.gmail.com with ESMTPS id 6a1803df08f44-6e4517571b9sm29536d6.55.2025.02.07.12.02.15 (version=TLS1_2 cipher=ECDHE-ECDSA-AES128-GCM-SHA256 bits=128/128); Fri, 07 Feb 2025 12:02:15 -0800 (PST) X-Relaying-Domain: iol.unh.edu Date: Fri, 07 Feb 2025 12:02:15 -0800 (PST) Message-ID: <67a666c7.050a0220.268fee.0225SMTPIN_ADDED_MISSING@mx.google.com> Received: from [172.21.0.13] (unknown [172.18.0.240]) by postal.iol.unh.edu (Postfix) with ESMTP id DB666605247D; Fri, 7 Feb 2025 15:01:44 -0500 (EST) Subject: |SUCCESS| pw149286 [PATCH] net/nfp: unify the queue threshold value From: dpdklab@iol.unh.edu To: Test Report Cc: dpdk-test-reports@iol.unh.edu In-Reply-To: <20241218061745.1696899-1-chaoyong.he@corigine.com> References: <20241218061745.1696899-1-chaoyong.he@corigine.com> Content-Type: text/plain X-BeenThere: test-report@dpdk.org X-Mailman-Version: 2.1.29 Precedence: list List-Id: automatic DPDK test reports List-Unsubscribe: , List-Archive: List-Post: List-Help: List-Subscribe: , Errors-To: test-report-bounces@dpdk.org Test-Label: iol-compile-amd64-testing Test-Status: SUCCESS http://dpdk.org/patch/149286 _Testing PASS_ Submitter: Chaoyong He Date: Wednesday, December 18 2024 06:17:45 DPDK git baseline: Repo:dpdk Branch: master CommitID:78d0246a2e2fb14cba220d507192d12d2ce896ac 149286 --> testing pass Test environment and result as below: +---------------------+--------------------+------------------+-------------------+-------------------+-------------------------+----------------------+ | Environment | dpdk_meson_compile | dpdk_compile_ovs | dpdk_compile_spdk | dpdk_msvc_compile | dpdk_llvm_clang_compile | dpdk_mingw64_compile | +=====================+====================+==================+===================+===================+=========================+======================+ | Fedora 39 (Clang) | PASS | PASS | PASS | SKIPPED | SKIPPED | SKIPPED | +---------------------+--------------------+------------------+-------------------+-------------------+-------------------------+----------------------+ | CentOS Stream 9 | PASS | PASS | PASS | SKIPPED | SKIPPED | SKIPPED | +---------------------+--------------------+------------------+-------------------+-------------------+-------------------------+----------------------+ | Fedora 39 | PASS | PASS | PASS | SKIPPED | SKIPPED | SKIPPED | +---------------------+--------------------+------------------+-------------------+-------------------+-------------------------+----------------------+ | Fedora 40 (Clang) | PASS | PASS | PASS | SKIPPED | SKIPPED | SKIPPED | +---------------------+--------------------+------------------+-------------------+-------------------+-------------------------+----------------------+ | openSUSE Leap 15 | PASS | SKIPPED | SKIPPED | SKIPPED | SKIPPED | SKIPPED | +---------------------+--------------------+------------------+-------------------+-------------------+-------------------------+----------------------+ | RHEL8 | PASS | PASS | SKIPPED | SKIPPED | SKIPPED | SKIPPED | +---------------------+--------------------+------------------+-------------------+-------------------+-------------------------+----------------------+ | RHEL9 | PASS | PASS | SKIPPED | SKIPPED | SKIPPED | SKIPPED | +---------------------+--------------------+------------------+-------------------+-------------------+-------------------------+----------------------+ | Ubuntu 24.04 | PASS | PASS | PASS | SKIPPED | SKIPPED | SKIPPED | +---------------------+--------------------+------------------+-------------------+-------------------+-------------------------+----------------------+ | FreeBSD 14.2 | PASS | SKIPPED | SKIPPED | SKIPPED | SKIPPED | SKIPPED | +---------------------+--------------------+------------------+-------------------+-------------------+-------------------------+----------------------+ | Ubuntu 22.04 | PASS | PASS | PASS | SKIPPED | SKIPPED | SKIPPED | +---------------------+--------------------+------------------+-------------------+-------------------+-------------------------+----------------------+ | Alpine | PASS | PASS | SKIPPED | SKIPPED | SKIPPED | SKIPPED | +---------------------+--------------------+------------------+-------------------+-------------------+-------------------------+----------------------+ | FreeBSD 13.4 | PASS | SKIPPED | SKIPPED | SKIPPED | SKIPPED | SKIPPED | +---------------------+--------------------+------------------+-------------------+-------------------+-------------------------+----------------------+ | Ubuntu 20.04 | PASS | SKIPPED | SKIPPED | SKIPPED | SKIPPED | SKIPPED | +---------------------+--------------------+------------------+-------------------+-------------------+-------------------------+----------------------+ | Fedora 40 | PASS | PASS | PASS | SKIPPED | SKIPPED | SKIPPED | +---------------------+--------------------+------------------+-------------------+-------------------+-------------------------+----------------------+ | Debian 12 | PASS | PASS | PASS | SKIPPED | SKIPPED | SKIPPED | +---------------------+--------------------+------------------+-------------------+-------------------+-------------------------+----------------------+ | Windows Server 2022 | SKIPPED | SKIPPED | SKIPPED | PASS | PASS | PASS | +---------------------+--------------------+------------------+-------------------+-------------------+-------------------------+----------------------+ Fedora 39 (Clang) Kernel: Depends on container host Compiler: clang 17.0.6 (Fedora 17.0.6-2.fc39) CentOS Stream 9 Kernel: Depends on container host Compiler: gcc 11.5.0 20240719 (Red Hat 11.5.0-2) Fedora 39 Kernel: Depends on container host Compiler: gcc 13.3.1 20240522 (Red Hat 13.3.1-1) Fedora 40 (Clang) Kernel: Depends on container host Compiler: clang 18.1.8 (Fedora 18.1.8-1.fc40) openSUSE Leap 15 Kernel: Depends on container host Compiler: gcc (SUSE Linux) 7.5.0 RHEL8 Kernel: Depends on container host Compiler: gcc 8.5.0 20210514 (Red Hat 8.5.0-22) RHEL9 Kernel: Depends on container host Compiler: gcc 11.5.0 20240719 (Red Hat 11.5.0-2) Ubuntu 24.04 Kernel: Depends on container host Compiler: gcc (Ubuntu 13.3.0-6ubuntu2~24.04) 13.3.0 FreeBSD 14.2 Kernel: 14.2-RELEASE Compiler: clang 18.1.6 Ubuntu 22.04 Kernel: Depends on container host Compiler: gcc (Ubuntu 11.4.0-1ubuntu1~22.04) 11.4.0 Alpine Kernel: Depends on container host Compiler: gcc (Alpine 14.2.0) 14.2.0 FreeBSD 13.4 Kernel: 13.4-RELEASE-p1 Compiler: clang 18.1.6 Ubuntu 20.04 Kernel: Depends on container host Compiler: gcc (Ubuntu 9.4.0-1ubuntu1~20.04.2) 9.4.0 Fedora 40 Kernel: Depends on container host Compiler: gcc 14.2.1 20240912 (Red Hat 14.2.1-3) Debian 12 Kernel: Depends on container host Compiler: gcc (Debian 12.2.0-14) 12.2.0 Windows Server 2022 Kernel: 10.0.20348.2031 Compiler: clang 15.0.7, gcc 14.1.0 (MinGW), and MSVC VS 19.39.33521 To view detailed results, visit: https://lab.dpdk.org/results/dashboard/patchsets/32155/ UNH-IOL DPDK Community Lab To manage your email subscriptions, visit: https://lab.dpdk.org/results/dashboard/preferences/subscriptions/