From mboxrd@z Thu Jan 1 00:00:00 1970 Return-Path: Received: from mails.dpdk.org (mails.dpdk.org [217.70.189.124]) by inbox.dpdk.org (Postfix) with ESMTP id 99FFC461BF for ; Fri, 7 Feb 2025 21:02:21 +0100 (CET) Received: from mails.dpdk.org (localhost [127.0.0.1]) by mails.dpdk.org (Postfix) with ESMTP id 97ACF40290; Fri, 7 Feb 2025 21:02:21 +0100 (CET) Received: from mail-pl1-f226.google.com (mail-pl1-f226.google.com [209.85.214.226]) by mails.dpdk.org (Postfix) with ESMTP id 3E8D64026C for ; Fri, 7 Feb 2025 21:02:18 +0100 (CET) Received: by mail-pl1-f226.google.com with SMTP id d9443c01a7336-21f49837d36so24831915ad.3 for ; Fri, 07 Feb 2025 12:02:18 -0800 (PST) DKIM-Signature: v=1; a=rsa-sha256; c=relaxed/relaxed; d=iol.unh.edu; s=unh-iol; t=1738958537; x=1739563337; darn=dpdk.org; h=references:in-reply-to:cc:to:from:subject:message-id:date:from:to :cc:subject:date:message-id:reply-to; bh=C4i+7zO5vj4QBEg1gn1/yxkON1v7bFATtX5vdDJgZSU=; b=Vbg477a8Kyz9s+urfDbKTpc1wrVHBBxyDvJ8HyAvgBRAt5tH9UwBMgRMwH2yBHuvUe uEo//aIlvZRq2QwFJnxOpDPIaUj+xUbpfrd0Kj/s2keOY6S3oki0iWl8CY/s96opPYyL QaCXtDrPxbz4qufBO1PZBYcq2H1S0ZfdDnMZs= X-Google-DKIM-Signature: v=1; a=rsa-sha256; c=relaxed/relaxed; d=1e100.net; s=20230601; t=1738958537; x=1739563337; h=references:in-reply-to:cc:to:from:subject:message-id:date :x-gm-message-state:from:to:cc:subject:date:message-id:reply-to; bh=C4i+7zO5vj4QBEg1gn1/yxkON1v7bFATtX5vdDJgZSU=; b=F7CJc3vaTfmHTif2HJtVPs7KDptwlTrC5Bs7coCAoONSjRjBMB1ZC1FizsZyraMlo1 w5XPeIoyjP2zlp+x95hfAx7DW9as4ZM6YQPbcHJd47nuHX0KkxDtwIBT4ZGdHUVzw/gn uEU0oP0+XIrQn4vVaNQA/4q1SUrJM7nSwVLeHdM8AM6h0+auTGsSRUnyhITN/7+0ejfP eBY6wHieD2qVNZACwoGVzbLU4mv7enbvFkDnisbSBAbGaj2o/v68xWwyzpaHCwegSt1d H2ohWgDs/CDRW6TSePEj77Pe34Jh3QIKEmWpi5NpYCBL71sjPS1prbq4XyIn7LjdDhm9 Uixg== X-Gm-Message-State: AOJu0Yx4r1GHLX681fO/sp9Ez7CaJTs7TiI0Dq6IGZ3tHW3xa37iC/rt G0w9+zPUhj0ZhGg9rdZWzxw2JoPEwxI3/s5VZ5VbCaA2bfm2UCbDrd1J8cYaU2ZVDpPgUVqr7ne Mam5euUeswZuI3IxXb6giYWb90gswbc9juLwnGk9r X-Gm-Gg: ASbGncv5w1pQ/PBNScviYwnREAL5cEGRFw8D5JcCQfOCAR6VJHC85AfkjF0G2JFfKzK rixbWgK5ut+Tt/W/tNAR1RUUB4mffHmXWEcaqS8JQKBpa6fEXIP+ot1U9gp+NK8p14pV+mv9mUa ojg8YeoRDxJQDgsZ99aztJNCKPkbSe/q99touyYzC+KOjzCotQwHTVBVeCKnfiBnVpYHcFz7K8K AVNAQcLyfKUZ/al80EOfljP3VN1hJODREekYk2NwS3mikl+KByiF5rcbm1Ph6DBLf6DpSeMI2MS purJxG6n+TDkkqeWe/y/cyDns/dcTQ== X-Google-Smtp-Source: AGHT+IGzhZ+I58PzEXw/PUMpZbcrprQPDcgSCPXpCoXgeBWV6gHmDFBFOx3lXVb2S6Vl/E+qsZKBneXV9SqD X-Received: by 2002:a05:6a00:2289:b0:725:460e:6bc0 with SMTP id d2e1a72fcca58-7305d2ac0admr8280165b3a.0.1738958536028; Fri, 07 Feb 2025 12:02:16 -0800 (PST) Received: from postal.iol.unh.edu (postal.iol.unh.edu. [132.177.123.84]) by smtp-relay.gmail.com with ESMTPS id 41be03b00d2f7-ad51aecf457sm248101a12.9.2025.02.07.12.02.15 (version=TLS1_2 cipher=ECDHE-ECDSA-AES128-GCM-SHA256 bits=128/128); Fri, 07 Feb 2025 12:02:16 -0800 (PST) X-Relaying-Domain: iol.unh.edu Date: Fri, 07 Feb 2025 12:02:16 -0800 (PST) Message-ID: <67a666c8.630a0220.5cb2a.d949SMTPIN_ADDED_MISSING@mx.google.com> Received: from [172.21.0.14] (unknown [172.18.0.240]) by postal.iol.unh.edu (Postfix) with ESMTP id 4B2F36052483; Fri, 7 Feb 2025 15:01:45 -0500 (EST) Subject: |SUCCESS| pw149260-149264 [PATCH] [v2,5/5] eal/x86: defer power intr From: dpdklab@iol.unh.edu To: Test Report Cc: dpdk-test-reports@iol.unh.edu In-Reply-To: <20241217085954.3310414-6-david.marchand@redhat.com> References: <20241217085954.3310414-6-david.marchand@redhat.com> Content-Type: text/plain X-BeenThere: test-report@dpdk.org X-Mailman-Version: 2.1.29 Precedence: list List-Id: automatic DPDK test reports List-Unsubscribe: , List-Archive: List-Post: List-Help: List-Subscribe: , Errors-To: test-report-bounces@dpdk.org Test-Label: iol-compile-amd64-testing Test-Status: SUCCESS http://dpdk.org/patch/149264 _Testing PASS_ Submitter: David Marchand Date: Tuesday, December 17 2024 08:59:52 DPDK git baseline: Repo:dpdk Branch: master CommitID:7df61db6c387703a36306c1aea92225921e2eeb2 149260-149264 --> testing pass Test environment and result as below: +---------------------+--------------------+------------------+-------------------+-------------------+-------------------------+----------------------+ | Environment | dpdk_meson_compile | dpdk_compile_ovs | dpdk_compile_spdk | dpdk_msvc_compile | dpdk_llvm_clang_compile | dpdk_mingw64_compile | +=====================+====================+==================+===================+===================+=========================+======================+ | Fedora 39 (Clang) | PASS | PASS | PASS | SKIPPED | SKIPPED | SKIPPED | +---------------------+--------------------+------------------+-------------------+-------------------+-------------------------+----------------------+ | Fedora 39 | PASS | PASS | PASS | SKIPPED | SKIPPED | SKIPPED | +---------------------+--------------------+------------------+-------------------+-------------------+-------------------------+----------------------+ | Fedora 40 (Clang) | PASS | PASS | PASS | SKIPPED | SKIPPED | SKIPPED | +---------------------+--------------------+------------------+-------------------+-------------------+-------------------------+----------------------+ | openSUSE Leap 15 | PASS | SKIPPED | SKIPPED | SKIPPED | SKIPPED | SKIPPED | +---------------------+--------------------+------------------+-------------------+-------------------+-------------------------+----------------------+ | Ubuntu 22.04 | PASS | PASS | PASS | SKIPPED | SKIPPED | SKIPPED | +---------------------+--------------------+------------------+-------------------+-------------------+-------------------------+----------------------+ | Alpine | PASS | PASS | SKIPPED | SKIPPED | SKIPPED | SKIPPED | +---------------------+--------------------+------------------+-------------------+-------------------+-------------------------+----------------------+ | FreeBSD 13.4 | PASS | SKIPPED | SKIPPED | SKIPPED | SKIPPED | SKIPPED | +---------------------+--------------------+------------------+-------------------+-------------------+-------------------------+----------------------+ | FreeBSD 14.2 | PASS | SKIPPED | SKIPPED | SKIPPED | SKIPPED | SKIPPED | +---------------------+--------------------+------------------+-------------------+-------------------+-------------------------+----------------------+ | CentOS Stream 9 | PASS | PASS | PASS | SKIPPED | SKIPPED | SKIPPED | +---------------------+--------------------+------------------+-------------------+-------------------+-------------------------+----------------------+ | Fedora 40 | PASS | PASS | PASS | SKIPPED | SKIPPED | SKIPPED | +---------------------+--------------------+------------------+-------------------+-------------------+-------------------------+----------------------+ | RHEL9 | PASS | PASS | SKIPPED | SKIPPED | SKIPPED | SKIPPED | +---------------------+--------------------+------------------+-------------------+-------------------+-------------------------+----------------------+ | RHEL8 | PASS | PASS | SKIPPED | SKIPPED | SKIPPED | SKIPPED | +---------------------+--------------------+------------------+-------------------+-------------------+-------------------------+----------------------+ | Ubuntu 20.04 | PASS | SKIPPED | SKIPPED | SKIPPED | SKIPPED | SKIPPED | +---------------------+--------------------+------------------+-------------------+-------------------+-------------------------+----------------------+ | Ubuntu 24.04 | PASS | PASS | PASS | SKIPPED | SKIPPED | SKIPPED | +---------------------+--------------------+------------------+-------------------+-------------------+-------------------------+----------------------+ | Windows Server 2022 | SKIPPED | SKIPPED | SKIPPED | PASS | PASS | PASS | +---------------------+--------------------+------------------+-------------------+-------------------+-------------------------+----------------------+ Fedora 39 (Clang) Kernel: Depends on container host Compiler: clang 17.0.6 (Fedora 17.0.6-2.fc39) Fedora 39 Kernel: Depends on container host Compiler: gcc 13.3.1 20240522 (Red Hat 13.3.1-1) Fedora 40 (Clang) Kernel: Depends on container host Compiler: clang 18.1.8 (Fedora 18.1.8-1.fc40) openSUSE Leap 15 Kernel: Depends on container host Compiler: gcc (SUSE Linux) 7.5.0 Ubuntu 22.04 Kernel: Depends on container host Compiler: gcc (Ubuntu 11.4.0-1ubuntu1~22.04) 11.4.0 Alpine Kernel: Depends on container host Compiler: gcc (Alpine 14.2.0) 14.2.0 FreeBSD 13.4 Kernel: 13.4-RELEASE-p1 Compiler: clang 18.1.6 FreeBSD 14.2 Kernel: 14.2-RELEASE Compiler: clang 18.1.6 CentOS Stream 9 Kernel: Depends on container host Compiler: gcc 11.5.0 20240719 (Red Hat 11.5.0-2) Fedora 40 Kernel: Depends on container host Compiler: gcc 14.2.1 20240912 (Red Hat 14.2.1-3) RHEL9 Kernel: Depends on container host Compiler: gcc 11.5.0 20240719 (Red Hat 11.5.0-2) RHEL8 Kernel: Depends on container host Compiler: gcc 8.5.0 20210514 (Red Hat 8.5.0-22) Ubuntu 20.04 Kernel: Depends on container host Compiler: gcc (Ubuntu 9.4.0-1ubuntu1~20.04.2) 9.4.0 Ubuntu 24.04 Kernel: Depends on container host Compiler: gcc (Ubuntu 13.3.0-6ubuntu2~24.04) 13.3.0 Windows Server 2022 Kernel: 10.0.20348.2031 Compiler: clang 15.0.7, gcc 14.1.0 (MinGW), and MSVC VS 19.39.33521 To view detailed results, visit: https://lab.dpdk.org/results/dashboard/patchsets/32151/ UNH-IOL DPDK Community Lab To manage your email subscriptions, visit: https://lab.dpdk.org/results/dashboard/preferences/subscriptions/