From mboxrd@z Thu Jan 1 00:00:00 1970 Return-Path: Received: from mails.dpdk.org (mails.dpdk.org [217.70.189.124]) by inbox.dpdk.org (Postfix) with ESMTP id A4A98461BF for ; Fri, 7 Feb 2025 21:02:21 +0100 (CET) Received: from mails.dpdk.org (localhost [127.0.0.1]) by mails.dpdk.org (Postfix) with ESMTP id 9F0DB402B3; Fri, 7 Feb 2025 21:02:21 +0100 (CET) Received: from mail-pl1-f225.google.com (mail-pl1-f225.google.com [209.85.214.225]) by mails.dpdk.org (Postfix) with ESMTP id 37CC34026C for ; Fri, 7 Feb 2025 21:02:19 +0100 (CET) Received: by mail-pl1-f225.google.com with SMTP id d9443c01a7336-21670dce0a7so59310105ad.1 for ; Fri, 07 Feb 2025 12:02:19 -0800 (PST) DKIM-Signature: v=1; a=rsa-sha256; c=relaxed/relaxed; d=iol.unh.edu; s=unh-iol; t=1738958538; x=1739563338; darn=dpdk.org; h=cc:to:from:subject:message-id:date:from:to:cc:subject:date :message-id:reply-to; bh=aYQ6wjC9qliPw9I/gi7P7c8+pvxPNpZXl7KfIHWfB7k=; b=TK8SVdqA3XPZh0yRlr7lYlJ1fBbV0QzbQDYQ2Vkh9gYdutnozEdMdp5x5FveERHpgx AVlDwkbz2RuB9d+WC0lyCU/s5/5Q2EOERK2qruli/7EudhcRsvs3iT9YZ2nYkclz1JMx hxbpMikrvF3v7ggsZNkN4qHWLcWaWz4nsG/Jw= X-Google-DKIM-Signature: v=1; a=rsa-sha256; c=relaxed/relaxed; d=1e100.net; s=20230601; t=1738958538; x=1739563338; h=cc:to:from:subject:message-id:date:x-gm-message-state:from:to:cc :subject:date:message-id:reply-to; bh=aYQ6wjC9qliPw9I/gi7P7c8+pvxPNpZXl7KfIHWfB7k=; b=DNqIxt1JD8vHj+39ALpIDSJeVZ8yIHBKzfmA5KowRD0K4VkLOyZnBOF7/nguARUZNm LR8AASnfll8Pp8D91lGZc5QDGDeXz8ZXcGEFFmVfIrYZ9IdQbjJtfI3LKsVsdHY+UeWC KEn3kA4ObFhEgd4BibJEryOOq97zUNlhBWVjXkVrbJRFiV427G6aSRja6FHyBgg+en1D DAdXH7UzqbmnYDLgTLb5mXsSSVzNOfOryFd6dX163VD77wDDS+JNNzafddLBkK4il0+h +xtOzniZQVojzJ+NfKvuZk+ndwIalzfpE29uEyHC1Y2U5jrBKCs5Bw+xt+zT1hNzAalS eAbA== X-Gm-Message-State: AOJu0Ywp8h/nRdHV7e8TlR/kFs/D4XAwJE7qxJ8Odd9NmECCljMammgt 5RGdzya9G0UjuCOfAD66rThYa2F26Me+p+zWmi6NIbZ8C/l3DQdsdkch4xKnrxM6rQt7SyRdAAX jUTvlqFfEeHUs+FDM8vY4K8esFBzcJV8C X-Gm-Gg: ASbGncti05hgdreN0WZfeBuqKwLeufHiEkVQoeWY/q3FYFjr5EmGCwsjMuW8VYwMyh/ sniTr6a2fTM3KhersWE5i7kuEAYW34f3uDSZaGGRnKCNt23CZcuGqjZZRdPSeN5OsDpUx85shel Su0zP3aQyw1u6kHZEDg1ekWQQufoK6zmgCY8y5NwQShZyEXcVGMq0TjYQ2ioPs+cQT8XqlBDscs MeGxWJHy5PlKHAYTXhmCezEic+Eri/wg3cdwR661DwHNZ+IYC0GYbdJF0KDPnnaql5yKqhywaED JZbawVi29WMBPobjKB+kQio6iXa6Tw== X-Google-Smtp-Source: AGHT+IEK6A+E7xLT2JP50obieseYWXCow8e6cFpAQNXWSEoh6xxl/eUccoOiTs7DkYKGl3KHZtmTUvGM+AS2 X-Received: by 2002:a17:903:32cd:b0:21e:ff3a:7593 with SMTP id d9443c01a7336-21f4e6ce751mr48585595ad.6.1738958538470; Fri, 07 Feb 2025 12:02:18 -0800 (PST) Received: from postal.iol.unh.edu (postal.iol.unh.edu. [132.177.123.84]) by smtp-relay.gmail.com with ESMTPS id d9443c01a7336-21f36839894sm2220715ad.89.2025.02.07.12.02.18 (version=TLS1_2 cipher=ECDHE-ECDSA-AES128-GCM-SHA256 bits=128/128); Fri, 07 Feb 2025 12:02:18 -0800 (PST) X-Relaying-Domain: iol.unh.edu Date: Fri, 07 Feb 2025 12:02:18 -0800 (PST) Message-ID: <67a666ca.170a0220.3b6fe1.b72fSMTPIN_ADDED_MISSING@mx.google.com> Received: from [172.21.0.8] (unknown [172.18.0.240]) by postal.iol.unh.edu (Postfix) with ESMTP id A94A66052472; Fri, 7 Feb 2025 15:02:17 -0500 (EST) Subject: |SUCCESS| [GIT MASTER] 39bcde2d05afc0f904f906182be1e659b60ceeb7 From: dpdklab@iol.unh.edu To: Test Report Cc: dpdk-test-reports@iol.unh.edu, Xueming Li , Christian Ehrhardt , Kevin Traynor , Luca Boccassi Content-Type: text/plain X-BeenThere: test-report@dpdk.org X-Mailman-Version: 2.1.29 Precedence: list List-Id: automatic DPDK test reports List-Unsubscribe: , List-Archive: List-Post: List-Help: List-Subscribe: , Errors-To: test-report-bounces@dpdk.org _Testing PASS_ Branch: 23.11-staging 39bcde2d05afc0f904f906182be1e659b60ceeb7 --> testing pass Test environment and result as below: +---------------------+--------------------+------------------+-------------------+-------------------------+----------------------+ | Environment | dpdk_meson_compile | dpdk_compile_ovs | dpdk_compile_spdk | dpdk_llvm_clang_compile | dpdk_mingw64_compile | +=====================+====================+==================+===================+=========================+======================+ | Fedora 39 (Clang) | PASS | PASS | PASS | SKIPPED | SKIPPED | +---------------------+--------------------+------------------+-------------------+-------------------------+----------------------+ | Fedora 39 | PASS | PASS | PASS | SKIPPED | SKIPPED | +---------------------+--------------------+------------------+-------------------+-------------------------+----------------------+ | Fedora 40 | PASS | PASS | PASS | SKIPPED | SKIPPED | +---------------------+--------------------+------------------+-------------------+-------------------------+----------------------+ | openSUSE Leap 15 | PASS | SKIPPED | SKIPPED | SKIPPED | SKIPPED | +---------------------+--------------------+------------------+-------------------+-------------------------+----------------------+ | Ubuntu 20.04 | PASS | SKIPPED | SKIPPED | SKIPPED | SKIPPED | +---------------------+--------------------+------------------+-------------------+-------------------------+----------------------+ | Ubuntu 22.04 | PASS | PASS | PASS | SKIPPED | SKIPPED | +---------------------+--------------------+------------------+-------------------+-------------------------+----------------------+ | Ubuntu 24.04 | PASS | PASS | PASS | SKIPPED | SKIPPED | +---------------------+--------------------+------------------+-------------------+-------------------------+----------------------+ | Alpine | PASS | PASS | SKIPPED | SKIPPED | SKIPPED | +---------------------+--------------------+------------------+-------------------+-------------------------+----------------------+ | FreeBSD 13.4 | PASS | SKIPPED | SKIPPED | SKIPPED | SKIPPED | +---------------------+--------------------+------------------+-------------------+-------------------------+----------------------+ | Fedora 40 (Clang) | PASS | PASS | PASS | SKIPPED | SKIPPED | +---------------------+--------------------+------------------+-------------------+-------------------------+----------------------+ | RHEL8 | PASS | PASS | SKIPPED | SKIPPED | SKIPPED | +---------------------+--------------------+------------------+-------------------+-------------------------+----------------------+ | CentOS Stream 9 | PASS | PASS | PASS | SKIPPED | SKIPPED | +---------------------+--------------------+------------------+-------------------+-------------------------+----------------------+ | RHEL9 | PASS | PASS | SKIPPED | SKIPPED | SKIPPED | +---------------------+--------------------+------------------+-------------------+-------------------------+----------------------+ | Debian 12 | PASS | PASS | PASS | SKIPPED | SKIPPED | +---------------------+--------------------+------------------+-------------------+-------------------------+----------------------+ | FreeBSD 14.2 | PASS | SKIPPED | SKIPPED | SKIPPED | SKIPPED | +---------------------+--------------------+------------------+-------------------+-------------------------+----------------------+ | Windows Server 2022 | SKIPPED | SKIPPED | SKIPPED | PASS | PASS | +---------------------+--------------------+------------------+-------------------+-------------------------+----------------------+ Fedora 39 (Clang) Kernel: Depends on container host Compiler: clang 17.0.6 (Fedora 17.0.6-2.fc39) Fedora 39 Kernel: Depends on container host Compiler: gcc 13.3.1 20240522 (Red Hat 13.3.1-1) Fedora 40 Kernel: Depends on container host Compiler: gcc 14.2.1 20240912 (Red Hat 14.2.1-3) openSUSE Leap 15 Kernel: Depends on container host Compiler: gcc (SUSE Linux) 7.5.0 Ubuntu 20.04 Kernel: Depends on container host Compiler: gcc (Ubuntu 9.4.0-1ubuntu1~20.04.2) 9.4.0 Ubuntu 22.04 Kernel: Depends on container host Compiler: gcc (Ubuntu 11.4.0-1ubuntu1~22.04) 11.4.0 Ubuntu 24.04 Kernel: Depends on container host Compiler: gcc (Ubuntu 13.3.0-6ubuntu2~24.04) 13.3.0 Alpine Kernel: Depends on container host Compiler: gcc (Alpine 14.2.0) 14.2.0 FreeBSD 13.4 Kernel: 13.4-RELEASE-p1 Compiler: clang 18.1.6 Fedora 40 (Clang) Kernel: Depends on container host Compiler: clang 18.1.8 (Fedora 18.1.8-1.fc40) RHEL8 Kernel: Depends on container host Compiler: gcc 8.5.0 20210514 (Red Hat 8.5.0-22) CentOS Stream 9 Kernel: Depends on container host Compiler: gcc 11.5.0 20240719 (Red Hat 11.5.0-2) RHEL9 Kernel: Depends on container host Compiler: gcc 11.5.0 20240719 (Red Hat 11.5.0-2) Debian 12 Kernel: Depends on container host Compiler: gcc (Debian 12.2.0-14) 12.2.0 FreeBSD 14.2 Kernel: 14.2-RELEASE Compiler: clang 18.1.6 Windows Server 2022 Kernel: 10.0.20348.2031 Compiler: clang 15.0.7, gcc 14.1.0 (MinGW), and MSVC VS 19.39.33521 To view detailed results, visit: https://lab.dpdk.org/results/dashboard/tarballs/31961/ UNH-IOL DPDK Community Lab To manage your email subscriptions, visit: https://lab.dpdk.org/results/dashboard/preferences/subscriptions/