From: dpdklab@iol.unh.edu
To: Test Report <test-report@dpdk.org>
Cc: dpdk-test-reports@iol.unh.edu,
Stephen Hemminger <stephen@networkplumber.org>
Subject: |SUCCESS| [GIT MASTER] 78d0246a2e2fb14cba220d507192d12d2ce896ac
Date: Fri, 07 Feb 2025 12:02:23 -0800 (PST) [thread overview]
Message-ID: <67a666cf.170a0220.35b183.bd19SMTPIN_ADDED_MISSING@mx.google.com> (raw)
_Testing PASS_
Branch: dpdk-next-net
78d0246a2e2fb14cba220d507192d12d2ce896ac --> testing pass
Test environment and result as below:
+---------------------+--------------------+------------------+-------------------+-------------------+-------------------------+----------------------+
| Environment | dpdk_meson_compile | dpdk_compile_ovs | dpdk_compile_spdk | dpdk_msvc_compile | dpdk_llvm_clang_compile | dpdk_mingw64_compile |
+=====================+====================+==================+===================+===================+=========================+======================+
| Fedora 39 | PASS | PASS | PASS | SKIPPED | SKIPPED | SKIPPED |
+---------------------+--------------------+------------------+-------------------+-------------------+-------------------------+----------------------+
| Fedora 39 (Clang) | PASS | PASS | PASS | SKIPPED | SKIPPED | SKIPPED |
+---------------------+--------------------+------------------+-------------------+-------------------+-------------------------+----------------------+
| Fedora 40 (Clang) | PASS | PASS | PASS | SKIPPED | SKIPPED | SKIPPED |
+---------------------+--------------------+------------------+-------------------+-------------------+-------------------------+----------------------+
| openSUSE Leap 15 | PASS | SKIPPED | SKIPPED | SKIPPED | SKIPPED | SKIPPED |
+---------------------+--------------------+------------------+-------------------+-------------------+-------------------------+----------------------+
| Ubuntu 20.04 | PASS | SKIPPED | SKIPPED | SKIPPED | SKIPPED | SKIPPED |
+---------------------+--------------------+------------------+-------------------+-------------------+-------------------------+----------------------+
| Debian 12 | PASS | PASS | PASS | SKIPPED | SKIPPED | SKIPPED |
+---------------------+--------------------+------------------+-------------------+-------------------+-------------------------+----------------------+
| CentOS Stream 9 | PASS | PASS | PASS | SKIPPED | SKIPPED | SKIPPED |
+---------------------+--------------------+------------------+-------------------+-------------------+-------------------------+----------------------+
| Fedora 40 | PASS | PASS | PASS | SKIPPED | SKIPPED | SKIPPED |
+---------------------+--------------------+------------------+-------------------+-------------------+-------------------------+----------------------+
| FreeBSD 13.4 | PASS | SKIPPED | SKIPPED | SKIPPED | SKIPPED | SKIPPED |
+---------------------+--------------------+------------------+-------------------+-------------------+-------------------------+----------------------+
| Alpine | PASS | PASS | SKIPPED | SKIPPED | SKIPPED | SKIPPED |
+---------------------+--------------------+------------------+-------------------+-------------------+-------------------------+----------------------+
| Ubuntu 22.04 | PASS | PASS | PASS | SKIPPED | SKIPPED | SKIPPED |
+---------------------+--------------------+------------------+-------------------+-------------------+-------------------------+----------------------+
| Ubuntu 24.04 | PASS | PASS | PASS | SKIPPED | SKIPPED | SKIPPED |
+---------------------+--------------------+------------------+-------------------+-------------------+-------------------------+----------------------+
| RHEL9 | PASS | PASS | SKIPPED | SKIPPED | SKIPPED | SKIPPED |
+---------------------+--------------------+------------------+-------------------+-------------------+-------------------------+----------------------+
| RHEL8 | PASS | PASS | SKIPPED | SKIPPED | SKIPPED | SKIPPED |
+---------------------+--------------------+------------------+-------------------+-------------------+-------------------------+----------------------+
| Windows Server 2022 | SKIPPED | SKIPPED | SKIPPED | PASS | PASS | PASS |
+---------------------+--------------------+------------------+-------------------+-------------------+-------------------------+----------------------+
Fedora 39
Kernel: Depends on container host
Compiler: gcc 13.3.1 20240522 (Red Hat 13.3.1-1)
Fedora 39 (Clang)
Kernel: Depends on container host
Compiler: clang 17.0.6 (Fedora 17.0.6-2.fc39)
Fedora 40 (Clang)
Kernel: Depends on container host
Compiler: clang 18.1.8 (Fedora 18.1.8-1.fc40)
openSUSE Leap 15
Kernel: Depends on container host
Compiler: gcc (SUSE Linux) 7.5.0
Ubuntu 20.04
Kernel: Depends on container host
Compiler: gcc (Ubuntu 9.4.0-1ubuntu1~20.04.2) 9.4.0
Debian 12
Kernel: Depends on container host
Compiler: gcc (Debian 12.2.0-14) 12.2.0
CentOS Stream 9
Kernel: Depends on container host
Compiler: gcc 11.5.0 20240719 (Red Hat 11.5.0-2)
Fedora 40
Kernel: Depends on container host
Compiler: gcc 14.2.1 20240912 (Red Hat 14.2.1-3)
FreeBSD 13.4
Kernel: 13.4-RELEASE-p1
Compiler: clang 18.1.6
Alpine
Kernel: Depends on container host
Compiler: gcc (Alpine 14.2.0) 14.2.0
Ubuntu 22.04
Kernel: Depends on container host
Compiler: gcc (Ubuntu 11.4.0-1ubuntu1~22.04) 11.4.0
Ubuntu 24.04
Kernel: Depends on container host
Compiler: gcc (Ubuntu 13.3.0-6ubuntu2~24.04) 13.3.0
RHEL9
Kernel: Depends on container host
Compiler: gcc 11.5.0 20240719 (Red Hat 11.5.0-2)
RHEL8
Kernel: Depends on container host
Compiler: gcc 8.5.0 20210514 (Red Hat 8.5.0-22)
Windows Server 2022
Kernel: 10.0.20348.2031
Compiler: clang 15.0.7, gcc 14.1.0 (MinGW), and MSVC VS 19.39.33521
To view detailed results, visit:
https://lab.dpdk.org/results/dashboard/tarballs/31957/
UNH-IOL DPDK Community Lab
To manage your email subscriptions, visit:
https://lab.dpdk.org/results/dashboard/preferences/subscriptions/
next reply other threads:[~2025-02-07 20:02 UTC|newest]
Thread overview: 57+ messages / expand[flat|nested] mbox.gz Atom feed top
2025-02-07 20:02 dpdklab [this message]
-- strict thread matches above, loose matches on Subject: below --
2025-02-07 20:02 dpdklab
2025-02-07 20:01 dpdklab
2024-12-18 8:51 dpdklab
2024-12-18 6:49 dpdklab
2024-12-18 5:51 dpdklab
2024-12-18 3:17 dpdklab
2024-12-18 3:12 dpdklab
2024-12-18 3:11 dpdklab
2024-12-18 2:58 dpdklab
2024-12-18 2:55 dpdklab
2024-12-18 2:43 dpdklab
2024-12-18 1:10 dpdklab
2024-12-18 1:10 dpdklab
2024-12-18 0:31 dpdklab
2024-12-18 0:29 dpdklab
2024-12-18 0:10 dpdklab
2024-12-17 23:52 dpdklab
2024-12-17 23:22 dpdklab
2024-12-17 23:20 dpdklab
2024-12-17 23:04 dpdklab
2024-12-17 23:00 dpdklab
2024-12-17 22:55 dpdklab
2024-12-17 22:53 dpdklab
2024-12-17 22:50 dpdklab
2024-12-17 22:49 dpdklab
2024-12-17 22:40 dpdklab
2024-12-17 22:23 dpdklab
2024-12-17 22:20 dpdklab
2024-12-17 22:19 dpdklab
2024-12-17 22:13 dpdklab
2024-12-17 21:59 dpdklab
2024-12-17 21:54 dpdklab
2024-12-17 21:38 dpdklab
2024-12-17 21:37 dpdklab
2024-12-17 21:36 dpdklab
2024-12-17 21:35 dpdklab
2024-12-17 21:25 dpdklab
2024-12-17 13:16 dpdklab
2024-12-17 13:12 dpdklab
2024-12-17 12:21 dpdklab
2024-12-17 11:48 dpdklab
2024-12-17 11:34 dpdklab
2024-12-17 10:43 dpdklab
2024-12-17 10:41 dpdklab
2024-12-17 10:21 dpdklab
2024-12-17 10:20 dpdklab
2024-12-17 9:55 dpdklab
2024-12-17 9:53 dpdklab
2024-12-17 9:45 dpdklab
2024-12-17 9:44 dpdklab
2024-12-17 9:28 dpdklab
2024-12-17 9:25 dpdklab
2024-12-17 9:16 dpdklab
2024-12-17 8:51 dpdklab
2024-12-17 8:47 dpdklab
2024-12-17 8:44 dpdklab
Reply instructions:
You may reply publicly to this message via plain-text email
using any one of the following methods:
* Save the following mbox file, import it into your mail client,
and reply-to-all from there: mbox
Avoid top-posting and favor interleaved quoting:
https://en.wikipedia.org/wiki/Posting_style#Interleaved_style
* Reply using the --to, --cc, and --in-reply-to
switches of git-send-email(1):
git send-email \
--in-reply-to=67a666cf.170a0220.35b183.bd19SMTPIN_ADDED_MISSING@mx.google.com \
--to=dpdklab@iol.unh.edu \
--cc=dpdk-test-reports@iol.unh.edu \
--cc=stephen@networkplumber.org \
--cc=test-report@dpdk.org \
/path/to/YOUR_REPLY
https://kernel.org/pub/software/scm/git/docs/git-send-email.html
* If your mail client supports setting the In-Reply-To header
via mailto: links, try the mailto: link
Be sure your reply has a Subject: header at the top and a blank line
before the message body.
This is a public inbox, see mirroring instructions
for how to clone and mirror all data and code used for this inbox;
as well as URLs for NNTP newsgroup(s).