From mboxrd@z Thu Jan 1 00:00:00 1970 Return-Path: Received: from mails.dpdk.org (mails.dpdk.org [217.70.189.124]) by inbox.dpdk.org (Postfix) with ESMTP id B1D27461BF for ; Fri, 7 Feb 2025 21:02:25 +0100 (CET) Received: from mails.dpdk.org (localhost [127.0.0.1]) by mails.dpdk.org (Postfix) with ESMTP id AD81640290; Fri, 7 Feb 2025 21:02:25 +0100 (CET) Received: from mail-pl1-f226.google.com (mail-pl1-f226.google.com [209.85.214.226]) by mails.dpdk.org (Postfix) with ESMTP id B4F414026C for ; Fri, 7 Feb 2025 21:02:23 +0100 (CET) Received: by mail-pl1-f226.google.com with SMTP id d9443c01a7336-21f49bd087cso27432655ad.0 for ; Fri, 07 Feb 2025 12:02:23 -0800 (PST) DKIM-Signature: v=1; a=rsa-sha256; c=relaxed/relaxed; d=iol.unh.edu; s=unh-iol; t=1738958543; x=1739563343; darn=dpdk.org; h=cc:to:from:subject:message-id:date:from:to:cc:subject:date :message-id:reply-to; bh=+0/Tnw4tpPE60AuPFOGfrWBqz+TFTvSs66vS79Y+FtU=; b=YWTrAoSw3fkGfYbYIntWchQ3lmV5vla0a113JT4x07zqtJC90tZjYjnCOR4PUAGVSO YSW1MFNgibGSr5pwfILzlO5Kx8DiRAZg22gCrPIEqUB1Hh8bVSdVYEzW7ioAZldzM1eH 324DAcBHjaMWNTpswCeTcphKjSynHVL52GEGM= X-Google-DKIM-Signature: v=1; a=rsa-sha256; c=relaxed/relaxed; d=1e100.net; s=20230601; t=1738958543; x=1739563343; h=cc:to:from:subject:message-id:date:x-gm-message-state:from:to:cc :subject:date:message-id:reply-to; bh=+0/Tnw4tpPE60AuPFOGfrWBqz+TFTvSs66vS79Y+FtU=; b=F/zK8hn94s7CPDrV6cwXuYRel4s+9NqJS4ec7EwSKsE2b383H9o9Vaj/wJXqGCODrc DVICOp/WFX3LtpJqBhd0f6sqbltczMbGcC7JqvqpydSY9HJfTVHnk8XqGvGUu5i9wcm/ gpNaS/FHtYfCuBIkE1h//1I7QuH6Xz9jY2AtWZPtFSsf/zmiq+4zTQmcIK/yd9q2QF3w i4KR9hbB3Hi1beePIewlKaCeM554FcpLx4ngvkHoqgaHH9LpVjV9QRtcR4Qvb+3pfZb5 eaRXKdKrZU0w2IjJBSl+TyLrRfN6svc9TzX8FtC/lRseJIRuNAfEhOXY+GRCmOwckdBt xYYw== X-Gm-Message-State: AOJu0YxrTCj9/sgl+sBLAa2wrchSpYQraHuSA4Mx48jklPYKhJd+0iEW 3epkFNMkpMuezWpKWj/nZS5VaSjD4nUY5X/v+nMk7hbtvy+/7DVDkBNm+mrMTzvPHzCGVUjvcnW EHWnHafiBtsD6k74qLpHXhRu90aw7ulALcEhNUfCL X-Gm-Gg: ASbGnctULnIpZyL+E4wbgCwmBzl/IdsagacTPyYRfEXRH43F5ySkq4ioOS9QYAQK9Vs FWJpDxGo9kpSHpd3gur/8+DogHoaw7a4TT1s5j6JFsKaWGG+suE/79tgsbmglqgOMVvItEISnKe vFa1XSvZpMvdXGJP6jTESUPN90c5c6NUDOb2N+AYMbYHIo3ZsQw2L/V/KbfGPhvVlI4wV2raoBe Of+0WGwC7Bpr5vmDLmOSIfZ12Jzj4ZFzVTq7P5dQeJVvdO1Lk46egDVaMKVmSdkAVoUOTqdaDMT dFcy/C3KIS0z5bHSZzJkZ/kQbg/FiA== X-Google-Smtp-Source: AGHT+IHH1vMK9hAjgAJSO+0a3oxdYN5V/GT5Jax+Ike741aJlS2XXuZUmRL+ROoiUk0D7ZOV7movybepzsl9 X-Received: by 2002:a17:902:e802:b0:215:b473:1dc9 with SMTP id d9443c01a7336-21f4e763a2fmr78371305ad.46.1738958543058; Fri, 07 Feb 2025 12:02:23 -0800 (PST) Received: from postal.iol.unh.edu (postal.iol.unh.edu. [132.177.123.84]) by smtp-relay.gmail.com with ESMTPS id d9443c01a7336-21f365824f2sm2255325ad.57.2025.02.07.12.02.22 (version=TLS1_2 cipher=ECDHE-ECDSA-AES128-GCM-SHA256 bits=128/128); Fri, 07 Feb 2025 12:02:23 -0800 (PST) X-Relaying-Domain: iol.unh.edu Date: Fri, 07 Feb 2025 12:02:23 -0800 (PST) Message-ID: <67a666cf.170a0220.35b183.bd19SMTPIN_ADDED_MISSING@mx.google.com> Received: from [172.21.0.7] (unknown [172.18.0.240]) by postal.iol.unh.edu (Postfix) with ESMTP id 36E746052472; Fri, 7 Feb 2025 15:02:22 -0500 (EST) Subject: |SUCCESS| [GIT MASTER] 78d0246a2e2fb14cba220d507192d12d2ce896ac From: dpdklab@iol.unh.edu To: Test Report Cc: dpdk-test-reports@iol.unh.edu, Stephen Hemminger Content-Type: text/plain X-BeenThere: test-report@dpdk.org X-Mailman-Version: 2.1.29 Precedence: list List-Id: automatic DPDK test reports List-Unsubscribe: , List-Archive: List-Post: List-Help: List-Subscribe: , Errors-To: test-report-bounces@dpdk.org _Testing PASS_ Branch: dpdk-next-net 78d0246a2e2fb14cba220d507192d12d2ce896ac --> testing pass Test environment and result as below: +---------------------+--------------------+------------------+-------------------+-------------------+-------------------------+----------------------+ | Environment | dpdk_meson_compile | dpdk_compile_ovs | dpdk_compile_spdk | dpdk_msvc_compile | dpdk_llvm_clang_compile | dpdk_mingw64_compile | +=====================+====================+==================+===================+===================+=========================+======================+ | Fedora 39 | PASS | PASS | PASS | SKIPPED | SKIPPED | SKIPPED | +---------------------+--------------------+------------------+-------------------+-------------------+-------------------------+----------------------+ | Fedora 39 (Clang) | PASS | PASS | PASS | SKIPPED | SKIPPED | SKIPPED | +---------------------+--------------------+------------------+-------------------+-------------------+-------------------------+----------------------+ | Fedora 40 (Clang) | PASS | PASS | PASS | SKIPPED | SKIPPED | SKIPPED | +---------------------+--------------------+------------------+-------------------+-------------------+-------------------------+----------------------+ | openSUSE Leap 15 | PASS | SKIPPED | SKIPPED | SKIPPED | SKIPPED | SKIPPED | +---------------------+--------------------+------------------+-------------------+-------------------+-------------------------+----------------------+ | Ubuntu 20.04 | PASS | SKIPPED | SKIPPED | SKIPPED | SKIPPED | SKIPPED | +---------------------+--------------------+------------------+-------------------+-------------------+-------------------------+----------------------+ | Debian 12 | PASS | PASS | PASS | SKIPPED | SKIPPED | SKIPPED | +---------------------+--------------------+------------------+-------------------+-------------------+-------------------------+----------------------+ | CentOS Stream 9 | PASS | PASS | PASS | SKIPPED | SKIPPED | SKIPPED | +---------------------+--------------------+------------------+-------------------+-------------------+-------------------------+----------------------+ | Fedora 40 | PASS | PASS | PASS | SKIPPED | SKIPPED | SKIPPED | +---------------------+--------------------+------------------+-------------------+-------------------+-------------------------+----------------------+ | FreeBSD 13.4 | PASS | SKIPPED | SKIPPED | SKIPPED | SKIPPED | SKIPPED | +---------------------+--------------------+------------------+-------------------+-------------------+-------------------------+----------------------+ | Alpine | PASS | PASS | SKIPPED | SKIPPED | SKIPPED | SKIPPED | +---------------------+--------------------+------------------+-------------------+-------------------+-------------------------+----------------------+ | Ubuntu 22.04 | PASS | PASS | PASS | SKIPPED | SKIPPED | SKIPPED | +---------------------+--------------------+------------------+-------------------+-------------------+-------------------------+----------------------+ | Ubuntu 24.04 | PASS | PASS | PASS | SKIPPED | SKIPPED | SKIPPED | +---------------------+--------------------+------------------+-------------------+-------------------+-------------------------+----------------------+ | RHEL9 | PASS | PASS | SKIPPED | SKIPPED | SKIPPED | SKIPPED | +---------------------+--------------------+------------------+-------------------+-------------------+-------------------------+----------------------+ | RHEL8 | PASS | PASS | SKIPPED | SKIPPED | SKIPPED | SKIPPED | +---------------------+--------------------+------------------+-------------------+-------------------+-------------------------+----------------------+ | Windows Server 2022 | SKIPPED | SKIPPED | SKIPPED | PASS | PASS | PASS | +---------------------+--------------------+------------------+-------------------+-------------------+-------------------------+----------------------+ Fedora 39 Kernel: Depends on container host Compiler: gcc 13.3.1 20240522 (Red Hat 13.3.1-1) Fedora 39 (Clang) Kernel: Depends on container host Compiler: clang 17.0.6 (Fedora 17.0.6-2.fc39) Fedora 40 (Clang) Kernel: Depends on container host Compiler: clang 18.1.8 (Fedora 18.1.8-1.fc40) openSUSE Leap 15 Kernel: Depends on container host Compiler: gcc (SUSE Linux) 7.5.0 Ubuntu 20.04 Kernel: Depends on container host Compiler: gcc (Ubuntu 9.4.0-1ubuntu1~20.04.2) 9.4.0 Debian 12 Kernel: Depends on container host Compiler: gcc (Debian 12.2.0-14) 12.2.0 CentOS Stream 9 Kernel: Depends on container host Compiler: gcc 11.5.0 20240719 (Red Hat 11.5.0-2) Fedora 40 Kernel: Depends on container host Compiler: gcc 14.2.1 20240912 (Red Hat 14.2.1-3) FreeBSD 13.4 Kernel: 13.4-RELEASE-p1 Compiler: clang 18.1.6 Alpine Kernel: Depends on container host Compiler: gcc (Alpine 14.2.0) 14.2.0 Ubuntu 22.04 Kernel: Depends on container host Compiler: gcc (Ubuntu 11.4.0-1ubuntu1~22.04) 11.4.0 Ubuntu 24.04 Kernel: Depends on container host Compiler: gcc (Ubuntu 13.3.0-6ubuntu2~24.04) 13.3.0 RHEL9 Kernel: Depends on container host Compiler: gcc 11.5.0 20240719 (Red Hat 11.5.0-2) RHEL8 Kernel: Depends on container host Compiler: gcc 8.5.0 20210514 (Red Hat 8.5.0-22) Windows Server 2022 Kernel: 10.0.20348.2031 Compiler: clang 15.0.7, gcc 14.1.0 (MinGW), and MSVC VS 19.39.33521 To view detailed results, visit: https://lab.dpdk.org/results/dashboard/tarballs/31957/ UNH-IOL DPDK Community Lab To manage your email subscriptions, visit: https://lab.dpdk.org/results/dashboard/preferences/subscriptions/