From mboxrd@z Thu Jan 1 00:00:00 1970 Return-Path: Received: from mails.dpdk.org (mails.dpdk.org [217.70.189.124]) by inbox.dpdk.org (Postfix) with ESMTP id C42AA461BF for ; Fri, 7 Feb 2025 21:02:27 +0100 (CET) Received: from mails.dpdk.org (localhost [127.0.0.1]) by mails.dpdk.org (Postfix) with ESMTP id C0CB940290; Fri, 7 Feb 2025 21:02:27 +0100 (CET) Received: from mail-oi1-f228.google.com (mail-oi1-f228.google.com [209.85.167.228]) by mails.dpdk.org (Postfix) with ESMTP id 1B1E94026C for ; Fri, 7 Feb 2025 21:02:25 +0100 (CET) Received: by mail-oi1-f228.google.com with SMTP id 5614622812f47-3eb9de518e2so1275266b6e.2 for ; Fri, 07 Feb 2025 12:02:25 -0800 (PST) DKIM-Signature: v=1; a=rsa-sha256; c=relaxed/relaxed; d=iol.unh.edu; s=unh-iol; t=1738958544; x=1739563344; darn=dpdk.org; h=references:in-reply-to:cc:to:from:subject:message-id:date:from:to :cc:subject:date:message-id:reply-to; bh=9DPaQssRPCaWwgPOtckv95GqPvQ8XiWIqVBqgHIy2n8=; b=RvBYzFzPr4mXeki2Ok/FwI6+Z3j7yNc9qqXLBTfWu8zwrN1hi3ZfMry/4gOTR63nMK 04EyIvIn0tUXg2K7Ot2VPwbyuikKCkyf7J1phPMnjtM1vYy/L2WKjsC0ZuuOcy1IRJxh ESqTNcr7NYYkXNY9POkF0Y6++ATR0Ggcn1sgo= X-Google-DKIM-Signature: v=1; a=rsa-sha256; c=relaxed/relaxed; d=1e100.net; s=20230601; t=1738958544; x=1739563344; h=references:in-reply-to:cc:to:from:subject:message-id:date :x-gm-message-state:from:to:cc:subject:date:message-id:reply-to; bh=9DPaQssRPCaWwgPOtckv95GqPvQ8XiWIqVBqgHIy2n8=; b=YhhS33k9bt7Y3bfxzXOb3FlOoMwS2OzrnodBCx58yL6FhcP52UD32W+GPOWixZKste 3GA3ZMKy88t+h8651SGRU37vzIegcVcG0jTI9g4s0KG8I2wS3hSAZhqdD+5wmJaoCuAB 7GaQetyz/oztsnDeyMBxv9twJuu4wkpQivdEoxtuVTm1FfCiRSDkSEd7uBbuUZrgSY9z 07tWIzMss7bilNw6l4UT7SOCDiAmpKXI5eCGlt5M7dGlEA0Af6Z3qCq+aANdiuqXNWwS JGWNKCnCbm5TdUJ+NUWS3o0MzdnO5c/YIehVZ6HzAeQX/PAokgYd664Xg37h1tILtqlY jELQ== X-Gm-Message-State: AOJu0Yz0+bHY0BxkuU8b43P4FNkptkkHyyKGjepyVNJqO4v/F9V+PMQz OD8p2LVe/w9HA5b/2jp9jKwYEJ2OvC/CCtYdE5NVvwefRq2s/shBFSk3NM9Ofqlcfbk3k28ej// pd8H9s5HszakK58H3MjJxr5uQd01IBRi6espC/ywi X-Gm-Gg: ASbGncvDzmRHyCx0bLmZhi2W/q3fhomQGeQ4h4T+SA6et7cb1c8mR/8kT3INh4MPPiT 0dO1ARMwyxG4jMivH/dBLtBCBkRbCuzFqawHHlri8qJwvsW5USbVVWL6uRiRaWDJUBDF5QlIVBo BsNDGw/HqBYY5tUDbrkWKXQi5R/HA1tEBMBbepz/HAjDuiDgsHDgJvWu+ctJiaNHUMYsz3LcYC+ sksZdwie3WqWXS8kh61P4WrwdSkA1EZAjfxrD6KlH8qi/gsoEBPMBJ+27kvSU1ZDyqu72WR9yR6 fRcmw/bUm0MuazW03uJqjwloxaBjPg== X-Google-Smtp-Source: AGHT+IGBMb91nfTk6fwaFhOWmPF8de5h4VKdKIm37Yqnv1HzBtSdlLLN2245mhA4/lko2fx7QezB9KdfSvHH X-Received: by 2002:a05:6808:1812:b0:3eb:638d:5e28 with SMTP id 5614622812f47-3f3921e9a8amr3532896b6e.4.1738958544404; Fri, 07 Feb 2025 12:02:24 -0800 (PST) Received: from postal.iol.unh.edu (postal.iol.unh.edu. [132.177.123.84]) by smtp-relay.gmail.com with ESMTPS id 006d021491bc7-5fc544aa672sm137563eaf.3.2025.02.07.12.02.24 (version=TLS1_2 cipher=ECDHE-ECDSA-AES128-GCM-SHA256 bits=128/128); Fri, 07 Feb 2025 12:02:24 -0800 (PST) X-Relaying-Domain: iol.unh.edu Date: Fri, 07 Feb 2025 12:02:24 -0800 (PST) Message-ID: <67a666d0.050a0220.fd4bb.7302SMTPIN_ADDED_MISSING@mx.google.com> Received: from [172.21.0.6] (unknown [172.18.0.240]) by postal.iol.unh.edu (Postfix) with ESMTP id 0D0496052472; Fri, 7 Feb 2025 15:02:24 -0500 (EST) Subject: |SUCCESS| pw149284 [PATCH] net/virtio: fix Rx checksum calculation From: dpdklab@iol.unh.edu To: Test Report Cc: dpdk-test-reports@iol.unh.edu In-Reply-To: <20241217153253.457646-1-maxime.coquelin@redhat.com> References: <20241217153253.457646-1-maxime.coquelin@redhat.com> Content-Type: text/plain X-BeenThere: test-report@dpdk.org X-Mailman-Version: 2.1.29 Precedence: list List-Id: automatic DPDK test reports List-Unsubscribe: , List-Archive: List-Post: List-Help: List-Subscribe: , Errors-To: test-report-bounces@dpdk.org Test-Label: iol-compile-amd64-testing Test-Status: SUCCESS http://dpdk.org/patch/149284 _Testing PASS_ Submitter: Maxime Coquelin Date: Tuesday, December 17 2024 15:32:53 DPDK git baseline: Repo:dpdk Branch: master CommitID:510b460e02594a70d4ce19e2d29df3ade8af36d7 149284 --> testing pass Test environment and result as below: +---------------------+--------------------+------------------+-------------------+-------------------+-------------------------+----------------------+ | Environment | dpdk_meson_compile | dpdk_compile_ovs | dpdk_compile_spdk | dpdk_msvc_compile | dpdk_llvm_clang_compile | dpdk_mingw64_compile | +=====================+====================+==================+===================+===================+=========================+======================+ | CentOS Stream 9 | PASS | PASS | PASS | SKIPPED | SKIPPED | SKIPPED | +---------------------+--------------------+------------------+-------------------+-------------------+-------------------------+----------------------+ | Debian 12 | PASS | PASS | PASS | SKIPPED | SKIPPED | SKIPPED | +---------------------+--------------------+------------------+-------------------+-------------------+-------------------------+----------------------+ | Fedora 39 (Clang) | PASS | PASS | PASS | SKIPPED | SKIPPED | SKIPPED | +---------------------+--------------------+------------------+-------------------+-------------------+-------------------------+----------------------+ | Fedora 40 | PASS | PASS | PASS | SKIPPED | SKIPPED | SKIPPED | +---------------------+--------------------+------------------+-------------------+-------------------+-------------------------+----------------------+ | RHEL9 | PASS | PASS | SKIPPED | SKIPPED | SKIPPED | SKIPPED | +---------------------+--------------------+------------------+-------------------+-------------------+-------------------------+----------------------+ | Ubuntu 20.04 | PASS | SKIPPED | SKIPPED | SKIPPED | SKIPPED | SKIPPED | +---------------------+--------------------+------------------+-------------------+-------------------+-------------------------+----------------------+ | Ubuntu 22.04 | PASS | PASS | PASS | SKIPPED | SKIPPED | SKIPPED | +---------------------+--------------------+------------------+-------------------+-------------------+-------------------------+----------------------+ | Alpine | PASS | PASS | SKIPPED | SKIPPED | SKIPPED | SKIPPED | +---------------------+--------------------+------------------+-------------------+-------------------+-------------------------+----------------------+ | FreeBSD 13.4 | PASS | SKIPPED | SKIPPED | SKIPPED | SKIPPED | SKIPPED | +---------------------+--------------------+------------------+-------------------+-------------------+-------------------------+----------------------+ | FreeBSD 14.2 | PASS | SKIPPED | SKIPPED | SKIPPED | SKIPPED | SKIPPED | +---------------------+--------------------+------------------+-------------------+-------------------+-------------------------+----------------------+ | Fedora 39 | PASS | PASS | PASS | SKIPPED | SKIPPED | SKIPPED | +---------------------+--------------------+------------------+-------------------+-------------------+-------------------------+----------------------+ | openSUSE Leap 15 | PASS | SKIPPED | SKIPPED | SKIPPED | SKIPPED | SKIPPED | +---------------------+--------------------+------------------+-------------------+-------------------+-------------------------+----------------------+ | Windows Server 2022 | SKIPPED | SKIPPED | SKIPPED | PASS | PASS | PASS | +---------------------+--------------------+------------------+-------------------+-------------------+-------------------------+----------------------+ CentOS Stream 9 Kernel: Depends on container host Compiler: gcc 11.5.0 20240719 (Red Hat 11.5.0-2) Debian 12 Kernel: Depends on container host Compiler: gcc (Debian 12.2.0-14) 12.2.0 Fedora 39 (Clang) Kernel: Depends on container host Compiler: clang 17.0.6 (Fedora 17.0.6-2.fc39) Fedora 40 Kernel: Depends on container host Compiler: gcc 14.2.1 20240912 (Red Hat 14.2.1-3) RHEL9 Kernel: Depends on container host Compiler: gcc 11.5.0 20240719 (Red Hat 11.5.0-2) Ubuntu 20.04 Kernel: Depends on container host Compiler: gcc (Ubuntu 9.4.0-1ubuntu1~20.04.2) 9.4.0 Ubuntu 22.04 Kernel: Depends on container host Compiler: gcc (Ubuntu 11.4.0-1ubuntu1~22.04) 11.4.0 Alpine Kernel: Depends on container host Compiler: gcc (Alpine 14.2.0) 14.2.0 FreeBSD 13.4 Kernel: 13.4-RELEASE-p1 Compiler: clang 18.1.6 FreeBSD 14.2 Kernel: 14.2-RELEASE Compiler: clang 18.1.6 Fedora 39 Kernel: Depends on container host Compiler: gcc 13.3.1 20240522 (Red Hat 13.3.1-1) openSUSE Leap 15 Kernel: Depends on container host Compiler: gcc (SUSE Linux) 7.5.0 Windows Server 2022 Kernel: 10.0.20348.2031 Compiler: clang 15.0.7, gcc 14.1.0 (MinGW), and MSVC VS 19.39.33521 To view detailed results, visit: https://lab.dpdk.org/results/dashboard/patchsets/32153/ UNH-IOL DPDK Community Lab To manage your email subscriptions, visit: https://lab.dpdk.org/results/dashboard/preferences/subscriptions/