From mboxrd@z Thu Jan 1 00:00:00 1970 Return-Path: Received: from mails.dpdk.org (mails.dpdk.org [217.70.189.124]) by inbox.dpdk.org (Postfix) with ESMTP id DE22A461BF for ; Fri, 7 Feb 2025 21:02:35 +0100 (CET) Received: from mails.dpdk.org (localhost [127.0.0.1]) by mails.dpdk.org (Postfix) with ESMTP id D7C9D40290; Fri, 7 Feb 2025 21:02:35 +0100 (CET) Received: from mail-pj1-f97.google.com (mail-pj1-f97.google.com [209.85.216.97]) by mails.dpdk.org (Postfix) with ESMTP id DEA044026C for ; Fri, 7 Feb 2025 21:02:34 +0100 (CET) Received: by mail-pj1-f97.google.com with SMTP id 98e67ed59e1d1-2f44353649aso3694867a91.0 for ; Fri, 07 Feb 2025 12:02:34 -0800 (PST) DKIM-Signature: v=1; a=rsa-sha256; c=relaxed/relaxed; d=iol.unh.edu; s=unh-iol; t=1738958554; x=1739563354; darn=dpdk.org; h=cc:to:from:subject:message-id:date:from:to:cc:subject:date :message-id:reply-to; bh=b/0s/vCDJruv9ZhA6c9hH2gAPwYf8yHBUZiJ8/K+8to=; b=huzkferxcsZ4X2XgYHfT9iQ8aF0UGvggxkfEvHAZt74DueqOvx0XC8wMHiC2zD2mp+ c0Um+pwnKGhyRiqM20ibo6qnmocHJrfqzmxKdT8IFoJ/XzEwVbjvJmbEdxy9z2i+fUbF 3fZ9lyxdfwIJIBT07H2ZGGN9pw4S8KKe8Q8VM= X-Google-DKIM-Signature: v=1; a=rsa-sha256; c=relaxed/relaxed; d=1e100.net; s=20230601; t=1738958554; x=1739563354; h=cc:to:from:subject:message-id:date:x-gm-message-state:from:to:cc :subject:date:message-id:reply-to; bh=b/0s/vCDJruv9ZhA6c9hH2gAPwYf8yHBUZiJ8/K+8to=; b=I2EpDPNUox4CeeAWmPW/PoveMofNMm14+SkH871fAYp+dRTGVA5YUdgm4gBw2M+xA3 SLSTPw7INDUer54+uU2aO4oVYxk9QoAjKWKRSHvtcIIuRhQss3+up1R60iuQ4ULJyI+Z cjpiikHzHUpXhWiLCPxAcLlsLeBTzPx5aZyWHEBj6FxrHuIUnQMaPo8/G8juan6BC7U+ 7BgqqFSOwAImzFr7M8Cds1Y9Zvf0HUp/FvAK7j5J0jn1GSsWyOzJJzfOhTaJMCM+n2q1 q2i4pYLCEbYAiu59fSWI70URjVZ3Ap+Jqbi4twRuoXI5rEHBlYpbYtkdXEKdeQnbV8Lk f2tA== X-Gm-Message-State: AOJu0YyryvL+22DFqwU+1/HMmOhkNqKE7XvR51cah1S63QCYI/yo9i37 DAJkGh2tgva4/jWFT0rcjQJBrGwsaWGryiNKHdO+17oEyzMXhkEWFB4UhZzeAxiN2HBTe0DmWln A5fxLzplVtlKt7JgHBOQpOrPP472CDcw7 X-Gm-Gg: ASbGncsBqmRABWAhDu8Rm4b4fCq829MuoMRvoj/yHHKVhpQjwvIbohPueYhqHSmSqy3 +0bfZTMyGD/MYChM748H7UJGf3a4m7smceknwoWBgHuq6PyO3XYniMyXcZV56CGwRsDpSHfgXKn Bz1KDQExqo6ihKwOqOImxaKB/MqkktHnk4NyVnXAB593O8O2yKXIpAiN7L8+kgQIZTt7s7teey3 KaaBa+EKDkj80JAXY14y6hNbm/1s3ViQ/u4WOIwXp85M0ZtfxsXUDxGQI79b41rVIljRqJaO/ek DGfq34I2cuPxLmZJIPAY8sem/WgGwg== X-Google-Smtp-Source: AGHT+IEGPeWGvbpdwwdXzOexLZBTsZmwEe4Uz14MT+ccAqFV3iDJTbR4pRj+LoGqEBK/vVqjezIhy69imnAA X-Received: by 2002:a17:90a:da87:b0:2f7:7680:51a6 with SMTP id 98e67ed59e1d1-2fa23f5eb94mr5780004a91.6.1738958553488; Fri, 07 Feb 2025 12:02:33 -0800 (PST) Received: from postal.iol.unh.edu (postal.iol.unh.edu. [132.177.123.84]) by smtp-relay.gmail.com with ESMTPS id d9443c01a7336-21f3689047dsm2208625ad.120.2025.02.07.12.02.33 (version=TLS1_2 cipher=ECDHE-ECDSA-AES128-GCM-SHA256 bits=128/128); Fri, 07 Feb 2025 12:02:33 -0800 (PST) X-Relaying-Domain: iol.unh.edu Date: Fri, 07 Feb 2025 12:02:33 -0800 (PST) Message-ID: <67a666d9.170a0220.2f6cff.b60dSMTPIN_ADDED_MISSING@mx.google.com> Received: from [172.21.0.9] (unknown [172.18.0.240]) by postal.iol.unh.edu (Postfix) with ESMTP id 9E8EE6052472; Fri, 7 Feb 2025 15:02:32 -0500 (EST) Subject: |SUCCESS| [GIT MASTER] 39bcde2d05afc0f904f906182be1e659b60ceeb7 From: dpdklab@iol.unh.edu To: Test Report Cc: dpdk-test-reports@iol.unh.edu, Xueming Li , Christian Ehrhardt , Kevin Traynor , Luca Boccassi Content-Type: text/plain X-BeenThere: test-report@dpdk.org X-Mailman-Version: 2.1.29 Precedence: list List-Id: automatic DPDK test reports List-Unsubscribe: , List-Archive: List-Post: List-Help: List-Subscribe: , Errors-To: test-report-bounces@dpdk.org _Testing PASS_ Branch: tags/v23.11 39bcde2d05afc0f904f906182be1e659b60ceeb7 --> testing pass Test environment and result as below: +---------------------+--------------------+------------------+-------------------+-------------------------+----------------------+ | Environment | dpdk_meson_compile | dpdk_compile_ovs | dpdk_compile_spdk | dpdk_llvm_clang_compile | dpdk_mingw64_compile | +=====================+====================+==================+===================+=========================+======================+ | CentOS Stream 9 | PASS | PASS | PASS | SKIPPED | SKIPPED | +---------------------+--------------------+------------------+-------------------+-------------------------+----------------------+ | Debian 12 | PASS | PASS | PASS | SKIPPED | SKIPPED | +---------------------+--------------------+------------------+-------------------+-------------------------+----------------------+ | Fedora 39 (Clang) | PASS | PASS | PASS | SKIPPED | SKIPPED | +---------------------+--------------------+------------------+-------------------+-------------------------+----------------------+ | Fedora 39 | PASS | PASS | PASS | SKIPPED | SKIPPED | +---------------------+--------------------+------------------+-------------------+-------------------------+----------------------+ | Fedora 40 | PASS | PASS | PASS | SKIPPED | SKIPPED | +---------------------+--------------------+------------------+-------------------+-------------------------+----------------------+ | RHEL8 | PASS | PASS | SKIPPED | SKIPPED | SKIPPED | +---------------------+--------------------+------------------+-------------------+-------------------------+----------------------+ | RHEL9 | PASS | PASS | SKIPPED | SKIPPED | SKIPPED | +---------------------+--------------------+------------------+-------------------+-------------------------+----------------------+ | Ubuntu 20.04 | PASS | SKIPPED | SKIPPED | SKIPPED | SKIPPED | +---------------------+--------------------+------------------+-------------------+-------------------------+----------------------+ | Ubuntu 22.04 | PASS | PASS | PASS | SKIPPED | SKIPPED | +---------------------+--------------------+------------------+-------------------+-------------------------+----------------------+ | Ubuntu 24.04 | PASS | PASS | PASS | SKIPPED | SKIPPED | +---------------------+--------------------+------------------+-------------------+-------------------------+----------------------+ | Alpine | PASS | PASS | SKIPPED | SKIPPED | SKIPPED | +---------------------+--------------------+------------------+-------------------+-------------------------+----------------------+ | FreeBSD 13.4 | PASS | SKIPPED | SKIPPED | SKIPPED | SKIPPED | +---------------------+--------------------+------------------+-------------------+-------------------------+----------------------+ | FreeBSD 14.2 | PASS | SKIPPED | SKIPPED | SKIPPED | SKIPPED | +---------------------+--------------------+------------------+-------------------+-------------------------+----------------------+ | Fedora 40 (Clang) | PASS | PASS | PASS | SKIPPED | SKIPPED | +---------------------+--------------------+------------------+-------------------+-------------------------+----------------------+ | openSUSE Leap 15 | PASS | SKIPPED | SKIPPED | SKIPPED | SKIPPED | +---------------------+--------------------+------------------+-------------------+-------------------------+----------------------+ | Windows Server 2022 | SKIPPED | SKIPPED | SKIPPED | PASS | PASS | +---------------------+--------------------+------------------+-------------------+-------------------------+----------------------+ CentOS Stream 9 Kernel: Depends on container host Compiler: gcc 11.5.0 20240719 (Red Hat 11.5.0-2) Debian 12 Kernel: Depends on container host Compiler: gcc (Debian 12.2.0-14) 12.2.0 Fedora 39 (Clang) Kernel: Depends on container host Compiler: clang 17.0.6 (Fedora 17.0.6-2.fc39) Fedora 39 Kernel: Depends on container host Compiler: gcc 13.3.1 20240522 (Red Hat 13.3.1-1) Fedora 40 Kernel: Depends on container host Compiler: gcc 14.2.1 20240912 (Red Hat 14.2.1-3) RHEL8 Kernel: Depends on container host Compiler: gcc 8.5.0 20210514 (Red Hat 8.5.0-22) RHEL9 Kernel: Depends on container host Compiler: gcc 11.5.0 20240719 (Red Hat 11.5.0-2) Ubuntu 20.04 Kernel: Depends on container host Compiler: gcc (Ubuntu 9.4.0-1ubuntu1~20.04.2) 9.4.0 Ubuntu 22.04 Kernel: Depends on container host Compiler: gcc (Ubuntu 11.4.0-1ubuntu1~22.04) 11.4.0 Ubuntu 24.04 Kernel: Depends on container host Compiler: gcc (Ubuntu 13.3.0-6ubuntu2~24.04) 13.3.0 Alpine Kernel: Depends on container host Compiler: gcc (Alpine 14.2.0) 14.2.0 FreeBSD 13.4 Kernel: 13.4-RELEASE-p1 Compiler: clang 18.1.6 FreeBSD 14.2 Kernel: 14.2-RELEASE Compiler: clang 18.1.6 Fedora 40 (Clang) Kernel: Depends on container host Compiler: clang 18.1.8 (Fedora 18.1.8-1.fc40) openSUSE Leap 15 Kernel: Depends on container host Compiler: gcc (SUSE Linux) 7.5.0 Windows Server 2022 Kernel: 10.0.20348.2031 Compiler: clang 15.0.7, gcc 14.1.0 (MinGW), and MSVC VS 19.39.33521 To view detailed results, visit: https://lab.dpdk.org/results/dashboard/tarballs/31938/ UNH-IOL DPDK Community Lab To manage your email subscriptions, visit: https://lab.dpdk.org/results/dashboard/preferences/subscriptions/