From mboxrd@z Thu Jan 1 00:00:00 1970 Return-Path: Received: from mails.dpdk.org (mails.dpdk.org [217.70.189.124]) by inbox.dpdk.org (Postfix) with ESMTP id 02A14461BF for ; Fri, 7 Feb 2025 21:02:39 +0100 (CET) Received: from mails.dpdk.org (localhost [127.0.0.1]) by mails.dpdk.org (Postfix) with ESMTP id EE19640290; Fri, 7 Feb 2025 21:02:38 +0100 (CET) Received: from mail-qv1-f98.google.com (mail-qv1-f98.google.com [209.85.219.98]) by mails.dpdk.org (Postfix) with ESMTP id 682BF4026C for ; Fri, 7 Feb 2025 21:02:36 +0100 (CET) Received: by mail-qv1-f98.google.com with SMTP id 6a1803df08f44-6dcdd9a3e54so23978336d6.3 for ; Fri, 07 Feb 2025 12:02:36 -0800 (PST) DKIM-Signature: v=1; a=rsa-sha256; c=relaxed/relaxed; d=iol.unh.edu; s=unh-iol; t=1738958556; x=1739563356; darn=dpdk.org; h=references:in-reply-to:cc:to:from:subject:message-id:date:from:to :cc:subject:date:message-id:reply-to; bh=I5UVGJmzeN6KcgmW6US4ybCIg8+0NgNZJjYF3eQ7UIU=; b=Wfxs/ghIT/2kIFLuLhAn8yqRIdbrVK426bxwldh8JpFwXQYI8tSlSlDheB6Mpx1NaE bIFZ8NKH+w8HwJzeYcEN40y8kqN2LHfmdXXpa8lrNVACqCUNE/4IoC1/XXS5zMEhMif5 MS4rUsY+F1xIPHasNxjjU7t4H0YtZPIuqTyFk= X-Google-DKIM-Signature: v=1; a=rsa-sha256; c=relaxed/relaxed; d=1e100.net; s=20230601; t=1738958556; x=1739563356; h=references:in-reply-to:cc:to:from:subject:message-id:date :x-gm-message-state:from:to:cc:subject:date:message-id:reply-to; bh=I5UVGJmzeN6KcgmW6US4ybCIg8+0NgNZJjYF3eQ7UIU=; b=OKwAuU2bMm8mTr058ta+0xZSywQ12adGd0GcUN7ll+NRoa1ZmYkerKB0xRFTCqhRdw Bu2pWzKRRA9O7UuM5vuOEA0zJeOdHJFVb+5Syfg4HR+RF+HZJjc04MqU8G5ypTcfYEhe Sz6KlROxnveFpwrmi+fCTi712hUcq7wt4lVYLaiRnN5b4r8C2xvetKeraaXc/oD/Lhzy XQiOug3NE8zt50cSYLZUBghxXSJ3DhDVgW57GyV6jTFJkJgGiFzruyjmbZ0/rcg5EESl kkt7gqsU2w4QU9PPBgg+tvy7rdnuMw7L1RcL7h8LINqS8B0YjZfi87yqgBDQc5y9jtwr BNJA== X-Gm-Message-State: AOJu0YyTDsDbZbdl9avD68ewxPthu1ygm7OQ+FqVSqCkr0N/xDEJ2RDI lapU2oA12QVdHQqQ8bgguhFK+XSQwMpD6HYvhMM3WE8Us1KKBHDNygIUT434+Ue4KycejkLbu+H 3kLVmRYsIpg0BVc2+3eHimW69yxGzz25uaR2PJ0VH X-Gm-Gg: ASbGncsdjzfQHg5AFipZyUEblP0FxoS6upSx8JuudjOUeWoWd1M4ayDuML+xy2Y3PsH QcebiGu7Nsi5IeC4PAQ32p9m8ICQWvjJCytb9fHMy+iEYEZFYuJzfG2oHXWHRiX2n43tBYhGzLG qs+QO06jIRvY+LUhQS6bc9dKVLvU5eJE8YrshvVVW2vFCRYDBlT1MsVoT9Qk7fWZS9aRFwukjd6 HzdcXH7YbBazl3wIvaSckWmKmOKqZxaCLV+Po7rChWoq0EkEk+ea6xKR011F0leep9T0CaVX7Sq kKkLk+Kbz8eIZSmcVShHHfgQ8VWQvA== X-Google-Smtp-Source: AGHT+IFODFv4+7wqnuGq5cCxwEj+eK+nR6pshTfsmG66SWDtMiAswE2pE/xG7Frk8rc9r1tMeqOWnuaPObXZ X-Received: by 2002:a05:6214:1bcc:b0:6d4:27fd:a99d with SMTP id 6a1803df08f44-6e44564bad9mr75900996d6.19.1738958555874; Fri, 07 Feb 2025 12:02:35 -0800 (PST) Received: from postal.iol.unh.edu (postal.iol.unh.edu. [132.177.123.84]) by smtp-relay.gmail.com with ESMTPS id 6a1803df08f44-6e43bb1b5eesm2263736d6.66.2025.02.07.12.02.35 (version=TLS1_2 cipher=ECDHE-ECDSA-AES128-GCM-SHA256 bits=128/128); Fri, 07 Feb 2025 12:02:35 -0800 (PST) X-Relaying-Domain: iol.unh.edu Date: Fri, 07 Feb 2025 12:02:35 -0800 (PST) Message-ID: <67a666db.050a0220.7c324.bf42SMTPIN_ADDED_MISSING@mx.google.com> Received: from [172.21.0.12] (unknown [172.18.0.240]) by postal.iol.unh.edu (Postfix) with ESMTP id 9E5146052477; Fri, 7 Feb 2025 15:02:35 -0500 (EST) Subject: |SUCCESS| pw149187-149194 [PATCH] [v2,14/14] drivers/vdpa: use porta From: dpdklab@iol.unh.edu To: Test Report Cc: dpdk-test-reports@iol.unh.edu In-Reply-To: <1733954844-24397-15-git-send-email-andremue@linux.microsoft.com> References: <1733954844-24397-15-git-send-email-andremue@linux.microsoft.com> Content-Type: text/plain X-BeenThere: test-report@dpdk.org X-Mailman-Version: 2.1.29 Precedence: list List-Id: automatic DPDK test reports List-Unsubscribe: , List-Archive: List-Post: List-Help: List-Subscribe: , Errors-To: test-report-bounces@dpdk.org Test-Label: iol-compile-amd64-testing Test-Status: SUCCESS http://dpdk.org/patch/149194 _Testing PASS_ Submitter: Andre Muezerie Date: Wednesday, December 11 2024 22:07:24 DPDK git baseline: Repo:dpdk Branch: master CommitID:7df61db6c387703a36306c1aea92225921e2eeb2 149187-149194 --> testing pass Test environment and result as below: +---------------------+--------------------+------------------+-------------------+-------------------------+----------------------+ | Environment | dpdk_meson_compile | dpdk_compile_ovs | dpdk_compile_spdk | dpdk_llvm_clang_compile | dpdk_mingw64_compile | +=====================+====================+==================+===================+=========================+======================+ | CentOS Stream 9 | PASS | PASS | PASS | SKIPPED | SKIPPED | +---------------------+--------------------+------------------+-------------------+-------------------------+----------------------+ | Debian 12 | PASS | PASS | PASS | SKIPPED | SKIPPED | +---------------------+--------------------+------------------+-------------------+-------------------------+----------------------+ | Fedora 39 (Clang) | PASS | PASS | PASS | SKIPPED | SKIPPED | +---------------------+--------------------+------------------+-------------------+-------------------------+----------------------+ | Fedora 39 | PASS | PASS | PASS | SKIPPED | SKIPPED | +---------------------+--------------------+------------------+-------------------+-------------------------+----------------------+ | Fedora 40 (Clang) | PASS | PASS | PASS | SKIPPED | SKIPPED | +---------------------+--------------------+------------------+-------------------+-------------------------+----------------------+ | Fedora 40 | PASS | PASS | PASS | SKIPPED | SKIPPED | +---------------------+--------------------+------------------+-------------------+-------------------------+----------------------+ | RHEL8 | PASS | PASS | SKIPPED | SKIPPED | SKIPPED | +---------------------+--------------------+------------------+-------------------+-------------------------+----------------------+ | Ubuntu 20.04 | PASS | SKIPPED | SKIPPED | SKIPPED | SKIPPED | +---------------------+--------------------+------------------+-------------------+-------------------------+----------------------+ | openSUSE Leap 15 | PASS | SKIPPED | SKIPPED | SKIPPED | SKIPPED | +---------------------+--------------------+------------------+-------------------+-------------------------+----------------------+ | Ubuntu 24.04 | PASS | PASS | PASS | SKIPPED | SKIPPED | +---------------------+--------------------+------------------+-------------------+-------------------------+----------------------+ | Ubuntu 22.04 | PASS | PASS | PASS | SKIPPED | SKIPPED | +---------------------+--------------------+------------------+-------------------+-------------------------+----------------------+ | Alpine | PASS | PASS | SKIPPED | SKIPPED | SKIPPED | +---------------------+--------------------+------------------+-------------------+-------------------------+----------------------+ | FreeBSD 13.4 | PASS | SKIPPED | SKIPPED | SKIPPED | SKIPPED | +---------------------+--------------------+------------------+-------------------+-------------------------+----------------------+ | FreeBSD 14.2 | PASS | SKIPPED | SKIPPED | SKIPPED | SKIPPED | +---------------------+--------------------+------------------+-------------------+-------------------------+----------------------+ | RHEL9 | PASS | PASS | SKIPPED | SKIPPED | SKIPPED | +---------------------+--------------------+------------------+-------------------+-------------------------+----------------------+ | Windows Server 2022 | SKIPPED | SKIPPED | SKIPPED | PASS | PASS | +---------------------+--------------------+------------------+-------------------+-------------------------+----------------------+ CentOS Stream 9 Kernel: Depends on container host Compiler: gcc 11.5.0 20240719 (Red Hat 11.5.0-2) Debian 12 Kernel: Depends on container host Compiler: gcc (Debian 12.2.0-14) 12.2.0 Fedora 39 (Clang) Kernel: Depends on container host Compiler: clang 17.0.6 (Fedora 17.0.6-2.fc39) Fedora 39 Kernel: Depends on container host Compiler: gcc 13.3.1 20240522 (Red Hat 13.3.1-1) Fedora 40 (Clang) Kernel: Depends on container host Compiler: clang 18.1.8 (Fedora 18.1.8-1.fc40) Fedora 40 Kernel: Depends on container host Compiler: gcc 14.2.1 20240912 (Red Hat 14.2.1-3) RHEL8 Kernel: Depends on container host Compiler: gcc 8.5.0 20210514 (Red Hat 8.5.0-22) Ubuntu 20.04 Kernel: Depends on container host Compiler: gcc (Ubuntu 9.4.0-1ubuntu1~20.04.2) 9.4.0 openSUSE Leap 15 Kernel: Depends on container host Compiler: gcc (SUSE Linux) 7.5.0 Ubuntu 24.04 Kernel: Depends on container host Compiler: gcc (Ubuntu 13.3.0-6ubuntu2~24.04) 13.3.0 Ubuntu 22.04 Kernel: Depends on container host Compiler: gcc (Ubuntu 11.4.0-1ubuntu1~22.04) 11.4.0 Alpine Kernel: Depends on container host Compiler: gcc (Alpine 14.2.0) 14.2.0 FreeBSD 13.4 Kernel: 13.4-RELEASE-p1 Compiler: clang 18.1.6 FreeBSD 14.2 Kernel: 14.2-RELEASE Compiler: clang 18.1.6 RHEL9 Kernel: Depends on container host Compiler: gcc 11.5.0 20240719 (Red Hat 11.5.0-2) Windows Server 2022 Kernel: 10.0.20348.2031 Compiler: clang 15.0.7, gcc 14.1.0 (MinGW), and MSVC VS 19.39.33521 To view detailed results, visit: https://lab.dpdk.org/results/dashboard/patchsets/32122/ UNH-IOL DPDK Community Lab To manage your email subscriptions, visit: https://lab.dpdk.org/results/dashboard/preferences/subscriptions/