From mboxrd@z Thu Jan 1 00:00:00 1970 Return-Path: Received: from mails.dpdk.org (mails.dpdk.org [217.70.189.124]) by inbox.dpdk.org (Postfix) with ESMTP id 16E7B461BF for ; Fri, 7 Feb 2025 21:02:48 +0100 (CET) Received: from mails.dpdk.org (localhost [127.0.0.1]) by mails.dpdk.org (Postfix) with ESMTP id 0F3D840290; Fri, 7 Feb 2025 21:02:48 +0100 (CET) Received: from mail-qk1-f227.google.com (mail-qk1-f227.google.com [209.85.222.227]) by mails.dpdk.org (Postfix) with ESMTP id C77644026C for ; Fri, 7 Feb 2025 21:02:46 +0100 (CET) Received: by mail-qk1-f227.google.com with SMTP id af79cd13be357-7b9bc648736so237514585a.1 for ; Fri, 07 Feb 2025 12:02:46 -0800 (PST) DKIM-Signature: v=1; a=rsa-sha256; c=relaxed/relaxed; d=iol.unh.edu; s=unh-iol; t=1738958566; x=1739563366; darn=dpdk.org; h=cc:to:from:subject:message-id:date:from:to:cc:subject:date :message-id:reply-to; bh=1MdQXbNWUZQW958bmjdRsspqh0kj9CD04rBDYBm8UII=; b=cqU1uLU1UWnXsLQ71HLUiX/tmp6ycOYGrrVzQRnHdwXqMk4qy+ThCXNwRQ+cyPW7HR 0DdNOR7Ldw4uuXASKcGlcLjEJc0BYCI2Vom6sp7Bz8i+wooh3GtG4e/9GpYnm1t8r7x7 WzK7O+2iHZjOjmxTxJATjg1q8bDIFUeufdvuc= X-Google-DKIM-Signature: v=1; a=rsa-sha256; c=relaxed/relaxed; d=1e100.net; s=20230601; t=1738958566; x=1739563366; h=cc:to:from:subject:message-id:date:x-gm-message-state:from:to:cc :subject:date:message-id:reply-to; bh=1MdQXbNWUZQW958bmjdRsspqh0kj9CD04rBDYBm8UII=; b=RRHI9rKd1Miadj4R2UDJpWYDlEEpmZoVh6aPWR8ScOw3CQWvHBFwG0X1xIZLNo/EcJ 2KiuntQwKJ6oor3lz1bp8m+XTmfjRcfjBrxEa2eg4g/7V20CwMXwoCNl52kRoG9tod1U Z+6Zl+G9NzL+Jyb5H0uV94X3LQXUNi8kikovPHJznOh9ZflJPW2VWprNQlT7dmKwCG0e BNYwG7K87BsmsJ4yWc/RX5Fdv0pML1aNhGV4Lt0P5TI5fniIuzJyAgQBD7sgYJ0lnSPK y0AKGtl7YzEMZlebj8p1RsEtQ+r+2wZF6RvlKhL1XcGtDpslzN95U7wYes1iTjVBcwDv Fn8A== X-Gm-Message-State: AOJu0YwrlCDn3GfLMR9t3I40GpPSFpaNUZ6+MrCai4dkX2kbewRgr1ef ey0KqI+OixmW3BL/zbNBl0pXyZAWqiCVsj7eb1n1rpz0lhdgI2RQ3A/Bl2079FoFRQWr2YvUvQS AEHCqGR4bQJsg9r1A/dUrpPhpXEFuTrs/N1aahxPP X-Gm-Gg: ASbGnctXUgz2iaVYv8LSdghL8ndawaoxAThIIfGbs6LDUyXCyiZF8iW2utW5s522Jem b1EB1jFY19kq21yg/ZoTRf1xhyseQJGXsVV3q7KMQp0c1jjWeWNoIr35LjjJqYFMKVGcXW7PIsg GA8bD8L9qy6/rV3sGGXAjUVhz1Ot1SgftLRjwHuZzw9dj2Ty7PSynYmjYDulFV/0a/sLdzq3/2h xFCPsxWM4CbmUbcGxdfxREOaCD2zX5OrFNnnVUH0mBz6voJIkCqdJdyHIWggLc3kcmdpIDzUQB7 b4hbL1gQ8j41RKlMlpQCR6K7jdemyw== X-Google-Smtp-Source: AGHT+IHi1wXaMpkUYZ1avkAzRNgsUMr6h5JFNxdP1JYEkYboApBrHZEhcJ+B//WVOn4nlzuiuA1zd+RWSvzx X-Received: by 2002:a05:620a:bcb:b0:7b6:d736:55c1 with SMTP id af79cd13be357-7c047ca784cmr691193085a.48.1738958566222; Fri, 07 Feb 2025 12:02:46 -0800 (PST) Received: from postal.iol.unh.edu (postal.iol.unh.edu. [132.177.123.84]) by smtp-relay.gmail.com with ESMTPS id af79cd13be357-7c041e5db30sm29474385a.3.2025.02.07.12.02.46 (version=TLS1_2 cipher=ECDHE-ECDSA-AES128-GCM-SHA256 bits=128/128); Fri, 07 Feb 2025 12:02:46 -0800 (PST) X-Relaying-Domain: iol.unh.edu Date: Fri, 07 Feb 2025 12:02:46 -0800 (PST) Message-ID: <67a666e6.050a0220.308f6e.f459SMTPIN_ADDED_MISSING@mx.google.com> Received: from [172.21.0.5] (unknown [172.18.0.240]) by postal.iol.unh.edu (Postfix) with ESMTP id E1E3B6052471; Fri, 7 Feb 2025 15:02:15 -0500 (EST) Subject: |SUCCESS| [GIT MASTER] 4dc4e33ffa108e945fc8a1e2bbc7819791faa61e From: dpdklab@iol.unh.edu To: Test Report Cc: dpdk-test-reports@iol.unh.edu Content-Type: text/plain X-BeenThere: test-report@dpdk.org X-Mailman-Version: 2.1.29 Precedence: list List-Id: automatic DPDK test reports List-Unsubscribe: , List-Archive: List-Post: List-Help: List-Subscribe: , Errors-To: test-report-bounces@dpdk.org _Testing PASS_ Branch: dpdk 4dc4e33ffa108e945fc8a1e2bbc7819791faa61e --> testing pass Test environment and result as below: +---------------------+--------------------+------------------+-------------------+-------------------+-------------------------+----------------------+ | Environment | dpdk_meson_compile | dpdk_compile_ovs | dpdk_compile_spdk | dpdk_msvc_compile | dpdk_llvm_clang_compile | dpdk_mingw64_compile | +=====================+====================+==================+===================+===================+=========================+======================+ | CentOS Stream 9 | PASS | PASS | PASS | SKIPPED | SKIPPED | SKIPPED | +---------------------+--------------------+------------------+-------------------+-------------------+-------------------------+----------------------+ | Fedora 40 | PASS | PASS | PASS | SKIPPED | SKIPPED | SKIPPED | +---------------------+--------------------+------------------+-------------------+-------------------+-------------------------+----------------------+ | Fedora 40 (Clang) | PASS | PASS | PASS | SKIPPED | SKIPPED | SKIPPED | +---------------------+--------------------+------------------+-------------------+-------------------+-------------------------+----------------------+ | openSUSE Leap 15 | PASS | SKIPPED | SKIPPED | SKIPPED | SKIPPED | SKIPPED | +---------------------+--------------------+------------------+-------------------+-------------------+-------------------------+----------------------+ | RHEL8 | PASS | PASS | SKIPPED | SKIPPED | SKIPPED | SKIPPED | +---------------------+--------------------+------------------+-------------------+-------------------+-------------------------+----------------------+ | RHEL9 | PASS | PASS | SKIPPED | SKIPPED | SKIPPED | SKIPPED | +---------------------+--------------------+------------------+-------------------+-------------------+-------------------------+----------------------+ | Ubuntu 20.04 | PASS | SKIPPED | SKIPPED | SKIPPED | SKIPPED | SKIPPED | +---------------------+--------------------+------------------+-------------------+-------------------+-------------------------+----------------------+ | Ubuntu 24.04 | PASS | PASS | PASS | SKIPPED | SKIPPED | SKIPPED | +---------------------+--------------------+------------------+-------------------+-------------------+-------------------------+----------------------+ | Alpine | PASS | PASS | SKIPPED | SKIPPED | SKIPPED | SKIPPED | +---------------------+--------------------+------------------+-------------------+-------------------+-------------------------+----------------------+ | Arch Linux | PASS | PASS | SKIPPED | SKIPPED | SKIPPED | SKIPPED | +---------------------+--------------------+------------------+-------------------+-------------------+-------------------------+----------------------+ | FreeBSD 14.2 | PASS | SKIPPED | SKIPPED | SKIPPED | SKIPPED | SKIPPED | +---------------------+--------------------+------------------+-------------------+-------------------+-------------------------+----------------------+ | Debian 12 | PASS | PASS | PASS | SKIPPED | SKIPPED | SKIPPED | +---------------------+--------------------+------------------+-------------------+-------------------+-------------------------+----------------------+ | Fedora 39 | PASS | PASS | PASS | SKIPPED | SKIPPED | SKIPPED | +---------------------+--------------------+------------------+-------------------+-------------------+-------------------------+----------------------+ | Ubuntu 22.04 | PASS | PASS | PASS | SKIPPED | SKIPPED | SKIPPED | +---------------------+--------------------+------------------+-------------------+-------------------+-------------------------+----------------------+ | FreeBSD 13.4 | PASS | SKIPPED | SKIPPED | SKIPPED | SKIPPED | SKIPPED | +---------------------+--------------------+------------------+-------------------+-------------------+-------------------------+----------------------+ | Windows Server 2022 | SKIPPED | SKIPPED | SKIPPED | PASS | PASS | PASS | +---------------------+--------------------+------------------+-------------------+-------------------+-------------------------+----------------------+ CentOS Stream 9 Kernel: Depends on container host Compiler: gcc 11.5.0 20240719 (Red Hat 11.5.0-2) Fedora 40 Kernel: Depends on container host Compiler: gcc 14.2.1 20240912 (Red Hat 14.2.1-3) Fedora 40 (Clang) Kernel: Depends on container host Compiler: clang 18.1.8 (Fedora 18.1.8-1.fc40) openSUSE Leap 15 Kernel: Depends on container host Compiler: gcc (SUSE Linux) 7.5.0 RHEL8 Kernel: Depends on container host Compiler: gcc 8.5.0 20210514 (Red Hat 8.5.0-22) RHEL9 Kernel: Depends on container host Compiler: gcc 11.5.0 20240719 (Red Hat 11.5.0-2) Ubuntu 20.04 Kernel: Depends on container host Compiler: gcc (Ubuntu 9.4.0-1ubuntu1~20.04.2) 9.4.0 Ubuntu 24.04 Kernel: Depends on container host Compiler: gcc (Ubuntu 13.3.0-6ubuntu2~24.04) 13.3.0 Alpine Kernel: Depends on container host Compiler: gcc (Alpine 14.2.0) 14.2.0 Arch Linux Kernel: Depends on container host Compiler: gcc 14.2.1 20240910 FreeBSD 14.2 Kernel: 14.2-RELEASE Compiler: clang 18.1.6 Debian 12 Kernel: Depends on container host Compiler: gcc (Debian 12.2.0-14) 12.2.0 Fedora 39 Kernel: Depends on container host Compiler: gcc 13.3.1 20240522 (Red Hat 13.3.1-1) Ubuntu 22.04 Kernel: Depends on container host Compiler: gcc (Ubuntu 11.4.0-1ubuntu1~22.04) 11.4.0 FreeBSD 13.4 Kernel: 13.4-RELEASE-p1 Compiler: clang 18.1.6 Windows Server 2022 Kernel: 10.0.20348.2031 Compiler: clang 15.0.7, gcc 14.1.0 (MinGW), and MSVC VS 19.39.33521 To view detailed results, visit: https://lab.dpdk.org/results/dashboard/tarballs/31956/ UNH-IOL DPDK Community Lab To manage your email subscriptions, visit: https://lab.dpdk.org/results/dashboard/preferences/subscriptions/