From mboxrd@z Thu Jan 1 00:00:00 1970 Return-Path: Received: from mails.dpdk.org (mails.dpdk.org [217.70.189.124]) by inbox.dpdk.org (Postfix) with ESMTP id 2ACE2461BF for ; Fri, 7 Feb 2025 21:02:58 +0100 (CET) Received: from mails.dpdk.org (localhost [127.0.0.1]) by mails.dpdk.org (Postfix) with ESMTP id 2278240290; Fri, 7 Feb 2025 21:02:58 +0100 (CET) Received: from mail-io1-f97.google.com (mail-io1-f97.google.com [209.85.166.97]) by mails.dpdk.org (Postfix) with ESMTP id 2542B4026C for ; Fri, 7 Feb 2025 21:02:57 +0100 (CET) Received: by mail-io1-f97.google.com with SMTP id ca18e2360f4ac-844ce213af6so75268239f.1 for ; Fri, 07 Feb 2025 12:02:57 -0800 (PST) DKIM-Signature: v=1; a=rsa-sha256; c=relaxed/relaxed; d=iol.unh.edu; s=unh-iol; t=1738958576; x=1739563376; darn=dpdk.org; h=references:in-reply-to:cc:to:from:subject:message-id:date:from:to :cc:subject:date:message-id:reply-to; bh=PHJgdqVsYo+9AkmNGBWOSuink7ls5FW7j9kYyRDFkRY=; b=OP3rU2dUHN2uE1PPvPfpyPGdxbrWbu4Hz75XTBKyCSIhOLMkfCNIaTUDnWUCiaF0z4 ifWcBf0b2iIRVu+5JOWFWK31R8fJGdfpP/FjTN/7U+LDffybXk+tGKS0XxRFUX2JlxSx AwSHbvsqB56j0rcqMA3/TTgdIMckE+PbtUYoE= X-Google-DKIM-Signature: v=1; a=rsa-sha256; c=relaxed/relaxed; d=1e100.net; s=20230601; t=1738958576; x=1739563376; h=references:in-reply-to:cc:to:from:subject:message-id:date :x-gm-message-state:from:to:cc:subject:date:message-id:reply-to; bh=PHJgdqVsYo+9AkmNGBWOSuink7ls5FW7j9kYyRDFkRY=; b=MbfjWcmRG/ajUkbOseorwHcB9JORlG50sMqxS6eoPErisY3AB5vyp0+P5fwfwSmAYZ TP4Vkvx12k1dyuCPibNOTuOydInsLlzZHea+N9E+KknpoTHcLNoLXDy4My8PoefvWJ/k zSroYKuNLa3nRipcMF6FQm58blwSKUSkAOP5sBZDRTvGGYAMqMKpipzGLWuIlTKtCvqr jWseUzGGrTSNENQ1XNKsXGicdKoxN444toWBoDSlH1MCqPYJxvtNOwpWD4soTUkP/3yC HwZI+57rudR2v+a3oICh/HOpyR6G+HMvKRCZSVnLKB3uVPZKh9ILhv4Z6aAaIxqScWBZ iTpA== X-Gm-Message-State: AOJu0Yxnw66JhLLYWNHSCCg5j5o1bNjU+ZCZWIOsgLE/pCiA9Xmoe2Gx HGkBVGjK/VNniS9+sMkHGXREB9ey0hZmLzcgvf9SZNz2nFtM4AaVu5tZCvvTK3qbzOL7IwJcdzO tx58JR1vNMDguafzJt7Af5rJkI4ljJk5JUt5PoIey X-Gm-Gg: ASbGncsNaKqKpmb/WSOXyVyOu4RTlJzmDD3SqPnEhXds3UYiZ38SXOS5+b1A9dXq14O VB6SffKmPBVv9K2RbH3tVU2J0XejQoDj4/RxrXWmj1Ct9jl9n7UojWDT7Lg6PI/mDb59ittV5N7 /ikNAOXP/RH5GbLXMSsnhjm3YtkfUPhJtuEfCWXb9giojsly6krwF+YhOAOE2wQOc/ZpFjX4qgr oDwtZMCX5EHEwJ+AEaHLhQcCOHxFwJ/wwQoZ7hurWyug6oflJN5x7i2niuIRW3+woRq1gTIHsWf kzB9RRTxrMvTe3peYLncXIj63oSYBg== X-Google-Smtp-Source: AGHT+IEOmaLOKxzfYmg1JV2QthGPxwAxdb1E0ZtoegCf8N5nN0xU7/WpG1pQFFvoElW3Qm2srN9y2eV1Xm// X-Received: by 2002:a05:6602:398b:b0:849:a5ef:bc8b with SMTP id ca18e2360f4ac-854fd8a0960mr592339539f.4.1738958574952; Fri, 07 Feb 2025 12:02:54 -0800 (PST) Received: from postal.iol.unh.edu (postal.iol.unh.edu. [132.177.123.84]) by smtp-relay.gmail.com with ESMTPS id ca18e2360f4ac-854f6660f9asm23926139f.2.2025.02.07.12.02.54 (version=TLS1_2 cipher=ECDHE-ECDSA-AES128-GCM-SHA256 bits=128/128); Fri, 07 Feb 2025 12:02:54 -0800 (PST) X-Relaying-Domain: iol.unh.edu Date: Fri, 07 Feb 2025 12:02:54 -0800 (PST) Message-ID: <67a666ee.050a0220.3052ac.bdaaSMTPIN_ADDED_MISSING@mx.google.com> Received: from [172.21.0.5] (unknown [172.18.0.240]) by postal.iol.unh.edu (Postfix) with ESMTP id 773386052471; Fri, 7 Feb 2025 15:02:54 -0500 (EST) Subject: |SUCCESS| pw149199-149200 [PATCH] [v2,2/2] dts: add port restart con From: dpdklab@iol.unh.edu To: Test Report Cc: dpdk-test-reports@iol.unh.edu In-Reply-To: <20241212132807.263829-3-thomas.wilks@arm.com> References: <20241212132807.263829-3-thomas.wilks@arm.com> Content-Type: text/plain X-BeenThere: test-report@dpdk.org X-Mailman-Version: 2.1.29 Precedence: list List-Id: automatic DPDK test reports List-Unsubscribe: , List-Archive: List-Post: List-Help: List-Subscribe: , Errors-To: test-report-bounces@dpdk.org Test-Label: iol-compile-amd64-testing Test-Status: SUCCESS http://dpdk.org/patch/149200 _Testing PASS_ Submitter: Thomas Wilks Date: Thursday, December 12 2024 13:28:07 DPDK git baseline: Repo:dpdk Branch: master CommitID:7df61db6c387703a36306c1aea92225921e2eeb2 149199-149200 --> testing pass Test environment and result as below: +---------------------+--------------------+------------------+-------------------+-------------------------+----------------------+ | Environment | dpdk_meson_compile | dpdk_compile_ovs | dpdk_compile_spdk | dpdk_llvm_clang_compile | dpdk_mingw64_compile | +=====================+====================+==================+===================+=========================+======================+ | CentOS Stream 9 | PASS | PASS | PASS | SKIPPED | SKIPPED | +---------------------+--------------------+------------------+-------------------+-------------------------+----------------------+ | Fedora 39 (Clang) | PASS | PASS | PASS | SKIPPED | SKIPPED | +---------------------+--------------------+------------------+-------------------+-------------------------+----------------------+ | Fedora 39 | PASS | PASS | PASS | SKIPPED | SKIPPED | +---------------------+--------------------+------------------+-------------------+-------------------------+----------------------+ | Fedora 40 | PASS | PASS | PASS | SKIPPED | SKIPPED | +---------------------+--------------------+------------------+-------------------+-------------------------+----------------------+ | Fedora 40 (Clang) | PASS | PASS | PASS | SKIPPED | SKIPPED | +---------------------+--------------------+------------------+-------------------+-------------------------+----------------------+ | RHEL8 | PASS | PASS | SKIPPED | SKIPPED | SKIPPED | +---------------------+--------------------+------------------+-------------------+-------------------------+----------------------+ | RHEL9 | PASS | PASS | SKIPPED | SKIPPED | SKIPPED | +---------------------+--------------------+------------------+-------------------+-------------------------+----------------------+ | Ubuntu 20.04 | PASS | SKIPPED | SKIPPED | SKIPPED | SKIPPED | +---------------------+--------------------+------------------+-------------------+-------------------------+----------------------+ | Ubuntu 22.04 | PASS | PASS | PASS | SKIPPED | SKIPPED | +---------------------+--------------------+------------------+-------------------+-------------------------+----------------------+ | Alpine | PASS | PASS | SKIPPED | SKIPPED | SKIPPED | +---------------------+--------------------+------------------+-------------------+-------------------------+----------------------+ | FreeBSD 13.4 | PASS | SKIPPED | SKIPPED | SKIPPED | SKIPPED | +---------------------+--------------------+------------------+-------------------+-------------------------+----------------------+ | FreeBSD 14.2 | PASS | SKIPPED | SKIPPED | SKIPPED | SKIPPED | +---------------------+--------------------+------------------+-------------------+-------------------------+----------------------+ | Debian 12 | PASS | PASS | PASS | SKIPPED | SKIPPED | +---------------------+--------------------+------------------+-------------------+-------------------------+----------------------+ | openSUSE Leap 15 | PASS | SKIPPED | SKIPPED | SKIPPED | SKIPPED | +---------------------+--------------------+------------------+-------------------+-------------------------+----------------------+ | Ubuntu 24.04 | PASS | PASS | PASS | SKIPPED | SKIPPED | +---------------------+--------------------+------------------+-------------------+-------------------------+----------------------+ | Windows Server 2022 | SKIPPED | SKIPPED | SKIPPED | PASS | PASS | +---------------------+--------------------+------------------+-------------------+-------------------------+----------------------+ CentOS Stream 9 Kernel: Depends on container host Compiler: gcc 11.5.0 20240719 (Red Hat 11.5.0-2) Fedora 39 (Clang) Kernel: Depends on container host Compiler: clang 17.0.6 (Fedora 17.0.6-2.fc39) Fedora 39 Kernel: Depends on container host Compiler: gcc 13.3.1 20240522 (Red Hat 13.3.1-1) Fedora 40 Kernel: Depends on container host Compiler: gcc 14.2.1 20240912 (Red Hat 14.2.1-3) Fedora 40 (Clang) Kernel: Depends on container host Compiler: clang 18.1.8 (Fedora 18.1.8-1.fc40) RHEL8 Kernel: Depends on container host Compiler: gcc 8.5.0 20210514 (Red Hat 8.5.0-22) RHEL9 Kernel: Depends on container host Compiler: gcc 11.5.0 20240719 (Red Hat 11.5.0-2) Ubuntu 20.04 Kernel: Depends on container host Compiler: gcc (Ubuntu 9.4.0-1ubuntu1~20.04.2) 9.4.0 Ubuntu 22.04 Kernel: Depends on container host Compiler: gcc (Ubuntu 11.4.0-1ubuntu1~22.04) 11.4.0 Alpine Kernel: Depends on container host Compiler: gcc (Alpine 14.2.0) 14.2.0 FreeBSD 13.4 Kernel: 13.4-RELEASE-p1 Compiler: clang 18.1.6 FreeBSD 14.2 Kernel: 14.2-RELEASE Compiler: clang 18.1.6 Debian 12 Kernel: Depends on container host Compiler: gcc (Debian 12.2.0-14) 12.2.0 openSUSE Leap 15 Kernel: Depends on container host Compiler: gcc (SUSE Linux) 7.5.0 Ubuntu 24.04 Kernel: Depends on container host Compiler: gcc (Ubuntu 13.3.0-6ubuntu2~24.04) 13.3.0 Windows Server 2022 Kernel: 10.0.20348.2031 Compiler: clang 15.0.7, gcc 14.1.0 (MinGW), and MSVC VS 19.39.33521 To view detailed results, visit: https://lab.dpdk.org/results/dashboard/patchsets/32124/ UNH-IOL DPDK Community Lab To manage your email subscriptions, visit: https://lab.dpdk.org/results/dashboard/preferences/subscriptions/