From mboxrd@z Thu Jan 1 00:00:00 1970 Return-Path: Received: from mails.dpdk.org (mails.dpdk.org [217.70.189.124]) by inbox.dpdk.org (Postfix) with ESMTP id 59732461BF for ; Fri, 7 Feb 2025 21:03:18 +0100 (CET) Received: from mails.dpdk.org (localhost [127.0.0.1]) by mails.dpdk.org (Postfix) with ESMTP id 56F6340290; Fri, 7 Feb 2025 21:03:18 +0100 (CET) Received: from mail-pj1-f100.google.com (mail-pj1-f100.google.com [209.85.216.100]) by mails.dpdk.org (Postfix) with ESMTP id C65244026C for ; Fri, 7 Feb 2025 21:03:16 +0100 (CET) Received: by mail-pj1-f100.google.com with SMTP id 98e67ed59e1d1-2fa3e20952fso786060a91.1 for ; Fri, 07 Feb 2025 12:03:16 -0800 (PST) DKIM-Signature: v=1; a=rsa-sha256; c=relaxed/relaxed; d=iol.unh.edu; s=unh-iol; t=1738958596; x=1739563396; darn=dpdk.org; h=references:in-reply-to:cc:to:from:subject:message-id:date:from:to :cc:subject:date:message-id:reply-to; bh=3+zd/JiGQQ3pO9u5zkwIRQB2ya0TD3kCo37I7Hmx0Aw=; b=ZmSFg0PigXDNv988AjhJjix5kexzfsva3m8q4XbBdnQwsDkAbe8tldWWABZKewTjGC wRyupUUuPu3qJbH8GpwkH3P7W+dLX59eucYwikW65yOWCLynj/78/NMUbX2H6jeGK0bZ SijVeiRc87d3Rd5hkm7EBkF4YV91b4eGA10r8= X-Google-DKIM-Signature: v=1; a=rsa-sha256; c=relaxed/relaxed; d=1e100.net; s=20230601; t=1738958596; x=1739563396; h=references:in-reply-to:cc:to:from:subject:message-id:date :x-gm-message-state:from:to:cc:subject:date:message-id:reply-to; bh=3+zd/JiGQQ3pO9u5zkwIRQB2ya0TD3kCo37I7Hmx0Aw=; b=Y/EHCV5V8rr8u0rf98NxUqptVjFcjwE22A2z8OJvjDyRpkgODYs+hXWkd5DKkigHsu kmQoT2BKlTRc/KHQ6HsKPkcrVUFSRcFLyi1phQbwCXAWdEM4EDrKhglWRiR2z7djDuh6 qJeTJDGVzsOMq1XWDWjWaZrBPHVIHWex7SBPiNg8XQIMzCf/2C6XT0cf+i3KysV8iiTJ 5jqAtLys1VzwI2AkBjc9vb5kVxyXSmmnnvSsk9E+uIe2xMLT/N7PMM4KqABFZp7ARU/a YJ9cC8PvD05/F1pR9avjyuvNrDLClo6umFCrErkpiQGcIKUkBUhbaJnx67DMohnR6a+O v+tQ== X-Gm-Message-State: AOJu0YzCuXH7Mwgl8oqlnRzkCe+pwB2Zc9+96iv716hfhuxVMUm8AQnf DoQdJeEeG59SsIPmmSbhI9MX3E0r2Hyw6wPEE10amqFWOA4vGFca+LnEDH1rJKpf4El91HAaM9A vMpGMvUAOq4s1KY6VconopHoxcNEri9mkceMSmWxB X-Gm-Gg: ASbGncsrFTELnHe2Gm/qniaquQP1Z+R9Ew4Vs7pEYotYGmF4wQQnF2KReftELTK8NUH NLBHyws5M4rLc51A512WS7GniGvjnEgsALeFKqXjCS4dqFj5m0nsqDFryIYlqs+IO0c77s6gAkA TlX7vU07lWpCk28mDPvQgM72V+dtGcC5UwJLCf327APqzBynzBOo44JCY3hMUkuIoLQ/I06BQpd vtyghKUAG3cLvuqHBKIv9TJ1cbEdhZYznv/o+MV7Q5qIJssKWm5ovGd91mWf7cZccXXzYzuzVZB KSMfe5cyWDjOybyqahh4o289yA9ZgQ== X-Google-Smtp-Source: AGHT+IGClWvirc2GMwkJffznvqEBRUaVeoaYF9AtpsqYHMQwquSYAPD1msfK/RrVj9q0ZTGN1ic14G8vTiEE X-Received: by 2002:a17:90a:dfc5:b0:2ee:48bf:7dc9 with SMTP id 98e67ed59e1d1-2fa24178289mr7105242a91.15.1738958596077; Fri, 07 Feb 2025 12:03:16 -0800 (PST) Received: from postal.iol.unh.edu (postal.iol.unh.edu. [132.177.123.84]) by smtp-relay.gmail.com with ESMTPS id 98e67ed59e1d1-2fa09a2c9e5sm292746a91.5.2025.02.07.12.03.15 (version=TLS1_2 cipher=ECDHE-ECDSA-AES128-GCM-SHA256 bits=128/128); Fri, 07 Feb 2025 12:03:16 -0800 (PST) X-Relaying-Domain: iol.unh.edu Date: Fri, 07 Feb 2025 12:03:16 -0800 (PST) Message-ID: <67a66704.170a0220.36fc74.fc8cSMTPIN_ADDED_MISSING@mx.google.com> Received: from [172.21.0.10] (unknown [172.18.0.240]) by postal.iol.unh.edu (Postfix) with ESMTP id 3D21A6052472; Fri, 7 Feb 2025 15:03:15 -0500 (EST) Subject: |SUCCESS| pw149236 [PATCH] [v2] test/bonding: fix active backup rx t From: dpdklab@iol.unh.edu To: Test Report Cc: dpdk-test-reports@iol.unh.edu In-Reply-To: <20241213171713.13266-2-stephen@networkplumber.org> References: <20241213171713.13266-2-stephen@networkplumber.org> Content-Type: text/plain X-BeenThere: test-report@dpdk.org X-Mailman-Version: 2.1.29 Precedence: list List-Id: automatic DPDK test reports List-Unsubscribe: , List-Archive: List-Post: List-Help: List-Subscribe: , Errors-To: test-report-bounces@dpdk.org Test-Label: iol-compile-amd64-testing Test-Status: SUCCESS http://dpdk.org/patch/149236 _Testing PASS_ Submitter: Stephen Hemminger Date: Friday, December 13 2024 17:17:14 DPDK git baseline: Repo:dpdk Branch: master CommitID:f1e0472368d4dbb1da33ae68b18ca21bc8a55259 149236 --> testing pass Test environment and result as below: +---------------------+--------------------+------------------+-------------------+-------------------------+----------------------+-------------------+ | Environment | dpdk_meson_compile | dpdk_compile_ovs | dpdk_compile_spdk | dpdk_llvm_clang_compile | dpdk_mingw64_compile | dpdk_msvc_compile | +=====================+====================+==================+===================+=========================+======================+===================+ | CentOS Stream 9 | PASS | PASS | PASS | SKIPPED | SKIPPED | SKIPPED | +---------------------+--------------------+------------------+-------------------+-------------------------+----------------------+-------------------+ | Debian 12 | PASS | PASS | PASS | SKIPPED | SKIPPED | SKIPPED | +---------------------+--------------------+------------------+-------------------+-------------------------+----------------------+-------------------+ | Fedora 40 (Clang) | PASS | PASS | PASS | SKIPPED | SKIPPED | SKIPPED | +---------------------+--------------------+------------------+-------------------+-------------------------+----------------------+-------------------+ | Fedora 39 (Clang) | PASS | PASS | PASS | SKIPPED | SKIPPED | SKIPPED | +---------------------+--------------------+------------------+-------------------+-------------------------+----------------------+-------------------+ | Fedora 39 | PASS | PASS | PASS | SKIPPED | SKIPPED | SKIPPED | +---------------------+--------------------+------------------+-------------------+-------------------------+----------------------+-------------------+ | RHEL9 | PASS | PASS | SKIPPED | SKIPPED | SKIPPED | SKIPPED | +---------------------+--------------------+------------------+-------------------+-------------------------+----------------------+-------------------+ | openSUSE Leap 15 | PASS | SKIPPED | SKIPPED | SKIPPED | SKIPPED | SKIPPED | +---------------------+--------------------+------------------+-------------------+-------------------------+----------------------+-------------------+ | Fedora 40 | PASS | PASS | PASS | SKIPPED | SKIPPED | SKIPPED | +---------------------+--------------------+------------------+-------------------+-------------------------+----------------------+-------------------+ | Ubuntu 22.04 | PASS | PASS | PASS | SKIPPED | SKIPPED | SKIPPED | +---------------------+--------------------+------------------+-------------------+-------------------------+----------------------+-------------------+ | Ubuntu 20.04 | PASS | SKIPPED | SKIPPED | SKIPPED | SKIPPED | SKIPPED | +---------------------+--------------------+------------------+-------------------+-------------------------+----------------------+-------------------+ | Ubuntu 24.04 | PASS | PASS | PASS | SKIPPED | SKIPPED | SKIPPED | +---------------------+--------------------+------------------+-------------------+-------------------------+----------------------+-------------------+ | Alpine | PASS | PASS | SKIPPED | SKIPPED | SKIPPED | SKIPPED | +---------------------+--------------------+------------------+-------------------+-------------------------+----------------------+-------------------+ | FreeBSD 13.4 | PASS | SKIPPED | SKIPPED | SKIPPED | SKIPPED | SKIPPED | +---------------------+--------------------+------------------+-------------------+-------------------------+----------------------+-------------------+ | FreeBSD 14.2 | PASS | SKIPPED | SKIPPED | SKIPPED | SKIPPED | SKIPPED | +---------------------+--------------------+------------------+-------------------+-------------------------+----------------------+-------------------+ | RHEL8 | PASS | PASS | SKIPPED | SKIPPED | SKIPPED | SKIPPED | +---------------------+--------------------+------------------+-------------------+-------------------------+----------------------+-------------------+ | Windows Server 2022 | SKIPPED | SKIPPED | SKIPPED | PASS | PASS | PASS | +---------------------+--------------------+------------------+-------------------+-------------------------+----------------------+-------------------+ CentOS Stream 9 Kernel: Depends on container host Compiler: gcc 11.5.0 20240719 (Red Hat 11.5.0-2) Debian 12 Kernel: Depends on container host Compiler: gcc (Debian 12.2.0-14) 12.2.0 Fedora 40 (Clang) Kernel: Depends on container host Compiler: clang 18.1.8 (Fedora 18.1.8-1.fc40) Fedora 39 (Clang) Kernel: Depends on container host Compiler: clang 17.0.6 (Fedora 17.0.6-2.fc39) Fedora 39 Kernel: Depends on container host Compiler: gcc 13.3.1 20240522 (Red Hat 13.3.1-1) RHEL9 Kernel: Depends on container host Compiler: gcc 11.5.0 20240719 (Red Hat 11.5.0-2) openSUSE Leap 15 Kernel: Depends on container host Compiler: gcc (SUSE Linux) 7.5.0 Fedora 40 Kernel: Depends on container host Compiler: gcc 14.2.1 20240912 (Red Hat 14.2.1-3) Ubuntu 22.04 Kernel: Depends on container host Compiler: gcc (Ubuntu 11.4.0-1ubuntu1~22.04) 11.4.0 Ubuntu 20.04 Kernel: Depends on container host Compiler: gcc (Ubuntu 9.4.0-1ubuntu1~20.04.2) 9.4.0 Ubuntu 24.04 Kernel: Depends on container host Compiler: gcc (Ubuntu 13.3.0-6ubuntu2~24.04) 13.3.0 Alpine Kernel: Depends on container host Compiler: gcc (Alpine 14.2.0) 14.2.0 FreeBSD 13.4 Kernel: 13.4-RELEASE-p1 Compiler: clang 18.1.6 FreeBSD 14.2 Kernel: 14.2-RELEASE Compiler: clang 18.1.6 RHEL8 Kernel: Depends on container host Compiler: gcc 8.5.0 20210514 (Red Hat 8.5.0-22) Windows Server 2022 Kernel: 10.0.20348.2031 Compiler: clang 15.0.7, gcc 14.1.0 (MinGW), and MSVC VS 19.39.33521 To view detailed results, visit: https://lab.dpdk.org/results/dashboard/patchsets/32142/ UNH-IOL DPDK Community Lab To manage your email subscriptions, visit: https://lab.dpdk.org/results/dashboard/preferences/subscriptions/