From mboxrd@z Thu Jan 1 00:00:00 1970 Return-Path: Received: from mails.dpdk.org (mails.dpdk.org [217.70.189.124]) by inbox.dpdk.org (Postfix) with ESMTP id 7F08A461BF for ; Fri, 7 Feb 2025 21:03:31 +0100 (CET) Received: from mails.dpdk.org (localhost [127.0.0.1]) by mails.dpdk.org (Postfix) with ESMTP id 7AE1B40290; Fri, 7 Feb 2025 21:03:31 +0100 (CET) Received: from mail-il1-f227.google.com (mail-il1-f227.google.com [209.85.166.227]) by mails.dpdk.org (Postfix) with ESMTP id C18064026C for ; Fri, 7 Feb 2025 21:03:29 +0100 (CET) Received: by mail-il1-f227.google.com with SMTP id e9e14a558f8ab-3cf82bd380bso18317515ab.0 for ; Fri, 07 Feb 2025 12:03:29 -0800 (PST) DKIM-Signature: v=1; a=rsa-sha256; c=relaxed/relaxed; d=iol.unh.edu; s=unh-iol; t=1738958609; x=1739563409; darn=dpdk.org; h=references:in-reply-to:cc:to:from:subject:message-id:date:from:to :cc:subject:date:message-id:reply-to; bh=j9sYi1T5oC732biGf9KQ/FgyCyAi0FNLBGZ/9372x7U=; b=Vx2jkiX2tKg8zBw1FXN1HOIWq4chhG6qdr9TcL7bLeY1kCmZ9beEX2QxZ+LPOwgSh0 U5eiXrpabOjlwStsxGazJ8OOme0O6hAUhekZ9c0hWirAIvls8kKpk4Aztvx8wpESZbd/ fYeyqodcJ+jlBB6q0h60Mj3W5apnQXMKc/BPM= X-Google-DKIM-Signature: v=1; a=rsa-sha256; c=relaxed/relaxed; d=1e100.net; s=20230601; t=1738958609; x=1739563409; h=references:in-reply-to:cc:to:from:subject:message-id:date :x-gm-message-state:from:to:cc:subject:date:message-id:reply-to; bh=j9sYi1T5oC732biGf9KQ/FgyCyAi0FNLBGZ/9372x7U=; b=MIhcVHAktRB08QYfB9qyB/BX1LRM0MHmggIYZfeFEKjwz35dwUJoQo5Cyo2VccarU7 QQrAPjK/F3G0ScxWmq9LGbmAQteU2PyioX83Rn4oDKBfl8eisuER37KYEch6+lRFh5kF 0twOLUY0+Qwg6k48bho650RshTuslXnncaDFmQx4VfOmvxn7jNzzvoZxprPoiXIuGT2y tjuv1x5yr187rPL2YqiKQGWR9Y8AXg4U3UHVOibKHq12qm6TGBAQr/B0WgiMVG2W3Of1 mlVMAe7/U3NuGTehPiWcKh25AdDn0WzK0nGpeCEkwyBaqepZs0c1X9XkXzR20wIhFAN+ KP1w== X-Gm-Message-State: AOJu0YzQVyhSHKcRds9s0D5R4YP4gbvPHCgwUyrll+OzsWiQ1W20OatY sTTt0pQwCDwW2nboOtoqPJn0Gl75bnfGvI3H/a1t8ZuAo36LebsweFvjETJpDmWmEJKetW+10Lm +s6MYSiQf9vMM0Cfflie11bKgdFuPDugISHoDsAK5 X-Gm-Gg: ASbGnctP5THHJIOsrEZScYK/973+tNWjDB8no1zchVH5lgCxqbqc8oo/wy2DN3Ov3tU EnE1s+Bhvrf+lEnRT1AyVAy7B5drQyJi2XKINQ5cINcY+KnnXIkFeJEbxzKyztSfW1eJMC6vFfH l7srtKKtprazEN8S0mMscz36+KFg2jtKpCqn1nGz3LtAGFN4UarWyFqOGf0t5y4dXGrw4SAYL3a Ao5viBDUxjWtiI0QyHxl8VM/smBgCt5aP06Pil3AdZ3ELdlrQsQ7CHZ47qj6lsFmzfXQpxR/hcs kTBOkKuOKTPXOqhCwsopRfP5Z5lpmA== X-Google-Smtp-Source: AGHT+IEuol9ILv6RmkD0nAUongdpqSM9uXovGPxArVZxJZXHmSUNpDl2wa35reh5wmP63SqLNdE1N3nwzrOK X-Received: by 2002:a05:6e02:3421:b0:3cf:bb3e:884c with SMTP id e9e14a558f8ab-3d13df2bf5amr43661785ab.16.1738958609132; Fri, 07 Feb 2025 12:03:29 -0800 (PST) Received: from postal.iol.unh.edu (postal.iol.unh.edu. [132.177.123.84]) by smtp-relay.gmail.com with ESMTPS id e9e14a558f8ab-3d05ea205d9sm2770345ab.67.2025.02.07.12.03.29 (version=TLS1_2 cipher=ECDHE-ECDSA-AES128-GCM-SHA256 bits=128/128); Fri, 07 Feb 2025 12:03:29 -0800 (PST) X-Relaying-Domain: iol.unh.edu Date: Fri, 07 Feb 2025 12:03:29 -0800 (PST) Message-ID: <67a66711.050a0220.18c965.e88cSMTPIN_ADDED_MISSING@mx.google.com> Received: from [172.21.0.7] (unknown [172.18.0.240]) by postal.iol.unh.edu (Postfix) with ESMTP id C195F6052471; Fri, 7 Feb 2025 15:02:57 -0500 (EST) Subject: |SUCCESS| pw149216 [PATCH] [v1] dts: bug fixes for paramiko timeout From: dpdklab@iol.unh.edu To: Test Report Cc: dpdk-test-reports@iol.unh.edu In-Reply-To: <20241212193902.31789-1-npratte@iol.unh.edu> References: <20241212193902.31789-1-npratte@iol.unh.edu> Content-Type: text/plain X-BeenThere: test-report@dpdk.org X-Mailman-Version: 2.1.29 Precedence: list List-Id: automatic DPDK test reports List-Unsubscribe: , List-Archive: List-Post: List-Help: List-Subscribe: , Errors-To: test-report-bounces@dpdk.org Test-Label: iol-compile-amd64-testing Test-Status: SUCCESS http://dpdk.org/patch/149216 _Testing PASS_ Submitter: Nicholas Pratte Date: Thursday, December 12 2024 19:39:02 DPDK git baseline: Repo:dpdk Branch: master CommitID:7df61db6c387703a36306c1aea92225921e2eeb2 149216 --> testing pass Test environment and result as below: +---------------------+--------------------+------------------+-------------------+-------------------------+----------------------+-------------------+ | Environment | dpdk_meson_compile | dpdk_compile_ovs | dpdk_compile_spdk | dpdk_llvm_clang_compile | dpdk_mingw64_compile | dpdk_msvc_compile | +=====================+====================+==================+===================+=========================+======================+===================+ | CentOS Stream 9 | PASS | PASS | PASS | SKIPPED | SKIPPED | SKIPPED | +---------------------+--------------------+------------------+-------------------+-------------------------+----------------------+-------------------+ | Debian 12 | PASS | PASS | PASS | SKIPPED | SKIPPED | SKIPPED | +---------------------+--------------------+------------------+-------------------+-------------------------+----------------------+-------------------+ | Fedora 39 (Clang) | PASS | PASS | PASS | SKIPPED | SKIPPED | SKIPPED | +---------------------+--------------------+------------------+-------------------+-------------------------+----------------------+-------------------+ | Fedora 40 (Clang) | PASS | PASS | PASS | SKIPPED | SKIPPED | SKIPPED | +---------------------+--------------------+------------------+-------------------+-------------------------+----------------------+-------------------+ | Fedora 40 | PASS | PASS | PASS | SKIPPED | SKIPPED | SKIPPED | +---------------------+--------------------+------------------+-------------------+-------------------------+----------------------+-------------------+ | openSUSE Leap 15 | PASS | SKIPPED | SKIPPED | SKIPPED | SKIPPED | SKIPPED | +---------------------+--------------------+------------------+-------------------+-------------------------+----------------------+-------------------+ | RHEL8 | PASS | PASS | SKIPPED | SKIPPED | SKIPPED | SKIPPED | +---------------------+--------------------+------------------+-------------------+-------------------------+----------------------+-------------------+ | RHEL9 | PASS | PASS | SKIPPED | SKIPPED | SKIPPED | SKIPPED | +---------------------+--------------------+------------------+-------------------+-------------------------+----------------------+-------------------+ | Ubuntu 20.04 | PASS | SKIPPED | SKIPPED | SKIPPED | SKIPPED | SKIPPED | +---------------------+--------------------+------------------+-------------------+-------------------------+----------------------+-------------------+ | Ubuntu 22.04 | PASS | PASS | PASS | SKIPPED | SKIPPED | SKIPPED | +---------------------+--------------------+------------------+-------------------+-------------------------+----------------------+-------------------+ | Ubuntu 24.04 | PASS | PASS | PASS | SKIPPED | SKIPPED | SKIPPED | +---------------------+--------------------+------------------+-------------------+-------------------------+----------------------+-------------------+ | Alpine | PASS | PASS | SKIPPED | SKIPPED | SKIPPED | SKIPPED | +---------------------+--------------------+------------------+-------------------+-------------------------+----------------------+-------------------+ | FreeBSD 14.2 | PASS | SKIPPED | SKIPPED | SKIPPED | SKIPPED | SKIPPED | +---------------------+--------------------+------------------+-------------------+-------------------------+----------------------+-------------------+ | Fedora 39 | PASS | PASS | PASS | SKIPPED | SKIPPED | SKIPPED | +---------------------+--------------------+------------------+-------------------+-------------------------+----------------------+-------------------+ | FreeBSD 13.4 | PASS | SKIPPED | SKIPPED | SKIPPED | SKIPPED | SKIPPED | +---------------------+--------------------+------------------+-------------------+-------------------------+----------------------+-------------------+ | Windows Server 2022 | SKIPPED | SKIPPED | SKIPPED | PASS | PASS | PASS | +---------------------+--------------------+------------------+-------------------+-------------------------+----------------------+-------------------+ CentOS Stream 9 Kernel: Depends on container host Compiler: gcc 11.5.0 20240719 (Red Hat 11.5.0-2) Debian 12 Kernel: Depends on container host Compiler: gcc (Debian 12.2.0-14) 12.2.0 Fedora 39 (Clang) Kernel: Depends on container host Compiler: clang 17.0.6 (Fedora 17.0.6-2.fc39) Fedora 40 (Clang) Kernel: Depends on container host Compiler: clang 18.1.8 (Fedora 18.1.8-1.fc40) Fedora 40 Kernel: Depends on container host Compiler: gcc 14.2.1 20240912 (Red Hat 14.2.1-3) openSUSE Leap 15 Kernel: Depends on container host Compiler: gcc (SUSE Linux) 7.5.0 RHEL8 Kernel: Depends on container host Compiler: gcc 8.5.0 20210514 (Red Hat 8.5.0-22) RHEL9 Kernel: Depends on container host Compiler: gcc 11.5.0 20240719 (Red Hat 11.5.0-2) Ubuntu 20.04 Kernel: Depends on container host Compiler: gcc (Ubuntu 9.4.0-1ubuntu1~20.04.2) 9.4.0 Ubuntu 22.04 Kernel: Depends on container host Compiler: gcc (Ubuntu 11.4.0-1ubuntu1~22.04) 11.4.0 Ubuntu 24.04 Kernel: Depends on container host Compiler: gcc (Ubuntu 13.3.0-6ubuntu2~24.04) 13.3.0 Alpine Kernel: Depends on container host Compiler: gcc (Alpine 14.2.0) 14.2.0 FreeBSD 14.2 Kernel: 14.2-RELEASE Compiler: clang 18.1.6 Fedora 39 Kernel: Depends on container host Compiler: gcc 13.3.1 20240522 (Red Hat 13.3.1-1) FreeBSD 13.4 Kernel: 13.4-RELEASE-p1 Compiler: clang 18.1.6 Windows Server 2022 Kernel: 10.0.20348.2031 Compiler: clang 15.0.7, gcc 14.1.0 (MinGW), and MSVC VS 19.39.33521 To view detailed results, visit: https://lab.dpdk.org/results/dashboard/patchsets/32129/ UNH-IOL DPDK Community Lab To manage your email subscriptions, visit: https://lab.dpdk.org/results/dashboard/preferences/subscriptions/