From mboxrd@z Thu Jan 1 00:00:00 1970 Return-Path: Received: from mails.dpdk.org (mails.dpdk.org [217.70.189.124]) by inbox.dpdk.org (Postfix) with ESMTP id 907EB461BF for ; Fri, 7 Feb 2025 21:03:34 +0100 (CET) Received: from mails.dpdk.org (localhost [127.0.0.1]) by mails.dpdk.org (Postfix) with ESMTP id 8BD5040290; Fri, 7 Feb 2025 21:03:34 +0100 (CET) Received: from mail-il1-f226.google.com (mail-il1-f226.google.com [209.85.166.226]) by mails.dpdk.org (Postfix) with ESMTP id D46DE4026C for ; Fri, 7 Feb 2025 21:03:30 +0100 (CET) Received: by mail-il1-f226.google.com with SMTP id e9e14a558f8ab-3ce87d31480so7571645ab.2 for ; Fri, 07 Feb 2025 12:03:30 -0800 (PST) DKIM-Signature: v=1; a=rsa-sha256; c=relaxed/relaxed; d=iol.unh.edu; s=unh-iol; t=1738958610; x=1739563410; darn=dpdk.org; h=references:in-reply-to:cc:to:from:subject:message-id:date:from:to :cc:subject:date:message-id:reply-to; bh=ZAfFftPlAsj0WqFB8YvErHOasRwzJqpQMvyh63lGRow=; b=KfwKdIlSMKn2w4RoFkGzrbtNKOOEP1pLpJOrsoZe4RTy3Nhp9ELqyDmIak/6Aro7Dc SPJypXbAbyphpU20xhgOgasfrupxNJ5FO6r01sY83pGMtCN+d4Vz5kVtxyiVDgz33noq pH7yWiKHkqjXfCuR1bz+d5vKiUtU20Z4vdHYw= X-Google-DKIM-Signature: v=1; a=rsa-sha256; c=relaxed/relaxed; d=1e100.net; s=20230601; t=1738958610; x=1739563410; h=references:in-reply-to:cc:to:from:subject:message-id:date :x-gm-message-state:from:to:cc:subject:date:message-id:reply-to; bh=ZAfFftPlAsj0WqFB8YvErHOasRwzJqpQMvyh63lGRow=; b=fpt1kvn5DW2kX8JzUKx9e2Kw/OJ51XGxJQj/vpghTai0e+LfVdnHwsup9ctOTWXxJD hnCS1l85CwtnNzhIYGBkTm1KajhBPZEZArKFF6NqDosemNnsIzhIOARaAFDTKWKnQYYQ OXI4g83MkTSu4QcvVvaObt4X8Yyf818IxWg49dEwRSEtyXux6UcAraOYzD9BIyq2Dy1N lZhEQBOhktWLZvSR6hGG/VEX/YRUatboW1Mf9WhIa6oBMJqi8kZrFVxrblMOGpIrpyxT j2ryQF9UkfBPxwmcow2S2PXorJ6iIpssnHt2gQPNhXu2VxtMXw1kX3KvPSZmxBCiEGX1 yMWA== X-Gm-Message-State: AOJu0YynIuLAg4y6+iVs399G/kOmB6Obq6S+I9O2l/VulgvSlFucp1MD XZ4R1PUNVIx65/rqGmHAOq4+z1Aa7ofVxtuO/d5cuqwKaEuUvh9KX0C8loOUbNwa/LbA/u405EB AEGaNX8cpoxkHVEBgvDm+wns6jhUa4do6C5IO9Gm/ X-Gm-Gg: ASbGncscEhKGxwNFM+4QrDVrAiyeoQnKt9G2BF1NcGuYlZyGhQbx3K3EpIlVBLbXs4F c7GFivDHR+7jlBgwgQJLGN8cR8TgUI/XceHinCktmX2weFbgRXTUNhPTWOaDty0kUlkJm0Pae16 AL6P68uu5gnCfVsdoOoYrR/3QbcZNMi6pzDXOYvlL0y5IypW1EqkwmLL7EpxwMVCTOGL2xP/KrA Tcf4/deFPeHyv32c+bYM2Z+gLQUg87uQh2LnJakvyXsinMN6KN9JyQi/x9Zst3zHgwJlxP3cH19 TE5UZTXCgmBXkXi999dTXPGAQmSFpg== X-Google-Smtp-Source: AGHT+IHTQkLP8W8rq8sQNBrdAJ+2Vqh8hiTTNqEYP0OcBpffo/QvUEXc5DdN9ilyYzKfWUMhunESTEZ+aKcl X-Received: by 2002:a05:6e02:1c03:b0:3cf:fd90:946a with SMTP id e9e14a558f8ab-3d13dd38aebmr26698045ab.10.1738958610236; Fri, 07 Feb 2025 12:03:30 -0800 (PST) Received: from postal.iol.unh.edu (postal.iol.unh.edu. [132.177.123.84]) by smtp-relay.gmail.com with ESMTPS id e9e14a558f8ab-3d05e921397sm2801905ab.40.2025.02.07.12.03.30 (version=TLS1_2 cipher=ECDHE-ECDSA-AES128-GCM-SHA256 bits=128/128); Fri, 07 Feb 2025 12:03:30 -0800 (PST) X-Relaying-Domain: iol.unh.edu Date: Fri, 07 Feb 2025 12:03:30 -0800 (PST) Message-ID: <67a66712.050a0220.36ef3a.e786SMTPIN_ADDED_MISSING@mx.google.com> Received: from [172.21.0.15] (unknown [172.18.0.240]) by postal.iol.unh.edu (Postfix) with ESMTP id BAE396052471; Fri, 7 Feb 2025 15:03:29 -0500 (EST) Subject: |SUCCESS| pw149208 [PATCH] net/ena: fix missing default llq policy From: dpdklab@iol.unh.edu To: Test Report Cc: dpdk-test-reports@iol.unh.edu In-Reply-To: <20241212152455.510-1-shaibran@amazon.com> References: <20241212152455.510-1-shaibran@amazon.com> Content-Type: text/plain X-BeenThere: test-report@dpdk.org X-Mailman-Version: 2.1.29 Precedence: list List-Id: automatic DPDK test reports List-Unsubscribe: , List-Archive: List-Post: List-Help: List-Subscribe: , Errors-To: test-report-bounces@dpdk.org Test-Label: iol-compile-amd64-testing Test-Status: SUCCESS http://dpdk.org/patch/149208 _Testing PASS_ Submitter: Brandes, Shai Date: Thursday, December 12 2024 15:24:55 DPDK git baseline: Repo:dpdk Branch: master CommitID:f1e0472368d4dbb1da33ae68b18ca21bc8a55259 149208 --> testing pass Test environment and result as below: +---------------------+--------------------+------------------+-------------------+-------------------------+----------------------+-------------------+ | Environment | dpdk_meson_compile | dpdk_compile_ovs | dpdk_compile_spdk | dpdk_llvm_clang_compile | dpdk_mingw64_compile | dpdk_msvc_compile | +=====================+====================+==================+===================+=========================+======================+===================+ | Fedora 39 | PASS | PASS | PASS | SKIPPED | SKIPPED | SKIPPED | +---------------------+--------------------+------------------+-------------------+-------------------------+----------------------+-------------------+ | CentOS Stream 9 | PASS | PASS | PASS | SKIPPED | SKIPPED | SKIPPED | +---------------------+--------------------+------------------+-------------------+-------------------------+----------------------+-------------------+ | Debian 12 | PASS | PASS | PASS | SKIPPED | SKIPPED | SKIPPED | +---------------------+--------------------+------------------+-------------------+-------------------------+----------------------+-------------------+ | Fedora 39 (Clang) | PASS | PASS | PASS | SKIPPED | SKIPPED | SKIPPED | +---------------------+--------------------+------------------+-------------------+-------------------------+----------------------+-------------------+ | Fedora 40 (Clang) | PASS | PASS | PASS | SKIPPED | SKIPPED | SKIPPED | +---------------------+--------------------+------------------+-------------------+-------------------------+----------------------+-------------------+ | RHEL8 | PASS | PASS | SKIPPED | SKIPPED | SKIPPED | SKIPPED | +---------------------+--------------------+------------------+-------------------+-------------------------+----------------------+-------------------+ | RHEL9 | PASS | PASS | SKIPPED | SKIPPED | SKIPPED | SKIPPED | +---------------------+--------------------+------------------+-------------------+-------------------------+----------------------+-------------------+ | Ubuntu 20.04 | PASS | SKIPPED | SKIPPED | SKIPPED | SKIPPED | SKIPPED | +---------------------+--------------------+------------------+-------------------+-------------------------+----------------------+-------------------+ | Ubuntu 24.04 | PASS | PASS | PASS | SKIPPED | SKIPPED | SKIPPED | +---------------------+--------------------+------------------+-------------------+-------------------------+----------------------+-------------------+ | Ubuntu 22.04 | PASS | PASS | PASS | SKIPPED | SKIPPED | SKIPPED | +---------------------+--------------------+------------------+-------------------+-------------------------+----------------------+-------------------+ | Alpine | PASS | PASS | SKIPPED | SKIPPED | SKIPPED | SKIPPED | +---------------------+--------------------+------------------+-------------------+-------------------------+----------------------+-------------------+ | FreeBSD 13.4 | PASS | SKIPPED | SKIPPED | SKIPPED | SKIPPED | SKIPPED | +---------------------+--------------------+------------------+-------------------+-------------------------+----------------------+-------------------+ | FreeBSD 14.2 | PASS | SKIPPED | SKIPPED | SKIPPED | SKIPPED | SKIPPED | +---------------------+--------------------+------------------+-------------------+-------------------------+----------------------+-------------------+ | openSUSE Leap 15 | PASS | SKIPPED | SKIPPED | SKIPPED | SKIPPED | SKIPPED | +---------------------+--------------------+------------------+-------------------+-------------------------+----------------------+-------------------+ | Fedora 40 | PASS | PASS | PASS | SKIPPED | SKIPPED | SKIPPED | +---------------------+--------------------+------------------+-------------------+-------------------------+----------------------+-------------------+ | Windows Server 2022 | SKIPPED | SKIPPED | SKIPPED | PASS | PASS | PASS | +---------------------+--------------------+------------------+-------------------+-------------------------+----------------------+-------------------+ Fedora 39 Kernel: Depends on container host Compiler: gcc 13.3.1 20240522 (Red Hat 13.3.1-1) CentOS Stream 9 Kernel: Depends on container host Compiler: gcc 11.5.0 20240719 (Red Hat 11.5.0-2) Debian 12 Kernel: Depends on container host Compiler: gcc (Debian 12.2.0-14) 12.2.0 Fedora 39 (Clang) Kernel: Depends on container host Compiler: clang 17.0.6 (Fedora 17.0.6-2.fc39) Fedora 40 (Clang) Kernel: Depends on container host Compiler: clang 18.1.8 (Fedora 18.1.8-1.fc40) RHEL8 Kernel: Depends on container host Compiler: gcc 8.5.0 20210514 (Red Hat 8.5.0-22) RHEL9 Kernel: Depends on container host Compiler: gcc 11.5.0 20240719 (Red Hat 11.5.0-2) Ubuntu 20.04 Kernel: Depends on container host Compiler: gcc (Ubuntu 9.4.0-1ubuntu1~20.04.2) 9.4.0 Ubuntu 24.04 Kernel: Depends on container host Compiler: gcc (Ubuntu 13.3.0-6ubuntu2~24.04) 13.3.0 Ubuntu 22.04 Kernel: Depends on container host Compiler: gcc (Ubuntu 11.4.0-1ubuntu1~22.04) 11.4.0 Alpine Kernel: Depends on container host Compiler: gcc (Alpine 14.2.0) 14.2.0 FreeBSD 13.4 Kernel: 13.4-RELEASE-p1 Compiler: clang 18.1.6 FreeBSD 14.2 Kernel: 14.2-RELEASE Compiler: clang 18.1.6 openSUSE Leap 15 Kernel: Depends on container host Compiler: gcc (SUSE Linux) 7.5.0 Fedora 40 Kernel: Depends on container host Compiler: gcc 14.2.1 20240912 (Red Hat 14.2.1-3) Windows Server 2022 Kernel: 10.0.20348.2031 Compiler: clang 15.0.7, gcc 14.1.0 (MinGW), and MSVC VS 19.39.33521 To view detailed results, visit: https://lab.dpdk.org/results/dashboard/patchsets/32126/ UNH-IOL DPDK Community Lab To manage your email subscriptions, visit: https://lab.dpdk.org/results/dashboard/preferences/subscriptions/