From mboxrd@z Thu Jan 1 00:00:00 1970 Return-Path: Received: from mails.dpdk.org (mails.dpdk.org [217.70.189.124]) by inbox.dpdk.org (Postfix) with ESMTP id B8869461BF for ; Fri, 7 Feb 2025 21:03:56 +0100 (CET) Received: from mails.dpdk.org (localhost [127.0.0.1]) by mails.dpdk.org (Postfix) with ESMTP id AB6A140290; Fri, 7 Feb 2025 21:03:56 +0100 (CET) Received: from mail-il1-f227.google.com (mail-il1-f227.google.com [209.85.166.227]) by mails.dpdk.org (Postfix) with ESMTP id B69244026C for ; Fri, 7 Feb 2025 21:03:55 +0100 (CET) Received: by mail-il1-f227.google.com with SMTP id e9e14a558f8ab-3ce886a2d5bso21914085ab.1 for ; Fri, 07 Feb 2025 12:03:55 -0800 (PST) DKIM-Signature: v=1; a=rsa-sha256; c=relaxed/relaxed; d=iol.unh.edu; s=unh-iol; t=1738958635; x=1739563435; darn=dpdk.org; h=references:in-reply-to:cc:to:from:subject:message-id:date:from:to :cc:subject:date:message-id:reply-to; bh=WQwM1eVErEYARF5BwxZPNqCl1gPSnDzSu+R+X+ueRIY=; b=Bn/uQ+sLbXu47oluliJRaALeTv01rwPcqcvdd8KDmuEVygj/XgdhLH2I4ZvA9Av6sb THlq+vZ837jcRNiE8s0jKx1Q04BkE0OEeXBaMMuymhNbkEqLgvCPXpdnlvgBo3D9rLBR LfxxLMoYkPq/Dhh6BsOsei8MyK6hygFaaPgc4= X-Google-DKIM-Signature: v=1; a=rsa-sha256; c=relaxed/relaxed; d=1e100.net; s=20230601; t=1738958635; x=1739563435; h=references:in-reply-to:cc:to:from:subject:message-id:date :x-gm-message-state:from:to:cc:subject:date:message-id:reply-to; bh=WQwM1eVErEYARF5BwxZPNqCl1gPSnDzSu+R+X+ueRIY=; b=On7mLwpbCYBhpbcCaJFjhh8gJinhphe/jHL+ZafWEw854U1/UmOBpAacCM5oGT1vHF gsfe2ZhbbKrjIYqMkMEkcWFGPxZq5U75LSKCmlfxzKj05SV/jp6W9+EnK8pKDXa5gVjm fGRRjRnr9G7xEKXIUjR/AmgC5+hcvGAWF5XgO5cCqUcYd6plc7vJZkrx77oVeROqKb5j aaVdS8o1R3cJ0Nsna0+LOD7p7jlioQ0ObPzx0eFESJro4ZBejsh6k/AvolcLpWIwyu6C bn+h9AFJBqUHJN/0fdQt11DThhwH9VSbrvrX/Ha89h+a1bNm9Q7q7PsGmw6XVNw2NJ/B 2d0A== X-Gm-Message-State: AOJu0Yyb9rOkH1rmsZfzbHmWK3BJiaxderXfRFGBU0uwxwvrPV1mIHc/ cvct8ru3ot9BNS3TQwVEbENUmJ3wcynhbZGBtztNhJEsoE7RekV4MGCpeBvnFqUZurCrWxSIAJ8 d5hQ2+qCVDnyiQ+rh5Gn6bMja6kKPpGwZy/tc7JPm X-Gm-Gg: ASbGncvU/R20ce+UCtm26AkipAxryugFvwkpc0kNaTb+tk0LhriFQLwHfLag4r1KPMr q24Fmk4+RHIcqlf27n6BiaS08RoDwjv3H3V9QQpb6ULl5g4/6eGK6vwAvghUv0REm4Y3eRtEHhe f/ztQMhuZYfpUF73Gi9IYbCyyaxgEEp2+RnJmsH7IkIzR97UzhvpVeZCLHYmDvaQfogI9YMWIbx qDbhznubfSfwcxvwEJ2tBHPGW2Ia0lorA1+nEMY4OzjpzKY6hh4R+DweF1kijv1PM2S5dtXrR2S yQl6naVuperUn5aiL7xR5ceJqe1TKQ== X-Google-Smtp-Source: AGHT+IHGAIKJoEFi4lBOiOH5Rnyd8mpgai1CZ1llEgScfg1ud+hY70YohYTFj4CAFZPDFFVpXzT/0m4bQ1Y7 X-Received: by 2002:a05:6e02:1948:b0:3cf:cb93:de02 with SMTP id e9e14a558f8ab-3d13de78c94mr44679415ab.3.1738958635046; Fri, 07 Feb 2025 12:03:55 -0800 (PST) Received: from postal.iol.unh.edu (postal.iol.unh.edu. [132.177.123.84]) by smtp-relay.gmail.com with ESMTPS id e9e14a558f8ab-3d05e8fff9asm2823965ab.26.2025.02.07.12.03.54 (version=TLS1_2 cipher=ECDHE-ECDSA-AES128-GCM-SHA256 bits=128/128); Fri, 07 Feb 2025 12:03:55 -0800 (PST) X-Relaying-Domain: iol.unh.edu Date: Fri, 07 Feb 2025 12:03:55 -0800 (PST) Message-ID: <67a6672b.050a0220.2bd34b.f5dfSMTPIN_ADDED_MISSING@mx.google.com> Received: from [172.21.0.11] (unknown [172.18.0.240]) by postal.iol.unh.edu (Postfix) with ESMTP id 8398E6052472; Fri, 7 Feb 2025 15:03:24 -0500 (EST) Subject: |SUCCESS| pw149230 [PATCH] [v2,1/1] app/test: remove useless calls t From: dpdklab@iol.unh.edu To: Test Report Cc: dpdk-test-reports@iol.unh.edu In-Reply-To: <20241213114452.59377-2-otilibil@eurecom.fr> References: <20241213114452.59377-2-otilibil@eurecom.fr> Content-Type: text/plain X-BeenThere: test-report@dpdk.org X-Mailman-Version: 2.1.29 Precedence: list List-Id: automatic DPDK test reports List-Unsubscribe: , List-Archive: List-Post: List-Help: List-Subscribe: , Errors-To: test-report-bounces@dpdk.org Test-Label: iol-compile-amd64-testing Test-Status: SUCCESS http://dpdk.org/patch/149230 _Testing PASS_ Submitter: Ariel Otilibili-Anieli Date: Friday, December 13 2024 11:38:42 DPDK git baseline: Repo:dpdk Branch: master CommitID:7df61db6c387703a36306c1aea92225921e2eeb2 149230 --> testing pass Test environment and result as below: +---------------------+--------------------+------------------+-------------------+-------------------------+----------------------+-------------------+ | Environment | dpdk_meson_compile | dpdk_compile_ovs | dpdk_compile_spdk | dpdk_llvm_clang_compile | dpdk_mingw64_compile | dpdk_msvc_compile | +=====================+====================+==================+===================+=========================+======================+===================+ | CentOS Stream 9 | PASS | PASS | PASS | SKIPPED | SKIPPED | SKIPPED | +---------------------+--------------------+------------------+-------------------+-------------------------+----------------------+-------------------+ | Debian 12 | PASS | PASS | PASS | SKIPPED | SKIPPED | SKIPPED | +---------------------+--------------------+------------------+-------------------+-------------------------+----------------------+-------------------+ | Fedora 39 (Clang) | PASS | PASS | PASS | SKIPPED | SKIPPED | SKIPPED | +---------------------+--------------------+------------------+-------------------+-------------------------+----------------------+-------------------+ | Fedora 39 | PASS | PASS | PASS | SKIPPED | SKIPPED | SKIPPED | +---------------------+--------------------+------------------+-------------------+-------------------------+----------------------+-------------------+ | Fedora 40 (Clang) | PASS | PASS | PASS | SKIPPED | SKIPPED | SKIPPED | +---------------------+--------------------+------------------+-------------------+-------------------------+----------------------+-------------------+ | Fedora 40 | PASS | PASS | PASS | SKIPPED | SKIPPED | SKIPPED | +---------------------+--------------------+------------------+-------------------+-------------------------+----------------------+-------------------+ | openSUSE Leap 15 | PASS | SKIPPED | SKIPPED | SKIPPED | SKIPPED | SKIPPED | +---------------------+--------------------+------------------+-------------------+-------------------------+----------------------+-------------------+ | RHEL9 | PASS | PASS | SKIPPED | SKIPPED | SKIPPED | SKIPPED | +---------------------+--------------------+------------------+-------------------+-------------------------+----------------------+-------------------+ | RHEL8 | PASS | PASS | SKIPPED | SKIPPED | SKIPPED | SKIPPED | +---------------------+--------------------+------------------+-------------------+-------------------------+----------------------+-------------------+ | Ubuntu 24.04 | PASS | PASS | PASS | SKIPPED | SKIPPED | SKIPPED | +---------------------+--------------------+------------------+-------------------+-------------------------+----------------------+-------------------+ | Ubuntu 22.04 | PASS | PASS | PASS | SKIPPED | SKIPPED | SKIPPED | +---------------------+--------------------+------------------+-------------------+-------------------------+----------------------+-------------------+ | Ubuntu 20.04 | PASS | SKIPPED | SKIPPED | SKIPPED | SKIPPED | SKIPPED | +---------------------+--------------------+------------------+-------------------+-------------------------+----------------------+-------------------+ | Alpine | PASS | PASS | SKIPPED | SKIPPED | SKIPPED | SKIPPED | +---------------------+--------------------+------------------+-------------------+-------------------------+----------------------+-------------------+ | FreeBSD 13.4 | PASS | SKIPPED | SKIPPED | SKIPPED | SKIPPED | SKIPPED | +---------------------+--------------------+------------------+-------------------+-------------------------+----------------------+-------------------+ | FreeBSD 14.2 | PASS | SKIPPED | SKIPPED | SKIPPED | SKIPPED | SKIPPED | +---------------------+--------------------+------------------+-------------------+-------------------------+----------------------+-------------------+ | Windows Server 2022 | SKIPPED | SKIPPED | SKIPPED | PASS | PASS | PASS | +---------------------+--------------------+------------------+-------------------+-------------------------+----------------------+-------------------+ CentOS Stream 9 Kernel: Depends on container host Compiler: gcc 11.5.0 20240719 (Red Hat 11.5.0-2) Debian 12 Kernel: Depends on container host Compiler: gcc (Debian 12.2.0-14) 12.2.0 Fedora 39 (Clang) Kernel: Depends on container host Compiler: clang 17.0.6 (Fedora 17.0.6-2.fc39) Fedora 39 Kernel: Depends on container host Compiler: gcc 13.3.1 20240522 (Red Hat 13.3.1-1) Fedora 40 (Clang) Kernel: Depends on container host Compiler: clang 18.1.8 (Fedora 18.1.8-1.fc40) Fedora 40 Kernel: Depends on container host Compiler: gcc 14.2.1 20240912 (Red Hat 14.2.1-3) openSUSE Leap 15 Kernel: Depends on container host Compiler: gcc (SUSE Linux) 7.5.0 RHEL9 Kernel: Depends on container host Compiler: gcc 11.5.0 20240719 (Red Hat 11.5.0-2) RHEL8 Kernel: Depends on container host Compiler: gcc 8.5.0 20210514 (Red Hat 8.5.0-22) Ubuntu 24.04 Kernel: Depends on container host Compiler: gcc (Ubuntu 13.3.0-6ubuntu2~24.04) 13.3.0 Ubuntu 22.04 Kernel: Depends on container host Compiler: gcc (Ubuntu 11.4.0-1ubuntu1~22.04) 11.4.0 Ubuntu 20.04 Kernel: Depends on container host Compiler: gcc (Ubuntu 9.4.0-1ubuntu1~20.04.2) 9.4.0 Alpine Kernel: Depends on container host Compiler: gcc (Alpine 14.2.0) 14.2.0 FreeBSD 13.4 Kernel: 13.4-RELEASE-p1 Compiler: clang 18.1.6 FreeBSD 14.2 Kernel: 14.2-RELEASE Compiler: clang 18.1.6 Windows Server 2022 Kernel: 10.0.20348.2031 Compiler: clang 15.0.7, gcc 14.1.0 (MinGW), and MSVC VS 19.39.33521 To view detailed results, visit: https://lab.dpdk.org/results/dashboard/patchsets/32137/ UNH-IOL DPDK Community Lab To manage your email subscriptions, visit: https://lab.dpdk.org/results/dashboard/preferences/subscriptions/