From mboxrd@z Thu Jan  1 00:00:00 1970
Return-Path: <test-report-bounces@dpdk.org>
Received: from mails.dpdk.org (mails.dpdk.org [217.70.189.124])
	by inbox.dpdk.org (Postfix) with ESMTP id CDBF7461BF
	for <public@inbox.dpdk.org>; Fri,  7 Feb 2025 21:03:58 +0100 (CET)
Received: from mails.dpdk.org (localhost [127.0.0.1])
	by mails.dpdk.org (Postfix) with ESMTP id CABCD40290;
	Fri,  7 Feb 2025 21:03:58 +0100 (CET)
Received: from mail-yb1-f226.google.com (mail-yb1-f226.google.com
 [209.85.219.226])
 by mails.dpdk.org (Postfix) with ESMTP id 206AE4026C
 for <test-report@dpdk.org>; Fri,  7 Feb 2025 21:03:58 +0100 (CET)
Received: by mail-yb1-f226.google.com with SMTP id
 3f1490d57ef6-e53c9035003so1810634276.2
 for <test-report@dpdk.org>; Fri, 07 Feb 2025 12:03:58 -0800 (PST)
DKIM-Signature: v=1; a=rsa-sha256; c=relaxed/relaxed;
 d=iol.unh.edu; s=unh-iol; t=1738958637; x=1739563437; darn=dpdk.org;
 h=references:in-reply-to:cc:to:from:subject:message-id:date:from:to
 :cc:subject:date:message-id:reply-to;
 bh=FydhdlkendnyRV9YZJOmOoyIj/6GscKv2yLA4y70UCI=;
 b=CwcXz7Msu9rIadR7sRCq+Rw2VTdOidYqf9EKPIYFI1kN46/xKhVBCHmni1FcNnbThG
 YsLSwGSN7RjJQiVvjDBtV7dYANh1S8m/h9rNnQNunN3cm9lZlfwPcniuqf71Lyw7qZWv
 sAIrBSFAh+1M9Wvr7GjfcbKjaCVoxpIBVkKDw=
X-Google-DKIM-Signature: v=1; a=rsa-sha256; c=relaxed/relaxed;
 d=1e100.net; s=20230601; t=1738958637; x=1739563437;
 h=references:in-reply-to:cc:to:from:subject:message-id:date
 :x-gm-message-state:from:to:cc:subject:date:message-id:reply-to;
 bh=FydhdlkendnyRV9YZJOmOoyIj/6GscKv2yLA4y70UCI=;
 b=DScxYz0rU/KbkyQuujrHITKT/htiZq3I0UIkMXUpQiulcG+GZfTaXfgake0yjjQRVx
 BwVvKH90t9i7KWbQB43vgLGK9XH3v83fdeA7mirMOmhY4tHQWq9pRkKH84PADsDKn0Fo
 EThx8llwqPPS9HZnuWH//CPveTG0meAF3tZVn461rFikYJ+9RForKWbPCzIYLnB8ohv2
 x6IXLDURXTysIjKGjKSe/MHjY50mKv7kgeVi5+2CHAasWBAukY6yoTyCBYHOybkT7ByH
 YFLGcAdfrzuLEFOWevny6FdYrF7OCPeGGCKkVqjPmCHa7HnHe3tr5GxEYHxnvdqtm8Q3
 sPKQ==
X-Gm-Message-State: AOJu0YypU7Pi1mpfeIc2qHquVnhlijRFQc9PfCvn5LlvQaaxnTpdIi/N
 qhAVWu7Yv/9kKPffc/wmzRmuZinHX4+NNxI+K1QNje6SMXl1OCTRj1iwHZPM8hR3hJ7lQ/0HgaB
 JdEJZZdskgfXiUiCf7UeX5/8nkopztxd9lmJnY/Fh
X-Gm-Gg: ASbGnctfct49Wr7gUergDoasuUhRRcG4pcLzeS8kqJVC0OgJFkUxstodqLHgXlXlulo
 TVejmCzIajKaoViwdMPNogUptkAdgILXVfuXO7UU2ndsS78/CAgUhRy7GZenfdKYoNXeWvLf0oc
 ypKR0HesGOP7Eig638Gf/dcQiCTvVG2Nvbzt4Hba2rBQTQofDXNBLOITOc1vWhydNUuy1Kw7RyX
 X0GN+PJsBVX4tVUDnmQjMGUGX9Yfw+fSUD0CVUiXfT4HwI9vQ5CVtY/DBto7wylY3GpFq/W8KYC
 KBVqzRaeuZ4QSHzd8Ugb3cYeu3y3Qw==
X-Google-Smtp-Source: AGHT+IGvuifPO37xFipLXwTPhE/lxPaqaeQqWAKvTH5MJHQH1YzExbIe4a5+FAAlr5G9P9HkAZ2HTIE1Hiq4
X-Received: by 2002:a05:690c:25c1:b0:6ea:7b00:4aa5 with SMTP id
 00721157ae682-6f9b2a1863emr39922017b3.33.1738958637379; 
 Fri, 07 Feb 2025 12:03:57 -0800 (PST)
Received: from postal.iol.unh.edu (postal.iol.unh.edu. [132.177.123.84])
 by smtp-relay.gmail.com with ESMTPS id
 00721157ae682-6f99ffe0f70sm524087b3.66.2025.02.07.12.03.57
 (version=TLS1_2 cipher=ECDHE-ECDSA-AES128-GCM-SHA256 bits=128/128);
 Fri, 07 Feb 2025 12:03:57 -0800 (PST)
X-Relaying-Domain: iol.unh.edu
Date: Fri, 07 Feb 2025 12:03:57 -0800 (PST)
Message-ID: <67a6672d.050a0220.2f2a77.2638SMTPIN_ADDED_MISSING@mx.google.com>
Received: from [172.21.0.7] (unknown [172.18.0.240])
 by postal.iol.unh.edu (Postfix) with ESMTP id 09AC06052477;
 Fri,  7 Feb 2025 15:03:27 -0500 (EST)
Subject: |SUCCESS| pw149201-149207 [PATCH] [v2,7/7] dts: update linters in do
From: dpdklab@iol.unh.edu
To: Test Report <test-report@dpdk.org>
Cc: dpdk-test-reports@iol.unh.edu
In-Reply-To: <20241212140013.17548-8-luca.vizzarro@arm.com>
References: <20241212140013.17548-8-luca.vizzarro@arm.com>
Content-Type: text/plain
X-BeenThere: test-report@dpdk.org
X-Mailman-Version: 2.1.29
Precedence: list
List-Id: automatic DPDK test reports <test-report.dpdk.org>
List-Unsubscribe: <https://mails.dpdk.org/options/test-report>,
 <mailto:test-report-request@dpdk.org?subject=unsubscribe>
List-Archive: <http://mails.dpdk.org/archives/test-report/>
List-Post: <mailto:test-report@dpdk.org>
List-Help: <mailto:test-report-request@dpdk.org?subject=help>
List-Subscribe: <https://mails.dpdk.org/listinfo/test-report>,
 <mailto:test-report-request@dpdk.org?subject=subscribe>
Errors-To: test-report-bounces@dpdk.org

Test-Label: iol-compile-amd64-testing
Test-Status: SUCCESS
http://dpdk.org/patch/149207

_Testing PASS_

Submitter: Luca Vizzarro <luca.vizzarro@arm.com>
Date: Thursday, December 12 2024 14:00:13 
DPDK git baseline: Repo:dpdk
  Branch: master
  CommitID:7df61db6c387703a36306c1aea92225921e2eeb2

149201-149207 --> testing pass

Test environment and result as below:

+---------------------+--------------------+------------------+-------------------+-------------------------+----------------------+-------------------+
|     Environment     | dpdk_meson_compile | dpdk_compile_ovs | dpdk_compile_spdk | dpdk_llvm_clang_compile | dpdk_mingw64_compile | dpdk_msvc_compile |
+=====================+====================+==================+===================+=========================+======================+===================+
| CentOS Stream 9     | PASS               | PASS             | PASS              | SKIPPED                 | SKIPPED              | SKIPPED           |
+---------------------+--------------------+------------------+-------------------+-------------------------+----------------------+-------------------+
| Debian 12           | PASS               | PASS             | PASS              | SKIPPED                 | SKIPPED              | SKIPPED           |
+---------------------+--------------------+------------------+-------------------+-------------------------+----------------------+-------------------+
| Fedora 40           | PASS               | PASS             | PASS              | SKIPPED                 | SKIPPED              | SKIPPED           |
+---------------------+--------------------+------------------+-------------------+-------------------------+----------------------+-------------------+
| Fedora 40 (Clang)   | PASS               | PASS             | PASS              | SKIPPED                 | SKIPPED              | SKIPPED           |
+---------------------+--------------------+------------------+-------------------+-------------------------+----------------------+-------------------+
| RHEL9               | PASS               | PASS             | SKIPPED           | SKIPPED                 | SKIPPED              | SKIPPED           |
+---------------------+--------------------+------------------+-------------------+-------------------------+----------------------+-------------------+
| openSUSE Leap 15    | PASS               | SKIPPED          | SKIPPED           | SKIPPED                 | SKIPPED              | SKIPPED           |
+---------------------+--------------------+------------------+-------------------+-------------------------+----------------------+-------------------+
| RHEL8               | PASS               | PASS             | SKIPPED           | SKIPPED                 | SKIPPED              | SKIPPED           |
+---------------------+--------------------+------------------+-------------------+-------------------------+----------------------+-------------------+
| Ubuntu 22.04        | PASS               | PASS             | PASS              | SKIPPED                 | SKIPPED              | SKIPPED           |
+---------------------+--------------------+------------------+-------------------+-------------------------+----------------------+-------------------+
| Ubuntu 20.04        | PASS               | SKIPPED          | SKIPPED           | SKIPPED                 | SKIPPED              | SKIPPED           |
+---------------------+--------------------+------------------+-------------------+-------------------------+----------------------+-------------------+
| Ubuntu 24.04        | PASS               | PASS             | PASS              | SKIPPED                 | SKIPPED              | SKIPPED           |
+---------------------+--------------------+------------------+-------------------+-------------------------+----------------------+-------------------+
| Alpine              | PASS               | PASS             | SKIPPED           | SKIPPED                 | SKIPPED              | SKIPPED           |
+---------------------+--------------------+------------------+-------------------+-------------------------+----------------------+-------------------+
| FreeBSD 13.4        | PASS               | SKIPPED          | SKIPPED           | SKIPPED                 | SKIPPED              | SKIPPED           |
+---------------------+--------------------+------------------+-------------------+-------------------------+----------------------+-------------------+
| FreeBSD 14.2        | PASS               | SKIPPED          | SKIPPED           | SKIPPED                 | SKIPPED              | SKIPPED           |
+---------------------+--------------------+------------------+-------------------+-------------------------+----------------------+-------------------+
| Windows Server 2022 | SKIPPED            | SKIPPED          | SKIPPED           | PASS                    | PASS                 | PASS              |
+---------------------+--------------------+------------------+-------------------+-------------------------+----------------------+-------------------+


CentOS Stream 9
	Kernel: Depends on container host
	Compiler: gcc 11.5.0 20240719 (Red Hat 11.5.0-2)

Debian 12
	Kernel: Depends on container host
	Compiler: gcc (Debian 12.2.0-14) 12.2.0

Fedora 40
	Kernel: Depends on container host
	Compiler: gcc 14.2.1 20240912 (Red Hat 14.2.1-3)

Fedora 40 (Clang)
	Kernel: Depends on container host
	Compiler: clang 18.1.8 (Fedora 18.1.8-1.fc40)

RHEL9
	Kernel: Depends on container host
	Compiler: gcc 11.5.0 20240719 (Red Hat 11.5.0-2)

openSUSE Leap 15
	Kernel: Depends on container host
	Compiler: gcc (SUSE Linux) 7.5.0

RHEL8
	Kernel: Depends on container host
	Compiler: gcc 8.5.0 20210514 (Red Hat 8.5.0-22)

Ubuntu 22.04
	Kernel: Depends on container host
	Compiler: gcc (Ubuntu 11.4.0-1ubuntu1~22.04) 11.4.0

Ubuntu 20.04
	Kernel: Depends on container host
	Compiler: gcc (Ubuntu 9.4.0-1ubuntu1~20.04.2) 9.4.0

Ubuntu 24.04
	Kernel: Depends on container host
	Compiler: gcc (Ubuntu 13.3.0-6ubuntu2~24.04) 13.3.0

Alpine
	Kernel: Depends on container host
	Compiler: gcc (Alpine 14.2.0) 14.2.0

FreeBSD 13.4
	Kernel: 13.4-RELEASE-p1
	Compiler: clang 18.1.6

FreeBSD 14.2
	Kernel: 14.2-RELEASE
	Compiler: clang 18.1.6

Windows Server 2022
	Kernel: 10.0.20348.2031
	Compiler: clang 15.0.7, gcc 14.1.0 (MinGW), and MSVC VS 19.39.33521

To view detailed results, visit:
https://lab.dpdk.org/results/dashboard/patchsets/32125/

UNH-IOL DPDK Community Lab

To manage your email subscriptions, visit: 
https://lab.dpdk.org/results/dashboard/preferences/subscriptions/