From mboxrd@z Thu Jan 1 00:00:00 1970 Return-Path: Received: from mails.dpdk.org (mails.dpdk.org [217.70.189.124]) by inbox.dpdk.org (Postfix) with ESMTP id EC267461BF for ; Fri, 7 Feb 2025 21:04:02 +0100 (CET) Received: from mails.dpdk.org (localhost [127.0.0.1]) by mails.dpdk.org (Postfix) with ESMTP id E72DD402B3; Fri, 7 Feb 2025 21:04:02 +0100 (CET) Received: from mail-io1-f98.google.com (mail-io1-f98.google.com [209.85.166.98]) by mails.dpdk.org (Postfix) with ESMTP id 5DC91402CE for ; Fri, 7 Feb 2025 21:04:00 +0100 (CET) Received: by mail-io1-f98.google.com with SMTP id ca18e2360f4ac-844e9b8b0b9so186894739f.0 for ; Fri, 07 Feb 2025 12:04:00 -0800 (PST) DKIM-Signature: v=1; a=rsa-sha256; c=relaxed/relaxed; d=iol.unh.edu; s=unh-iol; t=1738958639; x=1739563439; darn=dpdk.org; h=references:in-reply-to:cc:to:from:subject:message-id:date:from:to :cc:subject:date:message-id:reply-to; bh=Uz4c+jRic+Jn29inz97HE2MTqCWVgSfto1iU2jU9V0I=; b=SwPZfelJFcYW+odvmaDLO/iw0DyJboeP/xIXTQcN754DFej0uMtyIcY6eBnjuoCoS7 7qMw8A9WZ0uKKXYqRUwpQ/41JoSSS4eHd0qK7xgqYOhohBRe+XdnEF7KBrXqHcJDQqOb RWueC7wAxR7io0fbsfBAG8fcFeE2ZHDqvR0FI= X-Google-DKIM-Signature: v=1; a=rsa-sha256; c=relaxed/relaxed; d=1e100.net; s=20230601; t=1738958639; x=1739563439; h=references:in-reply-to:cc:to:from:subject:message-id:date :x-gm-message-state:from:to:cc:subject:date:message-id:reply-to; bh=Uz4c+jRic+Jn29inz97HE2MTqCWVgSfto1iU2jU9V0I=; b=xAVtTYNc/aCfsCuHgf8/JQ5Oab4KSvXr1+88UclaQ4NRF/2xSdUHI82Kr38Go4GD2U iDXf5Rz9z5NZubbmKYcFsp/Y83ntOCxCStQ6l1DB/g6LpMyO4SZe5WkmXCoaLqQDR/jq 302pxggjeUXbEpM5dEXpteOSPJlio3SnQkoUwpL52vPClC7V/er+pg1vP+UNolgL43r+ WfElUmM+MAXIewkv/Q7b18VQrU6q7ssJcsFC4p3pv9UFGKyNIOOuWDlhfomT9/D/JqfQ iJ2V2/vYE6g49eJ7wyOaDHb6/Es0G7W+1Ki/bQhb0/NCKfevlPNAJXLbqZJ2CTKwfpGQ dILw== X-Gm-Message-State: AOJu0YwgY/46EoRiQSQkkz3ekgDcE/eIA41QvaddoKLeyG3HG886Aqfk fEAKouzJ0jK6MHGEiR3ZFp47B3mX3Y/klezog1KjpKDP7Bhx15PNmm1QkCFoK1hziH2EigPEw2H GJ3BBwFLecGoz3+MA4SiswZbuR0rx+BwmE1qzaRN1 X-Gm-Gg: ASbGncsoazmGaykWLBNB0E6C8hJR0j91rdE+yViCLSQtIZulaVH9MorKOJW57oxTWR4 TXBgaXsiQ7nnCFZX6cF/Bu2xV+aOLJzPjxfHpwL5kLWhTcSisOMmV9I8V2Y8mqOI7MbSfj3J0Ct xkNy808ksc06JvmQd6E+XeNClpK2xQCsCqQAqDiISCYyr3vLmhKIub5MmaxGK67FnxWlreiBEZ7 nr0dctn5zISMz2REZUi9iT9OYOhAFaXh0xPMBaQ/5axJfPTZpfdZqMRNjjT2SpiVI72V9EKqKYC hI6uUZBFzhBG3Ad2/kk1iCx7F/rWbw== X-Google-Smtp-Source: AGHT+IHn3U2AHDMaZcghD2oaqYUZKV1KPGLn9JOL64zs+yz25eNi+00/N3Kr1TJFEnZTUJsaW2Hmq1Bb5Xr6 X-Received: by 2002:a05:6602:6a46:b0:841:950b:386d with SMTP id ca18e2360f4ac-854fd888feemr514767839f.3.1738958639752; Fri, 07 Feb 2025 12:03:59 -0800 (PST) Received: from postal.iol.unh.edu (postal.iol.unh.edu. [132.177.123.84]) by smtp-relay.gmail.com with ESMTPS id ca18e2360f4ac-854f675aeb7sm23655739f.25.2025.02.07.12.03.59 (version=TLS1_2 cipher=ECDHE-ECDSA-AES128-GCM-SHA256 bits=128/128); Fri, 07 Feb 2025 12:03:59 -0800 (PST) X-Relaying-Domain: iol.unh.edu Date: Fri, 07 Feb 2025 12:03:59 -0800 (PST) Message-ID: <67a6672f.050a0220.c9b8f.c708SMTPIN_ADDED_MISSING@mx.google.com> Received: from [172.21.0.12] (unknown [172.18.0.240]) by postal.iol.unh.edu (Postfix) with ESMTP id 3E41F6052472; Fri, 7 Feb 2025 15:03:59 -0500 (EST) Subject: |SUCCESS| pw149223-149228 [PATCH] [v2,6/6] buildtools: externally ch From: dpdklab@iol.unh.edu To: Test Report Cc: dpdk-test-reports@iol.unh.edu In-Reply-To: <20241213105010.1527683-7-david.marchand@redhat.com> References: <20241213105010.1527683-7-david.marchand@redhat.com> Content-Type: text/plain X-BeenThere: test-report@dpdk.org X-Mailman-Version: 2.1.29 Precedence: list List-Id: automatic DPDK test reports List-Unsubscribe: , List-Archive: List-Post: List-Help: List-Subscribe: , Errors-To: test-report-bounces@dpdk.org Test-Label: iol-compile-amd64-testing Test-Status: SUCCESS http://dpdk.org/patch/149228 _Testing PASS_ Submitter: David Marchand Date: Friday, December 13 2024 10:50:10 DPDK git baseline: Repo:dpdk Branch: master CommitID:7df61db6c387703a36306c1aea92225921e2eeb2 149223-149228 --> testing pass Test environment and result as below: +---------------------+--------------------+------------------+-------------------+-------------------------+----------------------+-------------------+ | Environment | dpdk_meson_compile | dpdk_compile_ovs | dpdk_compile_spdk | dpdk_llvm_clang_compile | dpdk_mingw64_compile | dpdk_msvc_compile | +=====================+====================+==================+===================+=========================+======================+===================+ | CentOS Stream 9 | PASS | PASS | PASS | SKIPPED | SKIPPED | SKIPPED | +---------------------+--------------------+------------------+-------------------+-------------------------+----------------------+-------------------+ | Fedora 40 (Clang) | PASS | PASS | PASS | SKIPPED | SKIPPED | SKIPPED | +---------------------+--------------------+------------------+-------------------+-------------------------+----------------------+-------------------+ | Fedora 39 (Clang) | PASS | PASS | PASS | SKIPPED | SKIPPED | SKIPPED | +---------------------+--------------------+------------------+-------------------+-------------------------+----------------------+-------------------+ | Fedora 39 | PASS | PASS | PASS | SKIPPED | SKIPPED | SKIPPED | +---------------------+--------------------+------------------+-------------------+-------------------------+----------------------+-------------------+ | RHEL8 | PASS | PASS | SKIPPED | SKIPPED | SKIPPED | SKIPPED | +---------------------+--------------------+------------------+-------------------+-------------------------+----------------------+-------------------+ | RHEL9 | PASS | PASS | SKIPPED | SKIPPED | SKIPPED | SKIPPED | +---------------------+--------------------+------------------+-------------------+-------------------------+----------------------+-------------------+ | Fedora 40 | PASS | PASS | PASS | SKIPPED | SKIPPED | SKIPPED | +---------------------+--------------------+------------------+-------------------+-------------------------+----------------------+-------------------+ | openSUSE Leap 15 | PASS | SKIPPED | SKIPPED | SKIPPED | SKIPPED | SKIPPED | +---------------------+--------------------+------------------+-------------------+-------------------------+----------------------+-------------------+ | Ubuntu 20.04 | PASS | SKIPPED | SKIPPED | SKIPPED | SKIPPED | SKIPPED | +---------------------+--------------------+------------------+-------------------+-------------------------+----------------------+-------------------+ | Ubuntu 24.04 | PASS | PASS | PASS | SKIPPED | SKIPPED | SKIPPED | +---------------------+--------------------+------------------+-------------------+-------------------------+----------------------+-------------------+ | Ubuntu 22.04 | PASS | PASS | PASS | SKIPPED | SKIPPED | SKIPPED | +---------------------+--------------------+------------------+-------------------+-------------------------+----------------------+-------------------+ | Alpine | PASS | PASS | SKIPPED | SKIPPED | SKIPPED | SKIPPED | +---------------------+--------------------+------------------+-------------------+-------------------------+----------------------+-------------------+ | FreeBSD 13.4 | PASS | SKIPPED | SKIPPED | SKIPPED | SKIPPED | SKIPPED | +---------------------+--------------------+------------------+-------------------+-------------------------+----------------------+-------------------+ | FreeBSD 14.2 | PASS | SKIPPED | SKIPPED | SKIPPED | SKIPPED | SKIPPED | +---------------------+--------------------+------------------+-------------------+-------------------------+----------------------+-------------------+ | Windows Server 2022 | SKIPPED | SKIPPED | SKIPPED | PASS | PASS | PASS | +---------------------+--------------------+------------------+-------------------+-------------------------+----------------------+-------------------+ CentOS Stream 9 Kernel: Depends on container host Compiler: gcc 11.5.0 20240719 (Red Hat 11.5.0-2) Fedora 40 (Clang) Kernel: Depends on container host Compiler: clang 18.1.8 (Fedora 18.1.8-1.fc40) Fedora 39 (Clang) Kernel: Depends on container host Compiler: clang 17.0.6 (Fedora 17.0.6-2.fc39) Fedora 39 Kernel: Depends on container host Compiler: gcc 13.3.1 20240522 (Red Hat 13.3.1-1) RHEL8 Kernel: Depends on container host Compiler: gcc 8.5.0 20210514 (Red Hat 8.5.0-22) RHEL9 Kernel: Depends on container host Compiler: gcc 11.5.0 20240719 (Red Hat 11.5.0-2) Fedora 40 Kernel: Depends on container host Compiler: gcc 14.2.1 20240912 (Red Hat 14.2.1-3) openSUSE Leap 15 Kernel: Depends on container host Compiler: gcc (SUSE Linux) 7.5.0 Ubuntu 20.04 Kernel: Depends on container host Compiler: gcc (Ubuntu 9.4.0-1ubuntu1~20.04.2) 9.4.0 Ubuntu 24.04 Kernel: Depends on container host Compiler: gcc (Ubuntu 13.3.0-6ubuntu2~24.04) 13.3.0 Ubuntu 22.04 Kernel: Depends on container host Compiler: gcc (Ubuntu 11.4.0-1ubuntu1~22.04) 11.4.0 Alpine Kernel: Depends on container host Compiler: gcc (Alpine 14.2.0) 14.2.0 FreeBSD 13.4 Kernel: 13.4-RELEASE-p1 Compiler: clang 18.1.6 FreeBSD 14.2 Kernel: 14.2-RELEASE Compiler: clang 18.1.6 Windows Server 2022 Kernel: 10.0.20348.2031 Compiler: clang 15.0.7, gcc 14.1.0 (MinGW), and MSVC VS 19.39.33521 To view detailed results, visit: https://lab.dpdk.org/results/dashboard/patchsets/32135/ UNH-IOL DPDK Community Lab To manage your email subscriptions, visit: https://lab.dpdk.org/results/dashboard/preferences/subscriptions/