From mboxrd@z Thu Jan 1 00:00:00 1970 Return-Path: Received: from mails.dpdk.org (mails.dpdk.org [217.70.189.124]) by inbox.dpdk.org (Postfix) with ESMTP id 16BA4461BF for ; Fri, 7 Feb 2025 21:04:08 +0100 (CET) Received: from mails.dpdk.org (localhost [127.0.0.1]) by mails.dpdk.org (Postfix) with ESMTP id 13E9D40270; Fri, 7 Feb 2025 21:04:08 +0100 (CET) Received: from mail-pl1-f227.google.com (mail-pl1-f227.google.com [209.85.214.227]) by mails.dpdk.org (Postfix) with ESMTP id 226F9402DD for ; Fri, 7 Feb 2025 21:04:03 +0100 (CET) Received: by mail-pl1-f227.google.com with SMTP id d9443c01a7336-21f62cc4088so10213205ad.3 for ; Fri, 07 Feb 2025 12:04:03 -0800 (PST) DKIM-Signature: v=1; a=rsa-sha256; c=relaxed/relaxed; d=iol.unh.edu; s=unh-iol; t=1738958642; x=1739563442; darn=dpdk.org; h=references:in-reply-to:cc:to:from:subject:message-id:date:from:to :cc:subject:date:message-id:reply-to; bh=MQcWHK6S8ks47+6jsY4tBeCMMVcngITszw485HGXS6E=; b=Y4L3P4IXmJgM3ay0YHlTSDTBqaHqMpm/SckfF4yTCIVQQvE18HFQbd75QSv/a/JZ89 E96kYU/6mHAdtqdCt0bVMnJMHc6YwbrFn2bLs2YxKbQl+qOaLtaz8Okq/YcgGFa04G90 hbnOOa+JeE0AaflSOvJKIbdpEjX8x/WkvIveo= X-Google-DKIM-Signature: v=1; a=rsa-sha256; c=relaxed/relaxed; d=1e100.net; s=20230601; t=1738958642; x=1739563442; h=references:in-reply-to:cc:to:from:subject:message-id:date :x-gm-message-state:from:to:cc:subject:date:message-id:reply-to; bh=MQcWHK6S8ks47+6jsY4tBeCMMVcngITszw485HGXS6E=; b=wrSnOWP6oJ5XZz0S/zr/H51XAVy8JD9T5kxlL37rkYd/AfbDxODG9gr1rio1uSIFji RI52+qskLOGhNgRVH0nDvGGMwJYpMqNwr26qcbN/KhHwje4XxplF1NYJrTfA+8l3Hm3N VynZRrTWwL+amitOB4jiJUcyq6UOX+mlgJJtViOqm+ogdI1Viz2Ea4fkxxxJMfjy56XZ V3ZsF36zHCuW9bS/a2IeBxSYA2Lhpkwzr3GvYH0BpByLraG05WFnrHzPA06vVL7snDtK rRIuq9MwZQ0l5/Kmv65ECgwu4n3QT+t8OuX1BQjHlO3W2Ry8MjfP8+tnVE3r3a2vhI5B UFdw== X-Gm-Message-State: AOJu0YyUdDwkYxO7tssBdXDRrXX5cVmv363LqF9+RHyO/9464LyKKdqX 8ZLNMXn5w0e5DMAcXeHMT/zyEQMGcaE74NuUC+6zhMEthPE8Vw0XyCUc6/rdQ/OHjVUOh0K0m9x KDWWQomTnurWbWETHMjx/UuebfkxqET9e3J/5bYkE X-Gm-Gg: ASbGncvw3DWTMJ6zrgSorg9TGH2M0uH07AMEowDQ3wQaaCU7JFDbKnmduzJcFjhB+sv bHprxoW1zt7XY0sqseUjqy6j5VLZInMSplHC/ZdVwku9rnSIA/8n97MhtAWbfWn+AIYz30A/pp5 yg1Zq2XNSoevAQOkFAiLcVtEU5EiauNTIU9zLqJuqTMq9noFwZMTZoN3iCvinih+ru/9f+Qm/QK fcTEQk5Km7+Y2nO2AScw0emjLl9LNU9wiHczGc34lvjUnAtDwFezh+anvy6SVu7CTDy/UJVTno/ pT4HMIy0VVFmdqpVV7ULAxopbMMnWQ== X-Google-Smtp-Source: AGHT+IE1qc75w+G651i/+lbSF4MK+W2UTYOZm19XKwFjSGt/U169HtvUFb8jE3TDfxadpssYGEMXb6T96Rgp X-Received: by 2002:a17:903:22c9:b0:215:9bc2:42ec with SMTP id d9443c01a7336-21f4e763b64mr70235095ad.47.1738958642155; Fri, 07 Feb 2025 12:04:02 -0800 (PST) Received: from postal.iol.unh.edu (postal.iol.unh.edu. [132.177.123.84]) by smtp-relay.gmail.com with ESMTPS id d9443c01a7336-21f36560dc4sm2355175ad.47.2025.02.07.12.04.02 (version=TLS1_2 cipher=ECDHE-ECDSA-AES128-GCM-SHA256 bits=128/128); Fri, 07 Feb 2025 12:04:02 -0800 (PST) X-Relaying-Domain: iol.unh.edu Date: Fri, 07 Feb 2025 12:04:02 -0800 (PST) Message-ID: <67a66732.170a0220.3cb389.c4d1SMTPIN_ADDED_MISSING@mx.google.com> Received: from [172.21.0.14] (unknown [172.18.0.240]) by postal.iol.unh.edu (Postfix) with ESMTP id 44CFC605247D; Fri, 7 Feb 2025 15:03:31 -0500 (EST) Subject: |SUCCESS| pw149223-149228 [PATCH] [v2,6/6] buildtools: externally ch From: dpdklab@iol.unh.edu To: Test Report Cc: dpdk-test-reports@iol.unh.edu In-Reply-To: <20241213105010.1527683-7-david.marchand@redhat.com> References: <20241213105010.1527683-7-david.marchand@redhat.com> Content-Type: text/plain X-BeenThere: test-report@dpdk.org X-Mailman-Version: 2.1.29 Precedence: list List-Id: automatic DPDK test reports List-Unsubscribe: , List-Archive: List-Post: List-Help: List-Subscribe: , Errors-To: test-report-bounces@dpdk.org Test-Label: iol-compile-amd64-testing Test-Status: SUCCESS http://dpdk.org/patch/149228 _Testing PASS_ Submitter: David Marchand Date: Friday, December 13 2024 10:50:10 DPDK git baseline: Repo:dpdk Branch: master CommitID:7df61db6c387703a36306c1aea92225921e2eeb2 149223-149228 --> testing pass Test environment and result as below: +---------------------+--------------------+------------------+-------------------+-------------------------+----------------------+-------------------+ | Environment | dpdk_meson_compile | dpdk_compile_ovs | dpdk_compile_spdk | dpdk_llvm_clang_compile | dpdk_mingw64_compile | dpdk_msvc_compile | +=====================+====================+==================+===================+=========================+======================+===================+ | CentOS Stream 9 | PASS | PASS | PASS | SKIPPED | SKIPPED | SKIPPED | +---------------------+--------------------+------------------+-------------------+-------------------------+----------------------+-------------------+ | Debian 12 | PASS | PASS | PASS | SKIPPED | SKIPPED | SKIPPED | +---------------------+--------------------+------------------+-------------------+-------------------------+----------------------+-------------------+ | Fedora 39 (Clang) | PASS | PASS | PASS | SKIPPED | SKIPPED | SKIPPED | +---------------------+--------------------+------------------+-------------------+-------------------------+----------------------+-------------------+ | Fedora 39 | PASS | PASS | PASS | SKIPPED | SKIPPED | SKIPPED | +---------------------+--------------------+------------------+-------------------+-------------------------+----------------------+-------------------+ | Fedora 40 | PASS | PASS | PASS | SKIPPED | SKIPPED | SKIPPED | +---------------------+--------------------+------------------+-------------------+-------------------------+----------------------+-------------------+ | Fedora 40 (Clang) | PASS | PASS | PASS | SKIPPED | SKIPPED | SKIPPED | +---------------------+--------------------+------------------+-------------------+-------------------------+----------------------+-------------------+ | openSUSE Leap 15 | PASS | SKIPPED | SKIPPED | SKIPPED | SKIPPED | SKIPPED | +---------------------+--------------------+------------------+-------------------+-------------------------+----------------------+-------------------+ | RHEL8 | PASS | PASS | SKIPPED | SKIPPED | SKIPPED | SKIPPED | +---------------------+--------------------+------------------+-------------------+-------------------------+----------------------+-------------------+ | Ubuntu 20.04 | PASS | SKIPPED | SKIPPED | SKIPPED | SKIPPED | SKIPPED | +---------------------+--------------------+------------------+-------------------+-------------------------+----------------------+-------------------+ | Ubuntu 22.04 | PASS | PASS | PASS | SKIPPED | SKIPPED | SKIPPED | +---------------------+--------------------+------------------+-------------------+-------------------------+----------------------+-------------------+ | Ubuntu 24.04 | PASS | PASS | PASS | SKIPPED | SKIPPED | SKIPPED | +---------------------+--------------------+------------------+-------------------+-------------------------+----------------------+-------------------+ | FreeBSD 13.4 | PASS | SKIPPED | SKIPPED | SKIPPED | SKIPPED | SKIPPED | +---------------------+--------------------+------------------+-------------------+-------------------------+----------------------+-------------------+ | FreeBSD 14.2 | PASS | SKIPPED | SKIPPED | SKIPPED | SKIPPED | SKIPPED | +---------------------+--------------------+------------------+-------------------+-------------------------+----------------------+-------------------+ | Alpine | PASS | PASS | SKIPPED | SKIPPED | SKIPPED | SKIPPED | +---------------------+--------------------+------------------+-------------------+-------------------------+----------------------+-------------------+ | RHEL9 | PASS | PASS | SKIPPED | SKIPPED | SKIPPED | SKIPPED | +---------------------+--------------------+------------------+-------------------+-------------------------+----------------------+-------------------+ | Windows Server 2022 | SKIPPED | SKIPPED | SKIPPED | PASS | PASS | PASS | +---------------------+--------------------+------------------+-------------------+-------------------------+----------------------+-------------------+ CentOS Stream 9 Kernel: Depends on container host Compiler: gcc 11.5.0 20240719 (Red Hat 11.5.0-2) Debian 12 Kernel: Depends on container host Compiler: gcc (Debian 12.2.0-14) 12.2.0 Fedora 39 (Clang) Kernel: Depends on container host Compiler: clang 17.0.6 (Fedora 17.0.6-2.fc39) Fedora 39 Kernel: Depends on container host Compiler: gcc 13.3.1 20240522 (Red Hat 13.3.1-1) Fedora 40 Kernel: Depends on container host Compiler: gcc 14.2.1 20240912 (Red Hat 14.2.1-3) Fedora 40 (Clang) Kernel: Depends on container host Compiler: clang 18.1.8 (Fedora 18.1.8-1.fc40) openSUSE Leap 15 Kernel: Depends on container host Compiler: gcc (SUSE Linux) 7.5.0 RHEL8 Kernel: Depends on container host Compiler: gcc 8.5.0 20210514 (Red Hat 8.5.0-22) Ubuntu 20.04 Kernel: Depends on container host Compiler: gcc (Ubuntu 9.4.0-1ubuntu1~20.04.2) 9.4.0 Ubuntu 22.04 Kernel: Depends on container host Compiler: gcc (Ubuntu 11.4.0-1ubuntu1~22.04) 11.4.0 Ubuntu 24.04 Kernel: Depends on container host Compiler: gcc (Ubuntu 13.3.0-6ubuntu2~24.04) 13.3.0 FreeBSD 13.4 Kernel: 13.4-RELEASE-p1 Compiler: clang 18.1.6 FreeBSD 14.2 Kernel: 14.2-RELEASE Compiler: clang 18.1.6 Alpine Kernel: Depends on container host Compiler: gcc (Alpine 14.2.0) 14.2.0 RHEL9 Kernel: Depends on container host Compiler: gcc 11.5.0 20240719 (Red Hat 11.5.0-2) Windows Server 2022 Kernel: 10.0.20348.2031 Compiler: clang 15.0.7, gcc 14.1.0 (MinGW), and MSVC VS 19.39.33521 To view detailed results, visit: https://lab.dpdk.org/results/dashboard/patchsets/32135/ UNH-IOL DPDK Community Lab To manage your email subscriptions, visit: https://lab.dpdk.org/results/dashboard/preferences/subscriptions/