From mboxrd@z Thu Jan 1 00:00:00 1970 Return-Path: Received: from mails.dpdk.org (mails.dpdk.org [217.70.189.124]) by inbox.dpdk.org (Postfix) with ESMTP id 2D1A5461BF for ; Fri, 7 Feb 2025 21:04:08 +0100 (CET) Received: from mails.dpdk.org (localhost [127.0.0.1]) by mails.dpdk.org (Postfix) with ESMTP id 27427402D0; Fri, 7 Feb 2025 21:04:08 +0100 (CET) Received: from mail-qt1-f225.google.com (mail-qt1-f225.google.com [209.85.160.225]) by mails.dpdk.org (Postfix) with ESMTP id 5582140270 for ; Fri, 7 Feb 2025 21:04:04 +0100 (CET) Received: by mail-qt1-f225.google.com with SMTP id d75a77b69052e-46c7855df10so42486591cf.3 for ; Fri, 07 Feb 2025 12:04:04 -0800 (PST) DKIM-Signature: v=1; a=rsa-sha256; c=relaxed/relaxed; d=iol.unh.edu; s=unh-iol; t=1738958644; x=1739563444; darn=dpdk.org; h=references:in-reply-to:cc:to:from:subject:message-id:date:from:to :cc:subject:date:message-id:reply-to; bh=CahdJMcbCTKzr5asNbkgyDkkrqt/KtS8r7d+Cfet4uk=; b=RUUAEF+b59eUbHmSNoTjXw7ccKt1cZwAil1fNV93aaBp07C1Tw4FsL9wlBx7L9FDRH uaDZkpXlutGW2S5SB4t1zL9NjEgl979kCes+U3enUlFRNnS/YMIHPe7Dpti2PegJww8+ v2bFzwnTb+Hr4YtB/pO6qwM7x4OhgdvrEMkas= X-Google-DKIM-Signature: v=1; a=rsa-sha256; c=relaxed/relaxed; d=1e100.net; s=20230601; t=1738958644; x=1739563444; h=references:in-reply-to:cc:to:from:subject:message-id:date :x-gm-message-state:from:to:cc:subject:date:message-id:reply-to; bh=CahdJMcbCTKzr5asNbkgyDkkrqt/KtS8r7d+Cfet4uk=; b=iHXOrWQxn7otTNZZitoLaN99T7hZO53BZs1AQ/HE0qFaQwsQABRtVX1WICf9ct09Eb TYlbyni5ZQPpffYFOqdvFZbKS8gRGVrh12rd7xP/bBaJjjrO9tvKTMXFFHX9XiXBBSdB 8iifVetGWz0f4gkDUq2oh0ufOBiaFnT68nVuinAX4yjzUjWfNjTuALqVwfPNVpQPkhbJ C6LxFUM+kdMfejbXW/0iZguwdlzLHSYemPIMU2CbpTpPcB2pAE1/Xpw4JeUoVLO1H+l7 vNXFOg/VtXH5+Nlb4zcVY6YNwuMg6llkR68I+s/aJ2cEIS+tUAe2avlQvpl1IgctYbcW D8vw== X-Gm-Message-State: AOJu0YyWiPl/7S6A+xVbwH8tNG1qtPrY63TLDrGq7fZBf4cdyEnhz2eF Ext8NY4nXvaCUTZfc+cmSTsNfDkXiqeiLFWjRib75SVnN0gGcJ0LDEbdUob476VnHveqjYCed29 JbpYSwes42vRS1/Qxbl5mkHamW+AX+oCVQxb3nvXG X-Gm-Gg: ASbGnctb72FE1B08yhC0AXxzQcsmOGLVFxZSUnLZsMfm377iPDk0NbhANBapTLW6HIA iFSDC00SUwsDkUvnwhk3uKbSSUspuIM4dGGqtKAY/ZsYIP2eRtrkX/MdRWT1lG2jcDj/AQnvZGQ INl1umNITxjnRKbyMQDeSko15EDgxxpQ1MpSh7TZbBHHRD3cSoHUNefUjwfMUmsT8l90/VPpxEJ OivzjQyhbbjLdbRSOqIy6sIy0ISan6rbnoj8HjGoRa4dOwF7v19/ksq4fIS2Bb1tNx84ynyKBS8 2IA2sxXOiiXl3Jf3X0BHWCifG9sPgQ== X-Google-Smtp-Source: AGHT+IGeyVxIhbImgjg0sBsrTYHGT60N+oxlOWPU3qM/H+h8FqM6MBXMpTYmFO9BwcPSL91tc3vwN0WRpXhr X-Received: by 2002:a05:620a:4082:b0:7b6:704e:3529 with SMTP id af79cd13be357-7c047c2de73mr773111385a.46.1738958643815; Fri, 07 Feb 2025 12:04:03 -0800 (PST) Received: from postal.iol.unh.edu (postal.iol.unh.edu. [132.177.123.84]) by smtp-relay.gmail.com with ESMTPS id d75a77b69052e-471492764a2sm2069911cf.3.2025.02.07.12.04.03 (version=TLS1_2 cipher=ECDHE-ECDSA-AES128-GCM-SHA256 bits=128/128); Fri, 07 Feb 2025 12:04:03 -0800 (PST) X-Relaying-Domain: iol.unh.edu Date: Fri, 07 Feb 2025 12:04:03 -0800 (PST) Message-ID: <67a66733.050a0220.3732d6.aacaSMTPIN_ADDED_MISSING@mx.google.com> Received: from [172.21.0.10] (unknown [172.18.0.240]) by postal.iol.unh.edu (Postfix) with ESMTP id 7F4596052485; Fri, 7 Feb 2025 15:03:52 -0500 (EST) Subject: |SUCCESS| pw149212-149215 [PATCH] [v1,4/4] net/ixgbe: prevent crashe From: dpdklab@iol.unh.edu To: Test Report Cc: dpdk-test-reports@iol.unh.edu In-Reply-To: <74c3e65d59e92ca4573917ed2d775c432fd0e7e8.1734020337.git.anatoly.burakov@intel.com> References: <74c3e65d59e92ca4573917ed2d775c432fd0e7e8.1734020337.git.anatoly.burakov@intel.com> Content-Type: text/plain X-BeenThere: test-report@dpdk.org X-Mailman-Version: 2.1.29 Precedence: list List-Id: automatic DPDK test reports List-Unsubscribe: , List-Archive: List-Post: List-Help: List-Subscribe: , Errors-To: test-report-bounces@dpdk.org Test-Label: iol-compile-amd64-testing Test-Status: SUCCESS http://dpdk.org/patch/149215 _Testing PASS_ Submitter: Burakov, Anatoly Date: Thursday, December 12 2024 16:19:06 DPDK git baseline: Repo:dpdk Branch: master CommitID:ce85dd8562ad9673eb4fe46b4a8bd3a508e8b32f 149212-149215 --> testing pass Test environment and result as below: +---------------------+--------------------+------------------+-------------------+-------------------------+----------------------+-------------------+ | Environment | dpdk_meson_compile | dpdk_compile_ovs | dpdk_compile_spdk | dpdk_llvm_clang_compile | dpdk_mingw64_compile | dpdk_msvc_compile | +=====================+====================+==================+===================+=========================+======================+===================+ | CentOS Stream 9 | PASS | PASS | PASS | SKIPPED | SKIPPED | SKIPPED | +---------------------+--------------------+------------------+-------------------+-------------------------+----------------------+-------------------+ | Debian 12 | PASS | PASS | PASS | SKIPPED | SKIPPED | SKIPPED | +---------------------+--------------------+------------------+-------------------+-------------------------+----------------------+-------------------+ | Fedora 39 (Clang) | PASS | PASS | PASS | SKIPPED | SKIPPED | SKIPPED | +---------------------+--------------------+------------------+-------------------+-------------------------+----------------------+-------------------+ | Fedora 39 | PASS | PASS | PASS | SKIPPED | SKIPPED | SKIPPED | +---------------------+--------------------+------------------+-------------------+-------------------------+----------------------+-------------------+ | Fedora 40 (Clang) | PASS | PASS | PASS | SKIPPED | SKIPPED | SKIPPED | +---------------------+--------------------+------------------+-------------------+-------------------------+----------------------+-------------------+ | Fedora 40 | PASS | PASS | PASS | SKIPPED | SKIPPED | SKIPPED | +---------------------+--------------------+------------------+-------------------+-------------------------+----------------------+-------------------+ | openSUSE Leap 15 | PASS | SKIPPED | SKIPPED | SKIPPED | SKIPPED | SKIPPED | +---------------------+--------------------+------------------+-------------------+-------------------------+----------------------+-------------------+ | RHEL9 | PASS | PASS | SKIPPED | SKIPPED | SKIPPED | SKIPPED | +---------------------+--------------------+------------------+-------------------+-------------------------+----------------------+-------------------+ | RHEL8 | PASS | PASS | SKIPPED | SKIPPED | SKIPPED | SKIPPED | +---------------------+--------------------+------------------+-------------------+-------------------------+----------------------+-------------------+ | Ubuntu 20.04 | PASS | SKIPPED | SKIPPED | SKIPPED | SKIPPED | SKIPPED | +---------------------+--------------------+------------------+-------------------+-------------------------+----------------------+-------------------+ | Ubuntu 22.04 | PASS | PASS | PASS | SKIPPED | SKIPPED | SKIPPED | +---------------------+--------------------+------------------+-------------------+-------------------------+----------------------+-------------------+ | Ubuntu 24.04 | PASS | PASS | PASS | SKIPPED | SKIPPED | SKIPPED | +---------------------+--------------------+------------------+-------------------+-------------------------+----------------------+-------------------+ | Alpine | PASS | PASS | SKIPPED | SKIPPED | SKIPPED | SKIPPED | +---------------------+--------------------+------------------+-------------------+-------------------------+----------------------+-------------------+ | FreeBSD 13.4 | PASS | SKIPPED | SKIPPED | SKIPPED | SKIPPED | SKIPPED | +---------------------+--------------------+------------------+-------------------+-------------------------+----------------------+-------------------+ | FreeBSD 14.2 | PASS | SKIPPED | SKIPPED | SKIPPED | SKIPPED | SKIPPED | +---------------------+--------------------+------------------+-------------------+-------------------------+----------------------+-------------------+ | Windows Server 2022 | SKIPPED | SKIPPED | SKIPPED | PASS | PASS | PASS | +---------------------+--------------------+------------------+-------------------+-------------------------+----------------------+-------------------+ CentOS Stream 9 Kernel: Depends on container host Compiler: gcc 11.5.0 20240719 (Red Hat 11.5.0-2) Debian 12 Kernel: Depends on container host Compiler: gcc (Debian 12.2.0-14) 12.2.0 Fedora 39 (Clang) Kernel: Depends on container host Compiler: clang 17.0.6 (Fedora 17.0.6-2.fc39) Fedora 39 Kernel: Depends on container host Compiler: gcc 13.3.1 20240522 (Red Hat 13.3.1-1) Fedora 40 (Clang) Kernel: Depends on container host Compiler: clang 18.1.8 (Fedora 18.1.8-1.fc40) Fedora 40 Kernel: Depends on container host Compiler: gcc 14.2.1 20240912 (Red Hat 14.2.1-3) openSUSE Leap 15 Kernel: Depends on container host Compiler: gcc (SUSE Linux) 7.5.0 RHEL9 Kernel: Depends on container host Compiler: gcc 11.5.0 20240719 (Red Hat 11.5.0-2) RHEL8 Kernel: Depends on container host Compiler: gcc 8.5.0 20210514 (Red Hat 8.5.0-22) Ubuntu 20.04 Kernel: Depends on container host Compiler: gcc (Ubuntu 9.4.0-1ubuntu1~20.04.2) 9.4.0 Ubuntu 22.04 Kernel: Depends on container host Compiler: gcc (Ubuntu 11.4.0-1ubuntu1~22.04) 11.4.0 Ubuntu 24.04 Kernel: Depends on container host Compiler: gcc (Ubuntu 13.3.0-6ubuntu2~24.04) 13.3.0 Alpine Kernel: Depends on container host Compiler: gcc (Alpine 14.2.0) 14.2.0 FreeBSD 13.4 Kernel: 13.4-RELEASE-p1 Compiler: clang 18.1.6 FreeBSD 14.2 Kernel: 14.2-RELEASE Compiler: clang 18.1.6 Windows Server 2022 Kernel: 10.0.20348.2031 Compiler: clang 15.0.7, gcc 14.1.0 (MinGW), and MSVC VS 19.39.33521 To view detailed results, visit: https://lab.dpdk.org/results/dashboard/patchsets/32128/ UNH-IOL DPDK Community Lab To manage your email subscriptions, visit: https://lab.dpdk.org/results/dashboard/preferences/subscriptions/