From mboxrd@z Thu Jan 1 00:00:00 1970 Return-Path: Received: from mails.dpdk.org (mails.dpdk.org [217.70.189.124]) by inbox.dpdk.org (Postfix) with ESMTP id 49543461BF for ; Fri, 7 Feb 2025 21:04:21 +0100 (CET) Received: from mails.dpdk.org (localhost [127.0.0.1]) by mails.dpdk.org (Postfix) with ESMTP id 43D7B40270; Fri, 7 Feb 2025 21:04:21 +0100 (CET) Received: from mail-il1-f227.google.com (mail-il1-f227.google.com [209.85.166.227]) by mails.dpdk.org (Postfix) with ESMTP id 8D2504026C for ; Fri, 7 Feb 2025 21:04:19 +0100 (CET) Received: by mail-il1-f227.google.com with SMTP id e9e14a558f8ab-3d04d767d3aso18885775ab.2 for ; Fri, 07 Feb 2025 12:04:19 -0800 (PST) DKIM-Signature: v=1; a=rsa-sha256; c=relaxed/relaxed; d=iol.unh.edu; s=unh-iol; t=1738958659; x=1739563459; darn=dpdk.org; h=references:in-reply-to:cc:to:from:subject:message-id:date:from:to :cc:subject:date:message-id:reply-to; bh=nWq3ovP0qhpcd4rq8FIqPtiQTNcf/BsxcNLaFFmZIOc=; b=d2xvGx0fsvdFAdPdkUaD3SaiTLakFV2BipdR1u8svtfXz1Kp5BbDO2k6oX/MLOzUes Cv+IgsFNayAjZi+XZw4AIedo5u/3XsdjZ1a4rV6kNuY9JyztpU5uwhWu7uk7dwg+ruc+ ymBMCKtNhVSZWlTWhBsmfBjH9JD0QhkVj5ris= X-Google-DKIM-Signature: v=1; a=rsa-sha256; c=relaxed/relaxed; d=1e100.net; s=20230601; t=1738958659; x=1739563459; h=references:in-reply-to:cc:to:from:subject:message-id:date :x-gm-message-state:from:to:cc:subject:date:message-id:reply-to; bh=nWq3ovP0qhpcd4rq8FIqPtiQTNcf/BsxcNLaFFmZIOc=; b=cf/o5kyK1Wr+EwBkRWKKBc5buso0Il59yndUhODfsGMErzvwNYBmVFdNMXW6tdFRXz xt3hcWNDkzDeEjunnCUPI/KcBntT8jZoHg7ULvN2b7oEi9Xlw9CgA/czlRE5D6bzbaLo fmD6ZO+X+AIKi5t9US/tHn6sa0cxEzpYd+NrQKQ0lYFyoACw8LITbZzdnMUu1+QeyitA kuXJwKF9YANxDcJCSHO7ipp7XelqIGiKZGQqCUnX8ChjDmUveq7VytWjz2nOftXcQz3m z/DqYZI6xUShecigWiecruUUBBT+3fibEQj5kceg/cCSFQs2qIyADhabylQD92YEUrff 28gQ== X-Gm-Message-State: AOJu0YzABc3vQ7RGsU+g18cZi09QOt0zXOMsiNoNPqp03fKodT2mvMrJ ksTxCc4/hmS9T2kl2XtjbUnvwMAf4CiZ/bbxDfkNb2A4YmoQ/NN7MAq6DZ4FyARLAHy+hGY57Pj ocIjqvuPudQ7XZD8CsShNJxsCiWwZ6zF7Uho7Ui/f X-Gm-Gg: ASbGncuABagUqbZvNU5fPrXVAdzQmew9KY1MXOSfOdGLSaw8M3Rf4eUwQPw3KM4UfST PuluB1IAnBsgJzI8uikfAaZqoZEUJRYctSWEuiKiJHBGfA06LotKn71HPMAKffOCB10iilg5WUr pdy9Wp4FJzsoh0xeA75EaoeoAMu6aW+3CE04Dpav6fb0bpUaLXEBkEXpqGJsJtVXjgxi8MqFvTX vhWqtyYuaeaS+gbL2RK4ZPFud+qXWGdE7QkZyeo0J94rf+CC/XumIFEPHaBSVEXf30yzv7Rs1fJ 7DK8PNS8iTILR4ym9CByLZMsUnuJIg== X-Google-Smtp-Source: AGHT+IH9UCe9wF9ZMTkuNu1XDdK5mxwvEBja2rL2+XhUfLoJBNRnrUr9ulY9cJodTii4423x6uUV1vd3Pl5m X-Received: by 2002:a05:6e02:1544:b0:3d0:4700:db17 with SMTP id e9e14a558f8ab-3d13dfd4445mr39046165ab.20.1738958658763; Fri, 07 Feb 2025 12:04:18 -0800 (PST) Received: from postal.iol.unh.edu (postal.iol.unh.edu. [132.177.123.84]) by smtp-relay.gmail.com with ESMTPS id e9e14a558f8ab-3d05e8fe8fasm2767835ab.25.2025.02.07.12.04.18 (version=TLS1_2 cipher=ECDHE-ECDSA-AES128-GCM-SHA256 bits=128/128); Fri, 07 Feb 2025 12:04:18 -0800 (PST) X-Relaying-Domain: iol.unh.edu Date: Fri, 07 Feb 2025 12:04:18 -0800 (PST) Message-ID: <67a66742.050a0220.2910b.e8fdSMTPIN_ADDED_MISSING@mx.google.com> Received: from [172.21.0.9] (unknown [172.18.0.240]) by postal.iol.unh.edu (Postfix) with ESMTP id 3AB146052484; Fri, 7 Feb 2025 15:03:48 -0500 (EST) Subject: |SUCCESS| pw149235 [PATCH] [v2] app/test: fix stack overflow in lpm6 From: dpdklab@iol.unh.edu To: Test Report Cc: dpdk-test-reports@iol.unh.edu In-Reply-To: <1734109702-3647-1-git-send-email-andremue@linux.microsoft.com> References: <1734109702-3647-1-git-send-email-andremue@linux.microsoft.com> Content-Type: text/plain X-BeenThere: test-report@dpdk.org X-Mailman-Version: 2.1.29 Precedence: list List-Id: automatic DPDK test reports List-Unsubscribe: , List-Archive: List-Post: List-Help: List-Subscribe: , Errors-To: test-report-bounces@dpdk.org Test-Label: iol-compile-amd64-testing Test-Status: SUCCESS http://dpdk.org/patch/149235 _Testing PASS_ Submitter: Andre Muezerie Date: Friday, December 13 2024 17:08:22 DPDK git baseline: Repo:dpdk Branch: master CommitID:7df61db6c387703a36306c1aea92225921e2eeb2 149235 --> testing pass Test environment and result as below: +---------------------+--------------------+------------------+-------------------+-------------------------+----------------------+-------------------+ | Environment | dpdk_meson_compile | dpdk_compile_ovs | dpdk_compile_spdk | dpdk_llvm_clang_compile | dpdk_mingw64_compile | dpdk_msvc_compile | +=====================+====================+==================+===================+=========================+======================+===================+ | CentOS Stream 9 | PASS | PASS | PASS | SKIPPED | SKIPPED | SKIPPED | +---------------------+--------------------+------------------+-------------------+-------------------------+----------------------+-------------------+ | Debian 12 | PASS | PASS | PASS | SKIPPED | SKIPPED | SKIPPED | +---------------------+--------------------+------------------+-------------------+-------------------------+----------------------+-------------------+ | Fedora 39 (Clang) | PASS | PASS | PASS | SKIPPED | SKIPPED | SKIPPED | +---------------------+--------------------+------------------+-------------------+-------------------------+----------------------+-------------------+ | Fedora 39 | PASS | PASS | PASS | SKIPPED | SKIPPED | SKIPPED | +---------------------+--------------------+------------------+-------------------+-------------------------+----------------------+-------------------+ | Fedora 40 | PASS | PASS | PASS | SKIPPED | SKIPPED | SKIPPED | +---------------------+--------------------+------------------+-------------------+-------------------------+----------------------+-------------------+ | Fedora 40 (Clang) | PASS | PASS | PASS | SKIPPED | SKIPPED | SKIPPED | +---------------------+--------------------+------------------+-------------------+-------------------------+----------------------+-------------------+ | RHEL8 | PASS | PASS | SKIPPED | SKIPPED | SKIPPED | SKIPPED | +---------------------+--------------------+------------------+-------------------+-------------------------+----------------------+-------------------+ | Ubuntu 20.04 | PASS | SKIPPED | SKIPPED | SKIPPED | SKIPPED | SKIPPED | +---------------------+--------------------+------------------+-------------------+-------------------------+----------------------+-------------------+ | Ubuntu 22.04 | PASS | PASS | PASS | SKIPPED | SKIPPED | SKIPPED | +---------------------+--------------------+------------------+-------------------+-------------------------+----------------------+-------------------+ | Ubuntu 24.04 | PASS | PASS | PASS | SKIPPED | SKIPPED | SKIPPED | +---------------------+--------------------+------------------+-------------------+-------------------------+----------------------+-------------------+ | Alpine | PASS | PASS | SKIPPED | SKIPPED | SKIPPED | SKIPPED | +---------------------+--------------------+------------------+-------------------+-------------------------+----------------------+-------------------+ | FreeBSD 13.4 | PASS | SKIPPED | SKIPPED | SKIPPED | SKIPPED | SKIPPED | +---------------------+--------------------+------------------+-------------------+-------------------------+----------------------+-------------------+ | FreeBSD 14.2 | PASS | SKIPPED | SKIPPED | SKIPPED | SKIPPED | SKIPPED | +---------------------+--------------------+------------------+-------------------+-------------------------+----------------------+-------------------+ | openSUSE Leap 15 | PASS | SKIPPED | SKIPPED | SKIPPED | SKIPPED | SKIPPED | +---------------------+--------------------+------------------+-------------------+-------------------------+----------------------+-------------------+ | RHEL9 | PASS | PASS | SKIPPED | SKIPPED | SKIPPED | SKIPPED | +---------------------+--------------------+------------------+-------------------+-------------------------+----------------------+-------------------+ | Windows Server 2022 | SKIPPED | SKIPPED | SKIPPED | PASS | PASS | PASS | +---------------------+--------------------+------------------+-------------------+-------------------------+----------------------+-------------------+ CentOS Stream 9 Kernel: Depends on container host Compiler: gcc 11.5.0 20240719 (Red Hat 11.5.0-2) Debian 12 Kernel: Depends on container host Compiler: gcc (Debian 12.2.0-14) 12.2.0 Fedora 39 (Clang) Kernel: Depends on container host Compiler: clang 17.0.6 (Fedora 17.0.6-2.fc39) Fedora 39 Kernel: Depends on container host Compiler: gcc 13.3.1 20240522 (Red Hat 13.3.1-1) Fedora 40 Kernel: Depends on container host Compiler: gcc 14.2.1 20240912 (Red Hat 14.2.1-3) Fedora 40 (Clang) Kernel: Depends on container host Compiler: clang 18.1.8 (Fedora 18.1.8-1.fc40) RHEL8 Kernel: Depends on container host Compiler: gcc 8.5.0 20210514 (Red Hat 8.5.0-22) Ubuntu 20.04 Kernel: Depends on container host Compiler: gcc (Ubuntu 9.4.0-1ubuntu1~20.04.2) 9.4.0 Ubuntu 22.04 Kernel: Depends on container host Compiler: gcc (Ubuntu 11.4.0-1ubuntu1~22.04) 11.4.0 Ubuntu 24.04 Kernel: Depends on container host Compiler: gcc (Ubuntu 13.3.0-6ubuntu2~24.04) 13.3.0 Alpine Kernel: Depends on container host Compiler: gcc (Alpine 14.2.0) 14.2.0 FreeBSD 13.4 Kernel: 13.4-RELEASE-p1 Compiler: clang 18.1.6 FreeBSD 14.2 Kernel: 14.2-RELEASE Compiler: clang 18.1.6 openSUSE Leap 15 Kernel: Depends on container host Compiler: gcc (SUSE Linux) 7.5.0 RHEL9 Kernel: Depends on container host Compiler: gcc 11.5.0 20240719 (Red Hat 11.5.0-2) Windows Server 2022 Kernel: 10.0.20348.2031 Compiler: clang 15.0.7, gcc 14.1.0 (MinGW), and MSVC VS 19.39.33521 To view detailed results, visit: https://lab.dpdk.org/results/dashboard/patchsets/32141/ UNH-IOL DPDK Community Lab To manage your email subscriptions, visit: https://lab.dpdk.org/results/dashboard/preferences/subscriptions/