From mboxrd@z Thu Jan 1 00:00:00 1970 Return-Path: Received: from mails.dpdk.org (mails.dpdk.org [217.70.189.124]) by inbox.dpdk.org (Postfix) with ESMTP id 5A31D461BF for ; Fri, 7 Feb 2025 21:04:31 +0100 (CET) Received: from mails.dpdk.org (localhost [127.0.0.1]) by mails.dpdk.org (Postfix) with ESMTP id 5602440270; Fri, 7 Feb 2025 21:04:31 +0100 (CET) Received: from mail-io1-f97.google.com (mail-io1-f97.google.com [209.85.166.97]) by mails.dpdk.org (Postfix) with ESMTP id 2D0A74026C for ; Fri, 7 Feb 2025 21:04:29 +0100 (CET) Received: by mail-io1-f97.google.com with SMTP id ca18e2360f4ac-84ceaf2667aso164771739f.3 for ; Fri, 07 Feb 2025 12:04:29 -0800 (PST) DKIM-Signature: v=1; a=rsa-sha256; c=relaxed/relaxed; d=iol.unh.edu; s=unh-iol; t=1738958668; x=1739563468; darn=dpdk.org; h=cc:to:from:subject:message-id:date:from:to:cc:subject:date :message-id:reply-to; bh=+mbiD8R8KEUhCa271EEOO5i+/TGUu+/chMq7BGvjH1c=; b=jStlAz1s2LIyoveXhxR2Hf3HwtzM59uzHAoQkImW79P9Bq2aLI1+yJDoforlI5MrT5 RhVNmckQfn1MPrftiAdkJV6/mBTajxP0/4+r6aHH9951TZD29H680JZdpnaxEdl6L0Do L5zOR11oD8a63MCnZIs926lhVFj9LnI0RX5ls= X-Google-DKIM-Signature: v=1; a=rsa-sha256; c=relaxed/relaxed; d=1e100.net; s=20230601; t=1738958668; x=1739563468; h=cc:to:from:subject:message-id:date:x-gm-message-state:from:to:cc :subject:date:message-id:reply-to; bh=+mbiD8R8KEUhCa271EEOO5i+/TGUu+/chMq7BGvjH1c=; b=FtCEvAgsS6pYSczWU86QXh2s4WiRx489qHEh9m6gyX5aFRiaMygvSAQrGPCQiYX5xF R6DAbwCbv+A2GXTWEB7lnSjycXAC3p8Dm5RArEw884p76OhqAT6wC6BDphRvL3yKyiL7 NCSm5ditCl2/c38YCRkZIL8mHUoAdARPc29Eqzl9+Iycjmfb1ppraQdPIXQTmyChnhfG nH/CiD9bO4eMxC5mS2PoEKlBLUo2UctC6hBjxsjqaXCJ+XeyNv23h8dRyPcDREqFGOWt jNNoKK6D/7DFTjiYwTFomfm384Xs/Ddd3dhVfRTvmzWTgqOU9o2jmMCEKfhcC5VzqUi3 Kysw== X-Gm-Message-State: AOJu0Yw/uisQNY03gX8jvK/tuDe8Zpesp1PV94KTimdPOEl30160C+Ob ok+KICGBeG6fYpDCCM4pCsAT0+jifc8Qo0iBCtlK/efnWm55TnSzP2z6EP9f0EbZNpMXusoJfHx sKH102zMe4fpsfgMIwjf7KI4jc06IOExlkSahyNej X-Gm-Gg: ASbGnctYGEGy7fgMFkz3J9Ma04sb9g7LCXD9w0/J81OVgSua0hIcR9gvMrtAQP17cBU h6ym3eAPIHH3/qgjbK3yas119/8EnUYbhKk6fAQSfXwXeTQu9SyO+pudDtsdSgL2TOo6TLBHpYv Klp3Xho7bEKe4emLFOGf5ASE1c8FPPmlwtEvwjPrEdOJo3I3Mkf3eGpv6Z6lIAppzi5WrHPmEbn wdfjblPnsYJpPMzzp14vMZOjSFeOzg6/lN8Ln6HcLtBaQx7yv5NdwI7gG1jyynOeCP4+PjYeOK1 WtAek7uQwg5FuhMz5LTbiN66ULd6uw== X-Google-Smtp-Source: AGHT+IFciAuhtmWCGOwIW6mV0Ya8oF4Z8oSZt0OZr2XFBF2GcoHrSfWqQKy1adurhSAfy9HTwpN0FYXMeujG X-Received: by 2002:a05:6602:7289:b0:84a:5133:9cdd with SMTP id ca18e2360f4ac-854fd8f81e4mr516206239f.11.1738958667071; Fri, 07 Feb 2025 12:04:27 -0800 (PST) Received: from postal.iol.unh.edu (postal.iol.unh.edu. [132.177.123.84]) by smtp-relay.gmail.com with ESMTPS id 8926c6da1cb9f-4eccfaa1dabsm255677173.46.2025.02.07.12.04.26 (version=TLS1_2 cipher=ECDHE-ECDSA-AES128-GCM-SHA256 bits=128/128); Fri, 07 Feb 2025 12:04:27 -0800 (PST) X-Relaying-Domain: iol.unh.edu Date: Fri, 07 Feb 2025 12:04:27 -0800 (PST) Message-ID: <67a6674b.050a0220.1c59d3.d535SMTPIN_ADDED_MISSING@mx.google.com> Received: from [172.21.0.5] (unknown [172.18.0.240]) by postal.iol.unh.edu (Postfix) with ESMTP id 945266052471; Fri, 7 Feb 2025 15:04:26 -0500 (EST) Subject: |SUCCESS| [GIT MASTER] f1e0472368d4dbb1da33ae68b18ca21bc8a55259 From: dpdklab@iol.unh.edu To: Test Report Cc: dpdk-test-reports@iol.unh.edu, Stephen Hemminger Content-Type: text/plain X-BeenThere: test-report@dpdk.org X-Mailman-Version: 2.1.29 Precedence: list List-Id: automatic DPDK test reports List-Unsubscribe: , List-Archive: List-Post: List-Help: List-Subscribe: , Errors-To: test-report-bounces@dpdk.org _Testing PASS_ Branch: dpdk-next-net f1e0472368d4dbb1da33ae68b18ca21bc8a55259 --> testing pass Test environment and result as below: +---------------------+--------------------+------------------+-------------------+-------------------------+----------------------+-------------------+ | Environment | dpdk_meson_compile | dpdk_compile_ovs | dpdk_compile_spdk | dpdk_llvm_clang_compile | dpdk_mingw64_compile | dpdk_msvc_compile | +=====================+====================+==================+===================+=========================+======================+===================+ | Debian 12 | PASS | PASS | PASS | SKIPPED | SKIPPED | SKIPPED | +---------------------+--------------------+------------------+-------------------+-------------------------+----------------------+-------------------+ | CentOS Stream 9 | PASS | PASS | PASS | SKIPPED | SKIPPED | SKIPPED | +---------------------+--------------------+------------------+-------------------+-------------------------+----------------------+-------------------+ | Fedora 39 (Clang) | PASS | PASS | PASS | SKIPPED | SKIPPED | SKIPPED | +---------------------+--------------------+------------------+-------------------+-------------------------+----------------------+-------------------+ | Fedora 40 (Clang) | PASS | PASS | PASS | SKIPPED | SKIPPED | SKIPPED | +---------------------+--------------------+------------------+-------------------+-------------------------+----------------------+-------------------+ | openSUSE Leap 15 | PASS | SKIPPED | SKIPPED | SKIPPED | SKIPPED | SKIPPED | +---------------------+--------------------+------------------+-------------------+-------------------------+----------------------+-------------------+ | Ubuntu 20.04 | PASS | SKIPPED | SKIPPED | SKIPPED | SKIPPED | SKIPPED | +---------------------+--------------------+------------------+-------------------+-------------------------+----------------------+-------------------+ | RHEL8 | PASS | PASS | SKIPPED | SKIPPED | SKIPPED | SKIPPED | +---------------------+--------------------+------------------+-------------------+-------------------------+----------------------+-------------------+ | Ubuntu 22.04 | PASS | PASS | PASS | SKIPPED | SKIPPED | SKIPPED | +---------------------+--------------------+------------------+-------------------+-------------------------+----------------------+-------------------+ | Ubuntu 24.04 | PASS | PASS | PASS | SKIPPED | SKIPPED | SKIPPED | +---------------------+--------------------+------------------+-------------------+-------------------------+----------------------+-------------------+ | Alpine | PASS | PASS | SKIPPED | SKIPPED | SKIPPED | SKIPPED | +---------------------+--------------------+------------------+-------------------+-------------------------+----------------------+-------------------+ | FreeBSD 14.2 | PASS | SKIPPED | SKIPPED | SKIPPED | SKIPPED | SKIPPED | +---------------------+--------------------+------------------+-------------------+-------------------------+----------------------+-------------------+ | Fedora 40 | PASS | PASS | PASS | SKIPPED | SKIPPED | SKIPPED | +---------------------+--------------------+------------------+-------------------+-------------------------+----------------------+-------------------+ | FreeBSD 13.4 | PASS | SKIPPED | SKIPPED | SKIPPED | SKIPPED | SKIPPED | +---------------------+--------------------+------------------+-------------------+-------------------------+----------------------+-------------------+ | RHEL9 | PASS | PASS | SKIPPED | SKIPPED | SKIPPED | SKIPPED | +---------------------+--------------------+------------------+-------------------+-------------------------+----------------------+-------------------+ | Windows Server 2022 | SKIPPED | SKIPPED | SKIPPED | PASS | PASS | PASS | +---------------------+--------------------+------------------+-------------------+-------------------------+----------------------+-------------------+ Debian 12 Kernel: Depends on container host Compiler: gcc (Debian 12.2.0-14) 12.2.0 CentOS Stream 9 Kernel: Depends on container host Compiler: gcc 11.5.0 20240719 (Red Hat 11.5.0-2) Fedora 39 (Clang) Kernel: Depends on container host Compiler: clang 17.0.6 (Fedora 17.0.6-2.fc39) Fedora 40 (Clang) Kernel: Depends on container host Compiler: clang 18.1.8 (Fedora 18.1.8-1.fc40) openSUSE Leap 15 Kernel: Depends on container host Compiler: gcc (SUSE Linux) 7.5.0 Ubuntu 20.04 Kernel: Depends on container host Compiler: gcc (Ubuntu 9.4.0-1ubuntu1~20.04.2) 9.4.0 RHEL8 Kernel: Depends on container host Compiler: gcc 8.5.0 20210514 (Red Hat 8.5.0-22) Ubuntu 22.04 Kernel: Depends on container host Compiler: gcc (Ubuntu 11.4.0-1ubuntu1~22.04) 11.4.0 Ubuntu 24.04 Kernel: Depends on container host Compiler: gcc (Ubuntu 13.3.0-6ubuntu2~24.04) 13.3.0 Alpine Kernel: Depends on container host Compiler: gcc (Alpine 14.2.0) 14.2.0 FreeBSD 14.2 Kernel: 14.2-RELEASE Compiler: clang 18.1.6 Fedora 40 Kernel: Depends on container host Compiler: gcc 14.2.1 20240912 (Red Hat 14.2.1-3) FreeBSD 13.4 Kernel: 13.4-RELEASE-p1 Compiler: clang 18.1.6 RHEL9 Kernel: Depends on container host Compiler: gcc 11.5.0 20240719 (Red Hat 11.5.0-2) Windows Server 2022 Kernel: 10.0.20348.2031 Compiler: clang 15.0.7, gcc 14.1.0 (MinGW), and MSVC VS 19.39.33521 To view detailed results, visit: https://lab.dpdk.org/results/dashboard/tarballs/31925/ UNH-IOL DPDK Community Lab To manage your email subscriptions, visit: https://lab.dpdk.org/results/dashboard/preferences/subscriptions/