From mboxrd@z Thu Jan 1 00:00:00 1970 Return-Path: Received: from mails.dpdk.org (mails.dpdk.org [217.70.189.124]) by inbox.dpdk.org (Postfix) with ESMTP id 73B18461BF for ; Fri, 7 Feb 2025 21:04:39 +0100 (CET) Received: from mails.dpdk.org (localhost [127.0.0.1]) by mails.dpdk.org (Postfix) with ESMTP id 703E140270; Fri, 7 Feb 2025 21:04:39 +0100 (CET) Received: from mail-pl1-f226.google.com (mail-pl1-f226.google.com [209.85.214.226]) by mails.dpdk.org (Postfix) with ESMTP id D1C534026C for ; Fri, 7 Feb 2025 21:04:37 +0100 (CET) Received: by mail-pl1-f226.google.com with SMTP id d9443c01a7336-21f2339dcfdso40214605ad.1 for ; Fri, 07 Feb 2025 12:04:37 -0800 (PST) DKIM-Signature: v=1; a=rsa-sha256; c=relaxed/relaxed; d=iol.unh.edu; s=unh-iol; t=1738958677; x=1739563477; darn=dpdk.org; h=references:in-reply-to:cc:to:from:subject:message-id:date:from:to :cc:subject:date:message-id:reply-to; bh=pzb0/Zd6a+ahrvZEfQTZCbxc8dY2Z4rsdVnGhCmT4IQ=; b=VyksGS1x6xz2qONyMHyUxskcmDNSV2HfZoJx8P1Wtvbj/YlMec+3r50xPEg49iQbX2 IutpEZQZT9CeY+OPT9BeCiK+eOBTrIq2x8CcMUFm+Lg3+t1ceiW07+tgAbVOcH85khy3 WGbdoclaBUfuYIE3WPtiBoC719+O7YmjlSQc4= X-Google-DKIM-Signature: v=1; a=rsa-sha256; c=relaxed/relaxed; d=1e100.net; s=20230601; t=1738958677; x=1739563477; h=references:in-reply-to:cc:to:from:subject:message-id:date :x-gm-message-state:from:to:cc:subject:date:message-id:reply-to; bh=pzb0/Zd6a+ahrvZEfQTZCbxc8dY2Z4rsdVnGhCmT4IQ=; b=N13PFdmEnOuPmqdpRv5+bLxjivR+iMd5X4MmjpeCvDKFI8QoCLynqsraVVKrXCC0t6 BWq5iKc3U1PvS9pp01iKo6LPL7JlRSSDYUKT7a6P+LgM5acAgUb6O0L6vnz9/8piPHF7 /6pl7pNGnnVn3k8gmNBh0dM3aJx5SCOokTPfP1+0pLLvh1LZjgSqA9hvum5WPgMTe1Ig 68xtg5nuX9eMJN5SvnSfUeWHW0AQf8X1rirVFmFAKjYn51ctz48+Bel5x9Js9Hi/PAJj DDRFvrqGNuQjIJNMq0XFON4c2Qcn+nlMhXw1POLJDJwuisMgvlfbSfBmU4MkJ/prKTHg 3Pmw== X-Gm-Message-State: AOJu0YyJvSCVakz9EP7zd/cjK4bRGreSTYBjvmJ3kOz4RiReWNp1nOds TCu1YZSB80bisBO1VYr7JuKYKIL22KiMZTYn22Hnr6Y+hnrN7BXi5F4TOip+7QNBSQJ10O9DD1V 0gIGRxNe6h5oxuarDqmC+1nPz24NeqIKFl7xY7Fhc X-Gm-Gg: ASbGncuL8px44GpwaGd8FHR7OivX0OkyoDZ9i9aIRyb7Oi2Q/Ymjpq9L8EGHzu7CwQR S1lo20I896XAugusfuHx/UMErHznT7wq0xZvJSca0xrfXQsvjp7Gl68ttKlEAdHCb1icLqbfZcK bRu/vLqnu5wVjViDvivm8F9nZrY/TQtLQxON57lYA/w3Usthwwmxe7wd2lwXzgtTt2+vB/OhYB7 dY0KTu76/0CxlhNqJKmrIxZv0pyU4uMCkMHFksL//RBoOjm7PHvyojAzCCX6BrC6dDelx5Wu8w1 ig9hJQ5ajalskeketV4UKdmigxffPg== X-Google-Smtp-Source: AGHT+IG2niJCp+Pl1r23O8R+wrOHwCADE5oQKHEGz06/p7zH4KK0Q6NcBFkQ2wQQiK9epTyx3sLqeD71nlSg X-Received: by 2002:a17:903:2b0c:b0:215:7287:67bb with SMTP id d9443c01a7336-21f4eff38cdmr76840595ad.0.1738958677079; Fri, 07 Feb 2025 12:04:37 -0800 (PST) Received: from postal.iol.unh.edu (postal.iol.unh.edu. [132.177.123.84]) by smtp-relay.gmail.com with ESMTPS id d9443c01a7336-21f36839c64sm2114185ad.82.2025.02.07.12.04.36 (version=TLS1_2 cipher=ECDHE-ECDSA-AES128-GCM-SHA256 bits=128/128); Fri, 07 Feb 2025 12:04:37 -0800 (PST) X-Relaying-Domain: iol.unh.edu Date: Fri, 07 Feb 2025 12:04:37 -0800 (PST) Message-ID: <67a66755.170a0220.2cf6a4.a675SMTPIN_ADDED_MISSING@mx.google.com> Received: from [172.21.0.7] (unknown [172.18.0.240]) by postal.iol.unh.edu (Postfix) with ESMTP id 3AC166052472; Fri, 7 Feb 2025 15:04:36 -0500 (EST) Subject: |SUCCESS| pw149244-149245 [PATCH] [2/2] dts: clear out Python syntax From: dpdklab@iol.unh.edu To: Test Report Cc: dpdk-test-reports@iol.unh.edu In-Reply-To: <20241214104257.67419-3-otilibil@eurecom.fr> References: <20241214104257.67419-3-otilibil@eurecom.fr> Content-Type: text/plain X-BeenThere: test-report@dpdk.org X-Mailman-Version: 2.1.29 Precedence: list List-Id: automatic DPDK test reports List-Unsubscribe: , List-Archive: List-Post: List-Help: List-Subscribe: , Errors-To: test-report-bounces@dpdk.org Test-Label: iol-compile-amd64-testing Test-Status: SUCCESS http://dpdk.org/patch/149245 _Testing PASS_ Submitter: Ariel Otilibili-Anieli Date: Saturday, December 14 2024 10:36:36 DPDK git baseline: Repo:dpdk Branch: master CommitID:7df61db6c387703a36306c1aea92225921e2eeb2 149244-149245 --> testing pass Test environment and result as below: +---------------------+--------------------+------------------+-------------------+-------------------------+----------------------+-------------------+ | Environment | dpdk_meson_compile | dpdk_compile_ovs | dpdk_compile_spdk | dpdk_llvm_clang_compile | dpdk_mingw64_compile | dpdk_msvc_compile | +=====================+====================+==================+===================+=========================+======================+===================+ | Debian 12 | PASS | PASS | PASS | SKIPPED | SKIPPED | SKIPPED | +---------------------+--------------------+------------------+-------------------+-------------------------+----------------------+-------------------+ | Fedora 39 (Clang) | PASS | PASS | PASS | SKIPPED | SKIPPED | SKIPPED | +---------------------+--------------------+------------------+-------------------+-------------------------+----------------------+-------------------+ | Fedora 39 | PASS | PASS | PASS | SKIPPED | SKIPPED | SKIPPED | +---------------------+--------------------+------------------+-------------------+-------------------------+----------------------+-------------------+ | Fedora 40 (Clang) | PASS | PASS | PASS | SKIPPED | SKIPPED | SKIPPED | +---------------------+--------------------+------------------+-------------------+-------------------------+----------------------+-------------------+ | Fedora 40 | PASS | PASS | PASS | SKIPPED | SKIPPED | SKIPPED | +---------------------+--------------------+------------------+-------------------+-------------------------+----------------------+-------------------+ | openSUSE Leap 15 | PASS | SKIPPED | SKIPPED | SKIPPED | SKIPPED | SKIPPED | +---------------------+--------------------+------------------+-------------------+-------------------------+----------------------+-------------------+ | RHEL8 | PASS | PASS | SKIPPED | SKIPPED | SKIPPED | SKIPPED | +---------------------+--------------------+------------------+-------------------+-------------------------+----------------------+-------------------+ | RHEL9 | PASS | PASS | SKIPPED | SKIPPED | SKIPPED | SKIPPED | +---------------------+--------------------+------------------+-------------------+-------------------------+----------------------+-------------------+ | Ubuntu 20.04 | PASS | SKIPPED | SKIPPED | SKIPPED | SKIPPED | SKIPPED | +---------------------+--------------------+------------------+-------------------+-------------------------+----------------------+-------------------+ | Ubuntu 22.04 | PASS | PASS | PASS | SKIPPED | SKIPPED | SKIPPED | +---------------------+--------------------+------------------+-------------------+-------------------------+----------------------+-------------------+ | Ubuntu 24.04 | PASS | PASS | PASS | SKIPPED | SKIPPED | SKIPPED | +---------------------+--------------------+------------------+-------------------+-------------------------+----------------------+-------------------+ | Alpine | PASS | PASS | SKIPPED | SKIPPED | SKIPPED | SKIPPED | +---------------------+--------------------+------------------+-------------------+-------------------------+----------------------+-------------------+ | FreeBSD 13.4 | PASS | SKIPPED | SKIPPED | SKIPPED | SKIPPED | SKIPPED | +---------------------+--------------------+------------------+-------------------+-------------------------+----------------------+-------------------+ | CentOS Stream 9 | PASS | PASS | PASS | SKIPPED | SKIPPED | SKIPPED | +---------------------+--------------------+------------------+-------------------+-------------------------+----------------------+-------------------+ | FreeBSD 14.2 | PASS | SKIPPED | SKIPPED | SKIPPED | SKIPPED | SKIPPED | +---------------------+--------------------+------------------+-------------------+-------------------------+----------------------+-------------------+ | Windows Server 2022 | SKIPPED | SKIPPED | SKIPPED | PASS | PASS | PASS | +---------------------+--------------------+------------------+-------------------+-------------------------+----------------------+-------------------+ Debian 12 Kernel: Depends on container host Compiler: gcc (Debian 12.2.0-14) 12.2.0 Fedora 39 (Clang) Kernel: Depends on container host Compiler: clang 17.0.6 (Fedora 17.0.6-2.fc39) Fedora 39 Kernel: Depends on container host Compiler: gcc 13.3.1 20240522 (Red Hat 13.3.1-1) Fedora 40 (Clang) Kernel: Depends on container host Compiler: clang 18.1.8 (Fedora 18.1.8-1.fc40) Fedora 40 Kernel: Depends on container host Compiler: gcc 14.2.1 20240912 (Red Hat 14.2.1-3) openSUSE Leap 15 Kernel: Depends on container host Compiler: gcc (SUSE Linux) 7.5.0 RHEL8 Kernel: Depends on container host Compiler: gcc 8.5.0 20210514 (Red Hat 8.5.0-22) RHEL9 Kernel: Depends on container host Compiler: gcc 11.5.0 20240719 (Red Hat 11.5.0-2) Ubuntu 20.04 Kernel: Depends on container host Compiler: gcc (Ubuntu 9.4.0-1ubuntu1~20.04.2) 9.4.0 Ubuntu 22.04 Kernel: Depends on container host Compiler: gcc (Ubuntu 11.4.0-1ubuntu1~22.04) 11.4.0 Ubuntu 24.04 Kernel: Depends on container host Compiler: gcc (Ubuntu 13.3.0-6ubuntu2~24.04) 13.3.0 Alpine Kernel: Depends on container host Compiler: gcc (Alpine 14.2.0) 14.2.0 FreeBSD 13.4 Kernel: 13.4-RELEASE-p1 Compiler: clang 18.1.6 CentOS Stream 9 Kernel: Depends on container host Compiler: gcc 11.5.0 20240719 (Red Hat 11.5.0-2) FreeBSD 14.2 Kernel: 14.2-RELEASE Compiler: clang 18.1.6 Windows Server 2022 Kernel: 10.0.20348.2031 Compiler: clang 15.0.7, gcc 14.1.0 (MinGW), and MSVC VS 19.39.33521 To view detailed results, visit: https://lab.dpdk.org/results/dashboard/patchsets/32145/ UNH-IOL DPDK Community Lab To manage your email subscriptions, visit: https://lab.dpdk.org/results/dashboard/preferences/subscriptions/