From mboxrd@z Thu Jan 1 00:00:00 1970 Return-Path: Received: from mails.dpdk.org (mails.dpdk.org [217.70.189.124]) by inbox.dpdk.org (Postfix) with ESMTP id C9BE9461BF for ; Fri, 7 Feb 2025 21:05:02 +0100 (CET) Received: from mails.dpdk.org (localhost [127.0.0.1]) by mails.dpdk.org (Postfix) with ESMTP id C40CC40270; Fri, 7 Feb 2025 21:05:02 +0100 (CET) Received: from mail-oa1-f97.google.com (mail-oa1-f97.google.com [209.85.160.97]) by mails.dpdk.org (Postfix) with ESMTP id C03104026C for ; Fri, 7 Feb 2025 21:05:00 +0100 (CET) Received: by mail-oa1-f97.google.com with SMTP id 586e51a60fabf-2b2b6019a74so1329170fac.0 for ; Fri, 07 Feb 2025 12:05:00 -0800 (PST) DKIM-Signature: v=1; a=rsa-sha256; c=relaxed/relaxed; d=iol.unh.edu; s=unh-iol; t=1738958700; x=1739563500; darn=dpdk.org; h=references:in-reply-to:cc:to:from:subject:message-id:date:from:to :cc:subject:date:message-id:reply-to; bh=F1YQAcNloVweFyxXcksVLUdc5Ivx5XUaxW948v5SIqw=; b=iHKiZBi00/AYY/flLUbxqbSXo0RTa8WVrD87iV54lWm3koJ1CdDHpB0AWfH6G6KtOy Fd85Ktf2ab0SEO0UBADtjFdNe2Ml3hnkgSVsFmDek/XvbCQo2+d+Ra7erCe9eeqCB02c fTPWrWUScMY6KPNfUyC8IXmauVBAhOROaAMAg= X-Google-DKIM-Signature: v=1; a=rsa-sha256; c=relaxed/relaxed; d=1e100.net; s=20230601; t=1738958700; x=1739563500; h=references:in-reply-to:cc:to:from:subject:message-id:date :x-gm-message-state:from:to:cc:subject:date:message-id:reply-to; bh=F1YQAcNloVweFyxXcksVLUdc5Ivx5XUaxW948v5SIqw=; b=LOoX1p4GMY1GjoerkwdaOIbEI0IPP4r5rEnHjE4sLW35TBgNeWfLXdMsNQD80VOYLV 9M9wbd/4cQYxm83erWez/3AYc02elkR0Lhv0dIuGJRFFbQj5kyMXT2RlQEgJOeQWNBNs m49cPQ/OHzklpC/mxXh06qbCtblufM14j0Re5SvnpvtEvxhZxNeVdUkx11zI+Xe5w/Vk LEwI2HzD5wBxYFL+Og42X5ohfF2Asgg2lAbvClIc1gQEwz8HDe+n1XrdwSOe7tBoe+tG VHMBeO9mByzfy+G8KrF0yPW+rGx99hqMSw9/osqThh5Idai+tVT2ZeG7ZfLcF7nPn8L9 GsmQ== X-Gm-Message-State: AOJu0Yx4pIPdYQ+05PMc3+7P9llkG6gj1nXtysWZwhPCHHf4f3jinNCJ 3DSQlSIF7Qp+fmXsUWFyzNNpLPYM35gH2FfSuDzhpF2nrHe9Hu2sjwzp78D42MNvFQA3nIU3RD4 BpyZ+BTwlUPcoi+Qqm8pQghsdiLO1KQw1rcwvvZ+r X-Gm-Gg: ASbGncsc6SOPIs6T2euecFddRRBs9XgPUe5uII2ogFjj19NL/Ve2jhym6zFOq1+I6zw gq7HUbdMAqRkQaAObgNgPaou+aRqncaPjy2vMO9LqIcYMR5xgpGnOJE7EgCLToOIZJUL+SKfijB BZpgnG+q3TPWk7CMhAn7PcyKXZ8Rm8wbZToBHc6IRWAuXUmNU+3eolwef00z7S3fLzP5CFUQ2cS WqvSmYDOgQs03L2fKs4wRSeNMMVjW7tZyAi5cJyvl7YAEDuzACSBCtrC9AyfxKVtj8DjWCxLW4b 6PIJvKQsCjtVj8HCKecZYoFRylEIXQ== X-Google-Smtp-Source: AGHT+IHwzWxkojyJkSrHE5cz4B4/JMJs8gtHQw0vLr9YPclp4sHRJhNxsJ93t1Jvj7WUDqWO7Lg0J9TgvuqJ X-Received: by 2002:a05:6871:ea0e:b0:29d:c5e8:e41f with SMTP id 586e51a60fabf-2b83eb5b672mr3056008fac.5.1738958699842; Fri, 07 Feb 2025 12:04:59 -0800 (PST) Received: from postal.iol.unh.edu (postal.iol.unh.edu. [132.177.123.84]) by smtp-relay.gmail.com with ESMTPS id 586e51a60fabf-2b82626f602sm214230fac.36.2025.02.07.12.04.59 (version=TLS1_2 cipher=ECDHE-ECDSA-AES128-GCM-SHA256 bits=128/128); Fri, 07 Feb 2025 12:04:59 -0800 (PST) X-Relaying-Domain: iol.unh.edu Date: Fri, 07 Feb 2025 12:04:59 -0800 (PST) Message-ID: <67a6676b.050a0220.24e971.b5caSMTPIN_ADDED_MISSING@mx.google.com> Received: from [172.21.0.18] (unknown [172.18.0.240]) by postal.iol.unh.edu (Postfix) with ESMTP id 4F0A66052483; Fri, 7 Feb 2025 15:04:59 -0500 (EST) Subject: |SUCCESS| pw149219 [PATCH] app/test: fix stack overflow in lpm6_perf From: dpdklab@iol.unh.edu To: Test Report Cc: dpdk-test-reports@iol.unh.edu In-Reply-To: <1734057571-20367-1-git-send-email-andremue@linux.microsoft.com> References: <1734057571-20367-1-git-send-email-andremue@linux.microsoft.com> Content-Type: text/plain X-BeenThere: test-report@dpdk.org X-Mailman-Version: 2.1.29 Precedence: list List-Id: automatic DPDK test reports List-Unsubscribe: , List-Archive: List-Post: List-Help: List-Subscribe: , Errors-To: test-report-bounces@dpdk.org Test-Label: iol-compile-amd64-testing Test-Status: SUCCESS http://dpdk.org/patch/149219 _Testing PASS_ Submitter: Andre Muezerie Date: Friday, December 13 2024 02:39:31 DPDK git baseline: Repo:dpdk Branch: master CommitID:7df61db6c387703a36306c1aea92225921e2eeb2 149219 --> testing pass Test environment and result as below: +---------------------+--------------------+------------------+-------------------+-------------------+-------------------------+----------------------+ | Environment | dpdk_meson_compile | dpdk_compile_ovs | dpdk_compile_spdk | dpdk_msvc_compile | dpdk_llvm_clang_compile | dpdk_mingw64_compile | +=====================+====================+==================+===================+===================+=========================+======================+ | CentOS Stream 9 | PASS | PASS | PASS | SKIPPED | SKIPPED | SKIPPED | +---------------------+--------------------+------------------+-------------------+-------------------+-------------------------+----------------------+ | Fedora 39 | PASS | PASS | PASS | SKIPPED | SKIPPED | SKIPPED | +---------------------+--------------------+------------------+-------------------+-------------------+-------------------------+----------------------+ | Fedora 39 (Clang) | PASS | PASS | PASS | SKIPPED | SKIPPED | SKIPPED | +---------------------+--------------------+------------------+-------------------+-------------------+-------------------------+----------------------+ | Debian 12 | PASS | PASS | PASS | SKIPPED | SKIPPED | SKIPPED | +---------------------+--------------------+------------------+-------------------+-------------------+-------------------------+----------------------+ | Fedora 40 (Clang) | PASS | PASS | PASS | SKIPPED | SKIPPED | SKIPPED | +---------------------+--------------------+------------------+-------------------+-------------------+-------------------------+----------------------+ | Fedora 40 | PASS | PASS | PASS | SKIPPED | SKIPPED | SKIPPED | +---------------------+--------------------+------------------+-------------------+-------------------+-------------------------+----------------------+ | openSUSE Leap 15 | PASS | SKIPPED | SKIPPED | SKIPPED | SKIPPED | SKIPPED | +---------------------+--------------------+------------------+-------------------+-------------------+-------------------------+----------------------+ | RHEL8 | PASS | PASS | SKIPPED | SKIPPED | SKIPPED | SKIPPED | +---------------------+--------------------+------------------+-------------------+-------------------+-------------------------+----------------------+ | RHEL9 | PASS | PASS | SKIPPED | SKIPPED | SKIPPED | SKIPPED | +---------------------+--------------------+------------------+-------------------+-------------------+-------------------------+----------------------+ | Ubuntu 20.04 | PASS | SKIPPED | SKIPPED | SKIPPED | SKIPPED | SKIPPED | +---------------------+--------------------+------------------+-------------------+-------------------+-------------------------+----------------------+ | Ubuntu 22.04 | PASS | PASS | PASS | SKIPPED | SKIPPED | SKIPPED | +---------------------+--------------------+------------------+-------------------+-------------------+-------------------------+----------------------+ | Ubuntu 24.04 | PASS | PASS | PASS | SKIPPED | SKIPPED | SKIPPED | +---------------------+--------------------+------------------+-------------------+-------------------+-------------------------+----------------------+ | Alpine | PASS | PASS | SKIPPED | SKIPPED | SKIPPED | SKIPPED | +---------------------+--------------------+------------------+-------------------+-------------------+-------------------------+----------------------+ | FreeBSD 13.4 | PASS | SKIPPED | SKIPPED | SKIPPED | SKIPPED | SKIPPED | +---------------------+--------------------+------------------+-------------------+-------------------+-------------------------+----------------------+ | FreeBSD 14.2 | PASS | SKIPPED | SKIPPED | SKIPPED | SKIPPED | SKIPPED | +---------------------+--------------------+------------------+-------------------+-------------------+-------------------------+----------------------+ | Windows Server 2022 | SKIPPED | SKIPPED | SKIPPED | PASS | PASS | PASS | +---------------------+--------------------+------------------+-------------------+-------------------+-------------------------+----------------------+ CentOS Stream 9 Kernel: Depends on container host Compiler: gcc 11.5.0 20240719 (Red Hat 11.5.0-2) Fedora 39 Kernel: Depends on container host Compiler: gcc 13.3.1 20240522 (Red Hat 13.3.1-1) Fedora 39 (Clang) Kernel: Depends on container host Compiler: clang 17.0.6 (Fedora 17.0.6-2.fc39) Debian 12 Kernel: Depends on container host Compiler: gcc (Debian 12.2.0-14) 12.2.0 Fedora 40 (Clang) Kernel: Depends on container host Compiler: clang 18.1.8 (Fedora 18.1.8-1.fc40) Fedora 40 Kernel: Depends on container host Compiler: gcc 14.2.1 20240912 (Red Hat 14.2.1-3) openSUSE Leap 15 Kernel: Depends on container host Compiler: gcc (SUSE Linux) 7.5.0 RHEL8 Kernel: Depends on container host Compiler: gcc 8.5.0 20210514 (Red Hat 8.5.0-22) RHEL9 Kernel: Depends on container host Compiler: gcc 11.5.0 20240719 (Red Hat 11.5.0-2) Ubuntu 20.04 Kernel: Depends on container host Compiler: gcc (Ubuntu 9.4.0-1ubuntu1~20.04.2) 9.4.0 Ubuntu 22.04 Kernel: Depends on container host Compiler: gcc (Ubuntu 11.4.0-1ubuntu1~22.04) 11.4.0 Ubuntu 24.04 Kernel: Depends on container host Compiler: gcc (Ubuntu 13.3.0-6ubuntu2~24.04) 13.3.0 Alpine Kernel: Depends on container host Compiler: gcc (Alpine 14.2.0) 14.2.0 FreeBSD 13.4 Kernel: 13.4-RELEASE-p1 Compiler: clang 18.1.6 FreeBSD 14.2 Kernel: 14.2-RELEASE Compiler: clang 18.1.6 Windows Server 2022 Kernel: 10.0.20348.2031 Compiler: clang 15.0.7, gcc 14.1.0 (MinGW), and MSVC VS 19.39.33521 To view detailed results, visit: https://lab.dpdk.org/results/dashboard/patchsets/32132/ UNH-IOL DPDK Community Lab To manage your email subscriptions, visit: https://lab.dpdk.org/results/dashboard/preferences/subscriptions/