From mboxrd@z Thu Jan 1 00:00:00 1970 Return-Path: Received: from mails.dpdk.org (mails.dpdk.org [217.70.189.124]) by inbox.dpdk.org (Postfix) with ESMTP id 03D15461BF for ; Fri, 7 Feb 2025 21:05:09 +0100 (CET) Received: from mails.dpdk.org (localhost [127.0.0.1]) by mails.dpdk.org (Postfix) with ESMTP id 00C4140270; Fri, 7 Feb 2025 21:05:09 +0100 (CET) Received: from mail-yw1-f226.google.com (mail-yw1-f226.google.com [209.85.128.226]) by mails.dpdk.org (Postfix) with ESMTP id F2E0F4026C for ; Fri, 7 Feb 2025 21:05:03 +0100 (CET) Received: by mail-yw1-f226.google.com with SMTP id 00721157ae682-6ef7c9e9592so20792737b3.1 for ; Fri, 07 Feb 2025 12:05:03 -0800 (PST) DKIM-Signature: v=1; a=rsa-sha256; c=relaxed/relaxed; d=iol.unh.edu; s=unh-iol; t=1738958703; x=1739563503; darn=dpdk.org; h=references:in-reply-to:cc:to:from:subject:message-id:date:from:to :cc:subject:date:message-id:reply-to; bh=dJ0m0H2YxXvPwN2d3jdLmINpbEMwMtdBA9S6iyU/LnQ=; b=Pk6kEo9O+/91fdmGQ6x78ETAI80Z037D55VxhgY6PWrk+crQHXnq/dh8RNVizN/Pyp WZ6n99DKZPxyRKfk2BvFMgVVIp6lxxl6+VV0YWCcnwEv5/3Thv51rOHtqgx4qBlmMLX2 fG3zkIjKvp6KcRxf1tE3TZao5lOrOADpZrQ+0= X-Google-DKIM-Signature: v=1; a=rsa-sha256; c=relaxed/relaxed; d=1e100.net; s=20230601; t=1738958703; x=1739563503; h=references:in-reply-to:cc:to:from:subject:message-id:date :x-gm-message-state:from:to:cc:subject:date:message-id:reply-to; bh=dJ0m0H2YxXvPwN2d3jdLmINpbEMwMtdBA9S6iyU/LnQ=; b=RHRQE3WvHLygkeVDYx5QNJncGWKDWxufk4p8I4cxohjrfBjYdpQ2HDK00QgySRMusc zVhQz8qX059fGB/OKfIEd2ArKe0ZMFgv0hdhYKkBIK3A5SSRe/rzqOvCZkGnkzNcSiHK a+Mom4+7FCM9wCsSl3za6eyS6i+WrC2lLQ/1Bd3Oju46hiryF9bQSX35T5Rhj31ObIfq fUaQfkB4FAWtTlfHsMa7Zpj/WXvU6BqdcxTAQbQhHN+drPoD/oOMfA1pLOZZDDXog2+x dKY2S7TOWbhBcagB1Hr1IDnPuKpBO8juM1IFf8NJs8ql1u+DNuESRiIC3i6Aoz+NIBN4 WMog== X-Gm-Message-State: AOJu0Yxo1kHfOzP3U6JDr/35M5ddXrvGkkYJLVwkuk+1xFa8Z/INd2u4 E35mTTAyjXviGl4MzLo1u+5vSbnWQRMzLUOgN5XEzG83yib6bs0ksc1Qc7O0bCx8WVyz5/NUrqn u9eROmk4TF5m0WiO028/bscYzNCturexOFO1HdFZf X-Gm-Gg: ASbGnctGzq2y3Kgoc/iXD8VSeRzFLeC8oJyswQCokljBnswmfPCeSVP7nAl7Wk/NJiA voSulQB1QKBWkMegdnnkaIQfQD4yEw4ZtQxXu2wxGOFx72AwRbBaGLMhNr3VH5et3rMg8XTjQrr ZxgRDtm+PTifLpId81yv4YdL6wXakUxI5NziBEG7CwXBijfdKK2AJANhsAE/lXgujeD35hwqUfF shV2AfxfDUs3VaZg8mEBNm28c3ggZB9jZd38E5G+clun82hPuZBu2xg879pdxvYCIs9xZdK0yZr sPGNjKCA3dQ+ANbf7dY3YzRda5YqCw== X-Google-Smtp-Source: AGHT+IFwaqRorTA5Git3wRtBLs8bIZHhMTUEPL53mGSb0vXjDBgQhoIcp4j+zUz35oWip+CT9NauroWVLw0K X-Received: by 2002:a05:690c:9989:b0:6ef:92e0:a989 with SMTP id 00721157ae682-6f9b29230b7mr43295807b3.23.1738958703464; Fri, 07 Feb 2025 12:05:03 -0800 (PST) Received: from postal.iol.unh.edu (postal.iol.unh.edu. [132.177.123.84]) by smtp-relay.gmail.com with ESMTPS id 00721157ae682-6f99fd535efsm588207b3.25.2025.02.07.12.05.03 (version=TLS1_2 cipher=ECDHE-ECDSA-AES128-GCM-SHA256 bits=128/128); Fri, 07 Feb 2025 12:05:03 -0800 (PST) X-Relaying-Domain: iol.unh.edu Date: Fri, 07 Feb 2025 12:05:03 -0800 (PST) Message-ID: <67a6676f.050a0220.160362.30a5SMTPIN_ADDED_MISSING@mx.google.com> Received: from [172.21.0.6] (unknown [172.18.0.240]) by postal.iol.unh.edu (Postfix) with ESMTP id 1D0F26052471; Fri, 7 Feb 2025 15:04:33 -0500 (EST) Subject: |SUCCESS| pw149233 [PATCH] net/iavf: remove reset of Tx prepare func From: dpdklab@iol.unh.edu To: Test Report Cc: dpdk-test-reports@iol.unh.edu In-Reply-To: <20241213143319.686365-1-bruce.richardson@intel.com> References: <20241213143319.686365-1-bruce.richardson@intel.com> Content-Type: text/plain X-BeenThere: test-report@dpdk.org X-Mailman-Version: 2.1.29 Precedence: list List-Id: automatic DPDK test reports List-Unsubscribe: , List-Archive: List-Post: List-Help: List-Subscribe: , Errors-To: test-report-bounces@dpdk.org Test-Label: iol-compile-amd64-testing Test-Status: SUCCESS http://dpdk.org/patch/149233 _Testing PASS_ Submitter: Bruce Richardson Date: Friday, December 13 2024 14:33:19 DPDK git baseline: Repo:dpdk Branch: master CommitID:ce85dd8562ad9673eb4fe46b4a8bd3a508e8b32f 149233 --> testing pass Test environment and result as below: +---------------------+--------------------+------------------+-------------------+-------------------------+----------------------+ | Environment | dpdk_meson_compile | dpdk_compile_ovs | dpdk_compile_spdk | dpdk_llvm_clang_compile | dpdk_mingw64_compile | +=====================+====================+==================+===================+=========================+======================+ | CentOS Stream 9 | PASS | PASS | PASS | SKIPPED | SKIPPED | +---------------------+--------------------+------------------+-------------------+-------------------------+----------------------+ | Debian 12 | PASS | PASS | PASS | SKIPPED | SKIPPED | +---------------------+--------------------+------------------+-------------------+-------------------------+----------------------+ | Fedora 39 (Clang) | PASS | PASS | PASS | SKIPPED | SKIPPED | +---------------------+--------------------+------------------+-------------------+-------------------------+----------------------+ | Fedora 39 | PASS | PASS | PASS | SKIPPED | SKIPPED | +---------------------+--------------------+------------------+-------------------+-------------------------+----------------------+ | Ubuntu 20.04 | PASS | SKIPPED | SKIPPED | SKIPPED | SKIPPED | +---------------------+--------------------+------------------+-------------------+-------------------------+----------------------+ | Fedora 40 (Clang) | PASS | PASS | PASS | SKIPPED | SKIPPED | +---------------------+--------------------+------------------+-------------------+-------------------------+----------------------+ | RHEL8 | PASS | PASS | SKIPPED | SKIPPED | SKIPPED | +---------------------+--------------------+------------------+-------------------+-------------------------+----------------------+ | openSUSE Leap 15 | PASS | SKIPPED | SKIPPED | SKIPPED | SKIPPED | +---------------------+--------------------+------------------+-------------------+-------------------------+----------------------+ | Fedora 40 | PASS | PASS | PASS | SKIPPED | SKIPPED | +---------------------+--------------------+------------------+-------------------+-------------------------+----------------------+ | RHEL9 | PASS | PASS | SKIPPED | SKIPPED | SKIPPED | +---------------------+--------------------+------------------+-------------------+-------------------------+----------------------+ | Ubuntu 22.04 | PASS | PASS | PASS | SKIPPED | SKIPPED | +---------------------+--------------------+------------------+-------------------+-------------------------+----------------------+ | Ubuntu 24.04 | PASS | PASS | PASS | SKIPPED | SKIPPED | +---------------------+--------------------+------------------+-------------------+-------------------------+----------------------+ | Alpine | PASS | PASS | SKIPPED | SKIPPED | SKIPPED | +---------------------+--------------------+------------------+-------------------+-------------------------+----------------------+ | FreeBSD 13.4 | PASS | SKIPPED | SKIPPED | SKIPPED | SKIPPED | +---------------------+--------------------+------------------+-------------------+-------------------------+----------------------+ | FreeBSD 14.2 | PASS | SKIPPED | SKIPPED | SKIPPED | SKIPPED | +---------------------+--------------------+------------------+-------------------+-------------------------+----------------------+ | Windows Server 2022 | SKIPPED | SKIPPED | SKIPPED | PASS | PASS | +---------------------+--------------------+------------------+-------------------+-------------------------+----------------------+ CentOS Stream 9 Kernel: Depends on container host Compiler: gcc 11.5.0 20240719 (Red Hat 11.5.0-2) Debian 12 Kernel: Depends on container host Compiler: gcc (Debian 12.2.0-14) 12.2.0 Fedora 39 (Clang) Kernel: Depends on container host Compiler: clang 17.0.6 (Fedora 17.0.6-2.fc39) Fedora 39 Kernel: Depends on container host Compiler: gcc 13.3.1 20240522 (Red Hat 13.3.1-1) Ubuntu 20.04 Kernel: Depends on container host Compiler: gcc (Ubuntu 9.4.0-1ubuntu1~20.04.2) 9.4.0 Fedora 40 (Clang) Kernel: Depends on container host Compiler: clang 18.1.8 (Fedora 18.1.8-1.fc40) RHEL8 Kernel: Depends on container host Compiler: gcc 8.5.0 20210514 (Red Hat 8.5.0-22) openSUSE Leap 15 Kernel: Depends on container host Compiler: gcc (SUSE Linux) 7.5.0 Fedora 40 Kernel: Depends on container host Compiler: gcc 14.2.1 20240912 (Red Hat 14.2.1-3) RHEL9 Kernel: Depends on container host Compiler: gcc 11.5.0 20240719 (Red Hat 11.5.0-2) Ubuntu 22.04 Kernel: Depends on container host Compiler: gcc (Ubuntu 11.4.0-1ubuntu1~22.04) 11.4.0 Ubuntu 24.04 Kernel: Depends on container host Compiler: gcc (Ubuntu 13.3.0-6ubuntu2~24.04) 13.3.0 Alpine Kernel: Depends on container host Compiler: gcc (Alpine 14.2.0) 14.2.0 FreeBSD 13.4 Kernel: 13.4-RELEASE-p1 Compiler: clang 18.1.6 FreeBSD 14.2 Kernel: 14.2-RELEASE Compiler: clang 18.1.6 Windows Server 2022 Kernel: 10.0.20348.2031 Compiler: clang 15.0.7, gcc 14.1.0 (MinGW), and MSVC VS 19.39.33521 To view detailed results, visit: https://lab.dpdk.org/results/dashboard/patchsets/32139/ UNH-IOL DPDK Community Lab To manage your email subscriptions, visit: https://lab.dpdk.org/results/dashboard/preferences/subscriptions/