From mboxrd@z Thu Jan 1 00:00:00 1970 Return-Path: Received: from mails.dpdk.org (mails.dpdk.org [217.70.189.124]) by inbox.dpdk.org (Postfix) with ESMTP id 297B2461BF for ; Fri, 7 Feb 2025 21:05:28 +0100 (CET) Received: from mails.dpdk.org (localhost [127.0.0.1]) by mails.dpdk.org (Postfix) with ESMTP id 2622440290; Fri, 7 Feb 2025 21:05:28 +0100 (CET) Received: from mail-pl1-f226.google.com (mail-pl1-f226.google.com [209.85.214.226]) by mails.dpdk.org (Postfix) with ESMTP id A528C4026C for ; Fri, 7 Feb 2025 21:05:27 +0100 (CET) Received: by mail-pl1-f226.google.com with SMTP id d9443c01a7336-21f2339dcfdso40226145ad.1 for ; Fri, 07 Feb 2025 12:05:27 -0800 (PST) DKIM-Signature: v=1; a=rsa-sha256; c=relaxed/relaxed; d=iol.unh.edu; s=unh-iol; t=1738958727; x=1739563527; darn=dpdk.org; h=references:in-reply-to:cc:to:from:subject:message-id:date:from:to :cc:subject:date:message-id:reply-to; bh=pkiCwrg9v4HCv4qYrBSt0m8que4xDSo9NNuUAqGOM8M=; b=CN2+dfS47HrNk3Wj0kQRfsnbaZIB+ltauS1xcgsmOkTlhZ+gUn85cEMjFM8HbCqKy/ RZlsrJB0IrhQBioLwUuojWcN4zerZC6RLWjLN8SQkqjEwVLn5s+3tQd3kDIAFrEuPaYG r+UZCOIhtV46Oc0YElLgviSlpb5yTs1jsa7So= X-Google-DKIM-Signature: v=1; a=rsa-sha256; c=relaxed/relaxed; d=1e100.net; s=20230601; t=1738958727; x=1739563527; h=references:in-reply-to:cc:to:from:subject:message-id:date :x-gm-message-state:from:to:cc:subject:date:message-id:reply-to; bh=pkiCwrg9v4HCv4qYrBSt0m8que4xDSo9NNuUAqGOM8M=; b=C7DSsmVD+EY09UqJRjQXwplNkEBlWLvlnfsycI7O0Hkq6rYjuhjvFW3sS1oRf0cVu7 uaJfGIXuz7r7YiBDYIE8qRjBngOn5+0P0AoP2KYUSOT+ZVOxlB8+PqQxS9Knki9SKVDu vfCPXYLDeVL2lc/CNuMGwM9NDJgfnVA6g89Pg80C/awZ66y+hePtfKZ90A1PTZig+dbm NlzHSxkHCwh/RloaJWmaYUN7dN04FBMz/YmeU//u4apOulwWKAvYH9iJeUKPsjvBCAuj r+IJvPdsjwJUnLc/dGamygQujqlsRvg7r4dt0bzMvFJ9mEQpckNO5koxUyixyRs9KNJa OYYg== X-Gm-Message-State: AOJu0YywGu3UCz/pE2HkVe4YLZZkB+LAg/WRz9fd0isFXqR3IpPQsp9V 7acyEZiiw0eZsLsCcKRKzTouWnD23MM+VDTfgplDiJx4dci1gw6iClXcNTD1ddHVPCUZQf6mc+M iSPd1eRtM0H0ahWVqB5EwwlPTzHoL0nrej+b3NrCs X-Gm-Gg: ASbGncuoHtSQ9OgnSv27ji+yZId+JUNrKrQMKb7+HmRYZhk7fh1chFl1N8T/5E5Lz88 d2mYZkmlV09m82zLInkil4Gcs7tyVLbdf9ZAd7meEO3phzSoQ4Q57nSAoZGF2xwWlbgQXymHFr4 KOlo+Ptuh9fYxftrGRvTDNtL5buGs7djHp9wJcSqYS+nC5bUuh3Ru6OP1i+FbF3htnpDVVFGZtA ntmX6DhIXSJ6Of4qG/xwqgHh5gsfxDUxvUxkBjKypThCXz/d8ahCjqt2FOmVY4ko+fpJYx5vnIE PktgqsFOwJAjm/L6qe8H6vuvGXzO3A== X-Google-Smtp-Source: AGHT+IGaQ8IwKO3sylkJvrvAViktpm4aXSDhQhXqqCI/ptMuV2xY1Rcaoe2CNAgwI82hMlMgQjfNsxgTHXes X-Received: by 2002:a17:903:32cb:b0:21f:2e:4e4e with SMTP id d9443c01a7336-21f4f0efdbbmr59162745ad.5.1738958726898; Fri, 07 Feb 2025 12:05:26 -0800 (PST) Received: from postal.iol.unh.edu (postal.iol.unh.edu. [132.177.123.84]) by smtp-relay.gmail.com with ESMTPS id d9443c01a7336-21f3687989csm2060435ad.114.2025.02.07.12.05.26 (version=TLS1_2 cipher=ECDHE-ECDSA-AES128-GCM-SHA256 bits=128/128); Fri, 07 Feb 2025 12:05:26 -0800 (PST) X-Relaying-Domain: iol.unh.edu Date: Fri, 07 Feb 2025 12:05:26 -0800 (PST) Message-ID: <67a66786.170a0220.3bab3f.a6a5SMTPIN_ADDED_MISSING@mx.google.com> Received: from [172.21.0.17] (unknown [172.18.0.240]) by postal.iol.unh.edu (Postfix) with ESMTP id 050FD6052477; Fri, 7 Feb 2025 15:04:56 -0500 (EST) Subject: |SUCCESS| pw149242-149243 [PATCH] [2/2] drivers/net/sfc: remove unus From: dpdklab@iol.unh.edu To: Test Report Cc: dpdk-test-reports@iol.unh.edu In-Reply-To: <20241213214951.61974-3-otilibil@eurecom.fr> References: <20241213214951.61974-3-otilibil@eurecom.fr> Content-Type: text/plain X-BeenThere: test-report@dpdk.org X-Mailman-Version: 2.1.29 Precedence: list List-Id: automatic DPDK test reports List-Unsubscribe: , List-Archive: List-Post: List-Help: List-Subscribe: , Errors-To: test-report-bounces@dpdk.org Test-Label: iol-compile-amd64-testing Test-Status: SUCCESS http://dpdk.org/patch/149243 _Testing PASS_ Submitter: Ariel Otilibili-Anieli Date: Friday, December 13 2024 21:41:55 DPDK git baseline: Repo:dpdk Branch: master CommitID:f1e0472368d4dbb1da33ae68b18ca21bc8a55259 149242-149243 --> testing pass Test environment and result as below: +---------------------+--------------------+------------------+-------------------+-------------------------+----------------------+-------------------+ | Environment | dpdk_meson_compile | dpdk_compile_ovs | dpdk_compile_spdk | dpdk_llvm_clang_compile | dpdk_mingw64_compile | dpdk_msvc_compile | +=====================+====================+==================+===================+=========================+======================+===================+ | CentOS Stream 9 | PASS | PASS | PASS | SKIPPED | SKIPPED | SKIPPED | +---------------------+--------------------+------------------+-------------------+-------------------------+----------------------+-------------------+ | Debian 12 | PASS | PASS | PASS | SKIPPED | SKIPPED | SKIPPED | +---------------------+--------------------+------------------+-------------------+-------------------------+----------------------+-------------------+ | Fedora 39 (Clang) | PASS | PASS | PASS | SKIPPED | SKIPPED | SKIPPED | +---------------------+--------------------+------------------+-------------------+-------------------------+----------------------+-------------------+ | Fedora 39 | PASS | PASS | PASS | SKIPPED | SKIPPED | SKIPPED | +---------------------+--------------------+------------------+-------------------+-------------------------+----------------------+-------------------+ | Fedora 40 (Clang) | PASS | PASS | PASS | SKIPPED | SKIPPED | SKIPPED | +---------------------+--------------------+------------------+-------------------+-------------------------+----------------------+-------------------+ | Fedora 40 | PASS | PASS | PASS | SKIPPED | SKIPPED | SKIPPED | +---------------------+--------------------+------------------+-------------------+-------------------------+----------------------+-------------------+ | openSUSE Leap 15 | PASS | SKIPPED | SKIPPED | SKIPPED | SKIPPED | SKIPPED | +---------------------+--------------------+------------------+-------------------+-------------------------+----------------------+-------------------+ | RHEL8 | PASS | PASS | SKIPPED | SKIPPED | SKIPPED | SKIPPED | +---------------------+--------------------+------------------+-------------------+-------------------------+----------------------+-------------------+ | RHEL9 | PASS | PASS | SKIPPED | SKIPPED | SKIPPED | SKIPPED | +---------------------+--------------------+------------------+-------------------+-------------------------+----------------------+-------------------+ | Ubuntu 20.04 | PASS | SKIPPED | SKIPPED | SKIPPED | SKIPPED | SKIPPED | +---------------------+--------------------+------------------+-------------------+-------------------------+----------------------+-------------------+ | Ubuntu 22.04 | PASS | PASS | PASS | SKIPPED | SKIPPED | SKIPPED | +---------------------+--------------------+------------------+-------------------+-------------------------+----------------------+-------------------+ | Ubuntu 24.04 | PASS | PASS | PASS | SKIPPED | SKIPPED | SKIPPED | +---------------------+--------------------+------------------+-------------------+-------------------------+----------------------+-------------------+ | Alpine | PASS | PASS | SKIPPED | SKIPPED | SKIPPED | SKIPPED | +---------------------+--------------------+------------------+-------------------+-------------------------+----------------------+-------------------+ | FreeBSD 13.4 | PASS | SKIPPED | SKIPPED | SKIPPED | SKIPPED | SKIPPED | +---------------------+--------------------+------------------+-------------------+-------------------------+----------------------+-------------------+ | FreeBSD 14.2 | PASS | SKIPPED | SKIPPED | SKIPPED | SKIPPED | SKIPPED | +---------------------+--------------------+------------------+-------------------+-------------------------+----------------------+-------------------+ | Windows Server 2022 | SKIPPED | SKIPPED | SKIPPED | PASS | PASS | PASS | +---------------------+--------------------+------------------+-------------------+-------------------------+----------------------+-------------------+ CentOS Stream 9 Kernel: Depends on container host Compiler: gcc 11.5.0 20240719 (Red Hat 11.5.0-2) Debian 12 Kernel: Depends on container host Compiler: gcc (Debian 12.2.0-14) 12.2.0 Fedora 39 (Clang) Kernel: Depends on container host Compiler: clang 17.0.6 (Fedora 17.0.6-2.fc39) Fedora 39 Kernel: Depends on container host Compiler: gcc 13.3.1 20240522 (Red Hat 13.3.1-1) Fedora 40 (Clang) Kernel: Depends on container host Compiler: clang 18.1.8 (Fedora 18.1.8-1.fc40) Fedora 40 Kernel: Depends on container host Compiler: gcc 14.2.1 20240912 (Red Hat 14.2.1-3) openSUSE Leap 15 Kernel: Depends on container host Compiler: gcc (SUSE Linux) 7.5.0 RHEL8 Kernel: Depends on container host Compiler: gcc 8.5.0 20210514 (Red Hat 8.5.0-22) RHEL9 Kernel: Depends on container host Compiler: gcc 11.5.0 20240719 (Red Hat 11.5.0-2) Ubuntu 20.04 Kernel: Depends on container host Compiler: gcc (Ubuntu 9.4.0-1ubuntu1~20.04.2) 9.4.0 Ubuntu 22.04 Kernel: Depends on container host Compiler: gcc (Ubuntu 11.4.0-1ubuntu1~22.04) 11.4.0 Ubuntu 24.04 Kernel: Depends on container host Compiler: gcc (Ubuntu 13.3.0-6ubuntu2~24.04) 13.3.0 Alpine Kernel: Depends on container host Compiler: gcc (Alpine 14.2.0) 14.2.0 FreeBSD 13.4 Kernel: 13.4-RELEASE-p1 Compiler: clang 18.1.6 FreeBSD 14.2 Kernel: 14.2-RELEASE Compiler: clang 18.1.6 Windows Server 2022 Kernel: 10.0.20348.2031 Compiler: clang 15.0.7, gcc 14.1.0 (MinGW), and MSVC VS 19.39.33521 To view detailed results, visit: https://lab.dpdk.org/results/dashboard/patchsets/32144/ UNH-IOL DPDK Community Lab To manage your email subscriptions, visit: https://lab.dpdk.org/results/dashboard/preferences/subscriptions/