From mboxrd@z Thu Jan 1 00:00:00 1970 Return-Path: Received: from mails.dpdk.org (mails.dpdk.org [217.70.189.124]) by inbox.dpdk.org (Postfix) with ESMTP id 8C954461BF for ; Fri, 7 Feb 2025 21:05:31 +0100 (CET) Received: from mails.dpdk.org (localhost [127.0.0.1]) by mails.dpdk.org (Postfix) with ESMTP id 843CA40270; Fri, 7 Feb 2025 21:05:31 +0100 (CET) Received: from mail-oa1-f99.google.com (mail-oa1-f99.google.com [209.85.160.99]) by mails.dpdk.org (Postfix) with ESMTP id F247B4026C for ; Fri, 7 Feb 2025 21:05:27 +0100 (CET) Received: by mail-oa1-f99.google.com with SMTP id 586e51a60fabf-2b7f587a13dso1199813fac.3 for ; Fri, 07 Feb 2025 12:05:27 -0800 (PST) DKIM-Signature: v=1; a=rsa-sha256; c=relaxed/relaxed; d=iol.unh.edu; s=unh-iol; t=1738958727; x=1739563527; darn=dpdk.org; h=references:in-reply-to:cc:to:from:subject:message-id:date:from:to :cc:subject:date:message-id:reply-to; bh=hYeM3KLgqxp0m+nLkdYHbMV9VUR6D0FY45r8fIJW3JQ=; b=hePN021bayPSex+Lmsy733Bt49FuMjAr9bxu9ga6JIxivyEux2MevWhbz+Cf6VL9MN kATZN/TWfDdXGVkvfejUJZ9jNA/ytUY8hCHzGVtR5DsfyCm5cSygDCb2G8JOHvF/xYSF QRkxlspLQNeMhDD9R7MATamIeZIsxqPP7F13A= X-Google-DKIM-Signature: v=1; a=rsa-sha256; c=relaxed/relaxed; d=1e100.net; s=20230601; t=1738958727; x=1739563527; h=references:in-reply-to:cc:to:from:subject:message-id:date :x-gm-message-state:from:to:cc:subject:date:message-id:reply-to; bh=hYeM3KLgqxp0m+nLkdYHbMV9VUR6D0FY45r8fIJW3JQ=; b=H11EA5Coh5H0vMdI6nBHFvVLuYJLwZzScpjUj7ON+yVX9i9KcggCYdxrV6Ewsqt16b Igr3RRHAJ/0ua6HkGjf+dnvAWKgjJeLU5CoIkspRxi7QMsYOF3gEuVtRmAXX3wZLJFiX 2AxTxef+GrFal/zqz17ej1kh8pVxfv6N58aLG36FFc1kXKjr0UFF5M41yRGHdfF2IbCy m3o7VrSVhYZ5pbaLKanFMiCPmYm28vrWAab0vNYDQr0wkRiuufGeYnhzh0G/RtyCkMNk 9KkCY4lIJSYWSP1I3Z6BkAjbDwXJ08F5JBiMyHGM6xsYe32M45+RKmBRdGiXv3KH3I1d agzw== X-Gm-Message-State: AOJu0YwXXuj7p8WNlCzWxTSLNW+e8GcUOtKs0+LxykzY8nSKlbITjHcs RFmmjX4NO9MsLT6zLdZVoiAHnYNkoLzxrlJG2zfx9ZvTscS+Mdqmn+bq0tAO5PutxJJVhzvQJM5 wCePCBY6nxqa5UNCDWje4rZidW3+tpsenncPU4sZD X-Gm-Gg: ASbGncvYIiZSUZBEtFLR3I/LMiePzBGxOM9DshA7+nFOQZ8b/+wTpS94uE7Pax4F9YA Jz3T32CHQw95777n5HjpnqXMONjDYfRbV13f/4HD6JVPPLLGVPu9iD9bZU3KkxYkxAx7M4fcvQ5 WH3AbvTFnT9z3fuxs7AKf1rSPEmJICa+2DVDPNEmq+mh2M10AxAK5G3KUQmVYCVzuCcHWemRnvL viY5869Ph9qaH8Q9SSeHN080j7sANWFP1WlAmd3bE8Vqud1OW3oxvLBhVj0svF1eX5lruGnOPrv m+0fSf9UMH5kNzUoXTtoOqkKFx+Rsw== X-Google-Smtp-Source: AGHT+IFNE2rc3PGWWRl9yqTMHHEBT7CMXDJSv6n0TR2/31+SLNR/Ly5/9q+gFsR+jAjYiis71OIxGaTEtqWy X-Received: by 2002:a05:6870:5691:b0:2a3:c59d:f09d with SMTP id 586e51a60fabf-2b83ec24d41mr3245796fac.14.1738958727375; Fri, 07 Feb 2025 12:05:27 -0800 (PST) Received: from postal.iol.unh.edu (postal.iol.unh.edu. [132.177.123.84]) by smtp-relay.gmail.com with ESMTPS id 586e51a60fabf-2b82601605fsm193076fac.20.2025.02.07.12.05.27 (version=TLS1_2 cipher=ECDHE-ECDSA-AES128-GCM-SHA256 bits=128/128); Fri, 07 Feb 2025 12:05:27 -0800 (PST) X-Relaying-Domain: iol.unh.edu Date: Fri, 07 Feb 2025 12:05:27 -0800 (PST) Message-ID: <67a66787.050a0220.24b434.97dbSMTPIN_ADDED_MISSING@mx.google.com> Received: from [172.21.0.15] (unknown [172.18.0.240]) by postal.iol.unh.edu (Postfix) with ESMTP id CB71D605247D; Fri, 7 Feb 2025 15:04:56 -0500 (EST) Subject: |SUCCESS| pw149218 [PATCH] [v5] graph: mcore: optimize graph search From: dpdklab@iol.unh.edu To: Test Report Cc: dpdk-test-reports@iol.unh.edu In-Reply-To: <20241213022158.2644-1-chcchc88@163.com> References: <20241213022158.2644-1-chcchc88@163.com> Content-Type: text/plain X-BeenThere: test-report@dpdk.org X-Mailman-Version: 2.1.29 Precedence: list List-Id: automatic DPDK test reports List-Unsubscribe: , List-Archive: List-Post: List-Help: List-Subscribe: , Errors-To: test-report-bounces@dpdk.org Test-Label: iol-compile-amd64-testing Test-Status: SUCCESS http://dpdk.org/patch/149218 _Testing PASS_ Submitter: Huichao Cai Date: Friday, December 13 2024 02:21:58 DPDK git baseline: Repo:dpdk Branch: master CommitID:7df61db6c387703a36306c1aea92225921e2eeb2 149218 --> testing pass Test environment and result as below: +---------------------+--------------------+------------------+-------------------+-------------------+-------------------------+----------------------+ | Environment | dpdk_meson_compile | dpdk_compile_ovs | dpdk_compile_spdk | dpdk_msvc_compile | dpdk_llvm_clang_compile | dpdk_mingw64_compile | +=====================+====================+==================+===================+===================+=========================+======================+ | CentOS Stream 9 | PASS | PASS | PASS | SKIPPED | SKIPPED | SKIPPED | +---------------------+--------------------+------------------+-------------------+-------------------+-------------------------+----------------------+ | Debian 12 | PASS | PASS | PASS | SKIPPED | SKIPPED | SKIPPED | +---------------------+--------------------+------------------+-------------------+-------------------+-------------------------+----------------------+ | Fedora 39 (Clang) | PASS | PASS | PASS | SKIPPED | SKIPPED | SKIPPED | +---------------------+--------------------+------------------+-------------------+-------------------+-------------------------+----------------------+ | Fedora 39 | PASS | PASS | PASS | SKIPPED | SKIPPED | SKIPPED | +---------------------+--------------------+------------------+-------------------+-------------------+-------------------------+----------------------+ | Fedora 40 (Clang) | PASS | PASS | PASS | SKIPPED | SKIPPED | SKIPPED | +---------------------+--------------------+------------------+-------------------+-------------------+-------------------------+----------------------+ | openSUSE Leap 15 | PASS | SKIPPED | SKIPPED | SKIPPED | SKIPPED | SKIPPED | +---------------------+--------------------+------------------+-------------------+-------------------+-------------------------+----------------------+ | RHEL9 | PASS | PASS | SKIPPED | SKIPPED | SKIPPED | SKIPPED | +---------------------+--------------------+------------------+-------------------+-------------------+-------------------------+----------------------+ | Fedora 40 | PASS | PASS | PASS | SKIPPED | SKIPPED | SKIPPED | +---------------------+--------------------+------------------+-------------------+-------------------+-------------------------+----------------------+ | Ubuntu 20.04 | PASS | SKIPPED | SKIPPED | SKIPPED | SKIPPED | SKIPPED | +---------------------+--------------------+------------------+-------------------+-------------------+-------------------------+----------------------+ | RHEL8 | PASS | PASS | SKIPPED | SKIPPED | SKIPPED | SKIPPED | +---------------------+--------------------+------------------+-------------------+-------------------+-------------------------+----------------------+ | Ubuntu 24.04 | PASS | PASS | PASS | SKIPPED | SKIPPED | SKIPPED | +---------------------+--------------------+------------------+-------------------+-------------------+-------------------------+----------------------+ | Ubuntu 22.04 | PASS | PASS | PASS | SKIPPED | SKIPPED | SKIPPED | +---------------------+--------------------+------------------+-------------------+-------------------+-------------------------+----------------------+ | Alpine | PASS | PASS | SKIPPED | SKIPPED | SKIPPED | SKIPPED | +---------------------+--------------------+------------------+-------------------+-------------------+-------------------------+----------------------+ | FreeBSD 13.4 | PASS | SKIPPED | SKIPPED | SKIPPED | SKIPPED | SKIPPED | +---------------------+--------------------+------------------+-------------------+-------------------+-------------------------+----------------------+ | FreeBSD 14.2 | PASS | SKIPPED | SKIPPED | SKIPPED | SKIPPED | SKIPPED | +---------------------+--------------------+------------------+-------------------+-------------------+-------------------------+----------------------+ | Windows Server 2022 | SKIPPED | SKIPPED | SKIPPED | PASS | PASS | PASS | +---------------------+--------------------+------------------+-------------------+-------------------+-------------------------+----------------------+ CentOS Stream 9 Kernel: Depends on container host Compiler: gcc 11.5.0 20240719 (Red Hat 11.5.0-2) Debian 12 Kernel: Depends on container host Compiler: gcc (Debian 12.2.0-14) 12.2.0 Fedora 39 (Clang) Kernel: Depends on container host Compiler: clang 17.0.6 (Fedora 17.0.6-2.fc39) Fedora 39 Kernel: Depends on container host Compiler: gcc 13.3.1 20240522 (Red Hat 13.3.1-1) Fedora 40 (Clang) Kernel: Depends on container host Compiler: clang 18.1.8 (Fedora 18.1.8-1.fc40) openSUSE Leap 15 Kernel: Depends on container host Compiler: gcc (SUSE Linux) 7.5.0 RHEL9 Kernel: Depends on container host Compiler: gcc 11.5.0 20240719 (Red Hat 11.5.0-2) Fedora 40 Kernel: Depends on container host Compiler: gcc 14.2.1 20240912 (Red Hat 14.2.1-3) Ubuntu 20.04 Kernel: Depends on container host Compiler: gcc (Ubuntu 9.4.0-1ubuntu1~20.04.2) 9.4.0 RHEL8 Kernel: Depends on container host Compiler: gcc 8.5.0 20210514 (Red Hat 8.5.0-22) Ubuntu 24.04 Kernel: Depends on container host Compiler: gcc (Ubuntu 13.3.0-6ubuntu2~24.04) 13.3.0 Ubuntu 22.04 Kernel: Depends on container host Compiler: gcc (Ubuntu 11.4.0-1ubuntu1~22.04) 11.4.0 Alpine Kernel: Depends on container host Compiler: gcc (Alpine 14.2.0) 14.2.0 FreeBSD 13.4 Kernel: 13.4-RELEASE-p1 Compiler: clang 18.1.6 FreeBSD 14.2 Kernel: 14.2-RELEASE Compiler: clang 18.1.6 Windows Server 2022 Kernel: 10.0.20348.2031 Compiler: clang 15.0.7, gcc 14.1.0 (MinGW), and MSVC VS 19.39.33521 To view detailed results, visit: https://lab.dpdk.org/results/dashboard/patchsets/32131/ UNH-IOL DPDK Community Lab To manage your email subscriptions, visit: https://lab.dpdk.org/results/dashboard/preferences/subscriptions/