From mboxrd@z Thu Jan 1 00:00:00 1970 Return-Path: Received: from mails.dpdk.org (mails.dpdk.org [217.70.189.124]) by inbox.dpdk.org (Postfix) with ESMTP id AAA4C461BF for ; Fri, 7 Feb 2025 21:05:33 +0100 (CET) Received: from mails.dpdk.org (localhost [127.0.0.1]) by mails.dpdk.org (Postfix) with ESMTP id A145040270; Fri, 7 Feb 2025 21:05:33 +0100 (CET) Received: from mail-pl1-f226.google.com (mail-pl1-f226.google.com [209.85.214.226]) by mails.dpdk.org (Postfix) with ESMTP id EB1A14026C for ; Fri, 7 Feb 2025 21:05:30 +0100 (CET) Received: by mail-pl1-f226.google.com with SMTP id d9443c01a7336-21f49837d36so24861665ad.3 for ; Fri, 07 Feb 2025 12:05:30 -0800 (PST) DKIM-Signature: v=1; a=rsa-sha256; c=relaxed/relaxed; d=iol.unh.edu; s=unh-iol; t=1738958730; x=1739563530; darn=dpdk.org; h=references:in-reply-to:cc:to:from:subject:message-id:date:from:to :cc:subject:date:message-id:reply-to; bh=pbPNa0kjuGNO0zw7zgyZ03oWwyZe7+nlodh7sRBjCP8=; b=JsRKEmnmgmz4Erb1+2HPCrezCQJqyKFRLS0rtMO1PhRbHmMA3KOlS08PxllYP1f6EX 2KqhccjDwdilBHHzzDFRun7yZ9nHq9vORt8q/5SLuVIEFRL7mDMLZXikhN8jSQnjXDIF +DFZLfk1IlwSNt7XQDOyaNw/HCkKk3DghE/+0= X-Google-DKIM-Signature: v=1; a=rsa-sha256; c=relaxed/relaxed; d=1e100.net; s=20230601; t=1738958730; x=1739563530; h=references:in-reply-to:cc:to:from:subject:message-id:date :x-gm-message-state:from:to:cc:subject:date:message-id:reply-to; bh=pbPNa0kjuGNO0zw7zgyZ03oWwyZe7+nlodh7sRBjCP8=; b=kAsEiy7f7JpkRg4ZTGGHZC19QueBZVaCRbRzgt5CgAystJaxtTm0wjCcTO7XWbeSSb Vly9CLoYUOm185zzSKnJu5aPjQIKG0joJqNEymKzevgLzout3W0Nc/GvTQty1aEMmyYG trExAy5PVDeeFkdKCfE2zds+1pA5ATKYRO3iCGjWfQsnoJG/l7tbXCNbdLdsiVsVnKgQ aGdVfCa14wq+UOFSp+ZQ2mBWwiAJAGHkdk8YphyV10hhTSeMsCbBXCvIRcsHJxAHBr3y APiMFEqnTZbsx/waIXLXOEon9MIGuBStRFJ2Dx+HUwcicZTaLYgUAmYPHWG+DcfLaGKl J4Cw== X-Gm-Message-State: AOJu0Yz0Bx8ZmqQuxEUVY95AcrM8OMWQq0nBIdiUK18F09PtPHhxyXOA YcNeJYahDjPtt9IBpeh0dXfXuTOqDWetwRMoZA0NSoaGDUZ/2yCFldZbZ9sI9N4vSV9g9p/zTVp cnN1AXgz7ftpRpEFpIRrziFtTHv4pKOi79mUB8X06 X-Gm-Gg: ASbGnctqsFQcUN7+qKUNMj7rvpQaJO7iZTJyBLThYtKOh4oJhemT3A/U3wGGM6CHbqU oPfY0T82sbIc8sU+sMVjraRVsH06tEvMBaEO1DqSwA/S5LLlpMUFtYSeUEV/Jg2INmBUZh69mBI 5IQ8V4Eb5aiW341Ct+JAr+wQk0/taSxuwV9c+FbJDmTGqT9T8PgEV3NHXmUMBTXSkDqJYEFNK6T /iG/6pp/cGRMDtjHzeiHQ4hajvj8taEN5waCMM2mvNhoEim7H0+G5rgGyLvv2RkqQqbuFAltvic U0fVRquZg0Eq1/gmcGEQ8NLZWAFs/g== X-Google-Smtp-Source: AGHT+IG/ls60+GMVh9ZgGZKwk+qIAb2lU3xGKpQafbGWRCDoAZ7eogfkFqSk+RzPVm/hxaEwGkqEhuEhNhZf X-Received: by 2002:a05:6a20:ce4c:b0:1ed:a016:ba82 with SMTP id adf61e73a8af0-1ee03a8f4f8mr8766410637.21.1738958730152; Fri, 07 Feb 2025 12:05:30 -0800 (PST) Received: from postal.iol.unh.edu (postal.iol.unh.edu. [132.177.123.84]) by smtp-relay.gmail.com with ESMTPS id 41be03b00d2f7-ad51ae38307sm117216a12.0.2025.02.07.12.05.30 (version=TLS1_2 cipher=ECDHE-ECDSA-AES128-GCM-SHA256 bits=128/128); Fri, 07 Feb 2025 12:05:30 -0800 (PST) X-Relaying-Domain: iol.unh.edu Date: Fri, 07 Feb 2025 12:05:30 -0800 (PST) Message-ID: <67a6678a.050a0220.23b40c.5d7aSMTPIN_ADDED_MISSING@mx.google.com> Received: from [172.21.0.16] (unknown [172.18.0.240]) by postal.iol.unh.edu (Postfix) with ESMTP id 56F226052484; Fri, 7 Feb 2025 15:04:59 -0500 (EST) Subject: |SUCCESS| pw149233 [PATCH] net/iavf: remove reset of Tx prepare func From: dpdklab@iol.unh.edu To: Test Report Cc: dpdk-test-reports@iol.unh.edu In-Reply-To: <20241213143319.686365-1-bruce.richardson@intel.com> References: <20241213143319.686365-1-bruce.richardson@intel.com> Content-Type: text/plain X-BeenThere: test-report@dpdk.org X-Mailman-Version: 2.1.29 Precedence: list List-Id: automatic DPDK test reports List-Unsubscribe: , List-Archive: List-Post: List-Help: List-Subscribe: , Errors-To: test-report-bounces@dpdk.org Test-Label: iol-compile-amd64-testing Test-Status: SUCCESS http://dpdk.org/patch/149233 _Testing PASS_ Submitter: Bruce Richardson Date: Friday, December 13 2024 14:33:19 DPDK git baseline: Repo:dpdk Branch: master CommitID:ce85dd8562ad9673eb4fe46b4a8bd3a508e8b32f 149233 --> testing pass Test environment and result as below: +---------------------+--------------------+------------------+-------------------+-------------------------+----------------------+-------------------+ | Environment | dpdk_meson_compile | dpdk_compile_ovs | dpdk_compile_spdk | dpdk_llvm_clang_compile | dpdk_mingw64_compile | dpdk_msvc_compile | +=====================+====================+==================+===================+=========================+======================+===================+ | Fedora 39 (Clang) | PASS | PASS | PASS | SKIPPED | SKIPPED | SKIPPED | +---------------------+--------------------+------------------+-------------------+-------------------------+----------------------+-------------------+ | Debian 12 | PASS | PASS | PASS | SKIPPED | SKIPPED | SKIPPED | +---------------------+--------------------+------------------+-------------------+-------------------------+----------------------+-------------------+ | CentOS Stream 9 | PASS | PASS | PASS | SKIPPED | SKIPPED | SKIPPED | +---------------------+--------------------+------------------+-------------------+-------------------------+----------------------+-------------------+ | Fedora 40 | PASS | PASS | PASS | SKIPPED | SKIPPED | SKIPPED | +---------------------+--------------------+------------------+-------------------+-------------------------+----------------------+-------------------+ | Fedora 40 (Clang) | PASS | PASS | PASS | SKIPPED | SKIPPED | SKIPPED | +---------------------+--------------------+------------------+-------------------+-------------------------+----------------------+-------------------+ | Fedora 39 | PASS | PASS | PASS | SKIPPED | SKIPPED | SKIPPED | +---------------------+--------------------+------------------+-------------------+-------------------------+----------------------+-------------------+ | openSUSE Leap 15 | PASS | SKIPPED | SKIPPED | SKIPPED | SKIPPED | SKIPPED | +---------------------+--------------------+------------------+-------------------+-------------------------+----------------------+-------------------+ | RHEL8 | PASS | PASS | SKIPPED | SKIPPED | SKIPPED | SKIPPED | +---------------------+--------------------+------------------+-------------------+-------------------------+----------------------+-------------------+ | RHEL9 | PASS | PASS | SKIPPED | SKIPPED | SKIPPED | SKIPPED | +---------------------+--------------------+------------------+-------------------+-------------------------+----------------------+-------------------+ | Ubuntu 22.04 | PASS | PASS | PASS | SKIPPED | SKIPPED | SKIPPED | +---------------------+--------------------+------------------+-------------------+-------------------------+----------------------+-------------------+ | Ubuntu 20.04 | PASS | SKIPPED | SKIPPED | SKIPPED | SKIPPED | SKIPPED | +---------------------+--------------------+------------------+-------------------+-------------------------+----------------------+-------------------+ | Ubuntu 24.04 | PASS | PASS | PASS | SKIPPED | SKIPPED | SKIPPED | +---------------------+--------------------+------------------+-------------------+-------------------------+----------------------+-------------------+ | FreeBSD 13.4 | PASS | SKIPPED | SKIPPED | SKIPPED | SKIPPED | SKIPPED | +---------------------+--------------------+------------------+-------------------+-------------------------+----------------------+-------------------+ | Alpine | PASS | PASS | SKIPPED | SKIPPED | SKIPPED | SKIPPED | +---------------------+--------------------+------------------+-------------------+-------------------------+----------------------+-------------------+ | FreeBSD 14.2 | PASS | SKIPPED | SKIPPED | SKIPPED | SKIPPED | SKIPPED | +---------------------+--------------------+------------------+-------------------+-------------------------+----------------------+-------------------+ | Windows Server 2022 | SKIPPED | SKIPPED | SKIPPED | PASS | PASS | PASS | +---------------------+--------------------+------------------+-------------------+-------------------------+----------------------+-------------------+ Fedora 39 (Clang) Kernel: Depends on container host Compiler: clang 17.0.6 (Fedora 17.0.6-2.fc39) Debian 12 Kernel: Depends on container host Compiler: gcc (Debian 12.2.0-14) 12.2.0 CentOS Stream 9 Kernel: Depends on container host Compiler: gcc 11.5.0 20240719 (Red Hat 11.5.0-2) Fedora 40 Kernel: Depends on container host Compiler: gcc 14.2.1 20240912 (Red Hat 14.2.1-3) Fedora 40 (Clang) Kernel: Depends on container host Compiler: clang 18.1.8 (Fedora 18.1.8-1.fc40) Fedora 39 Kernel: Depends on container host Compiler: gcc 13.3.1 20240522 (Red Hat 13.3.1-1) openSUSE Leap 15 Kernel: Depends on container host Compiler: gcc (SUSE Linux) 7.5.0 RHEL8 Kernel: Depends on container host Compiler: gcc 8.5.0 20210514 (Red Hat 8.5.0-22) RHEL9 Kernel: Depends on container host Compiler: gcc 11.5.0 20240719 (Red Hat 11.5.0-2) Ubuntu 22.04 Kernel: Depends on container host Compiler: gcc (Ubuntu 11.4.0-1ubuntu1~22.04) 11.4.0 Ubuntu 20.04 Kernel: Depends on container host Compiler: gcc (Ubuntu 9.4.0-1ubuntu1~20.04.2) 9.4.0 Ubuntu 24.04 Kernel: Depends on container host Compiler: gcc (Ubuntu 13.3.0-6ubuntu2~24.04) 13.3.0 FreeBSD 13.4 Kernel: 13.4-RELEASE-p1 Compiler: clang 18.1.6 Alpine Kernel: Depends on container host Compiler: gcc (Alpine 14.2.0) 14.2.0 FreeBSD 14.2 Kernel: 14.2-RELEASE Compiler: clang 18.1.6 Windows Server 2022 Kernel: 10.0.20348.2031 Compiler: clang 15.0.7, gcc 14.1.0 (MinGW), and MSVC VS 19.39.33521 To view detailed results, visit: https://lab.dpdk.org/results/dashboard/patchsets/32139/ UNH-IOL DPDK Community Lab To manage your email subscriptions, visit: https://lab.dpdk.org/results/dashboard/preferences/subscriptions/