From mboxrd@z Thu Jan 1 00:00:00 1970 Return-Path: Received: from mails.dpdk.org (mails.dpdk.org [217.70.189.124]) by inbox.dpdk.org (Postfix) with ESMTP id E06ED461BF for ; Fri, 7 Feb 2025 21:05:39 +0100 (CET) Received: from mails.dpdk.org (localhost [127.0.0.1]) by mails.dpdk.org (Postfix) with ESMTP id DDBBD40270; Fri, 7 Feb 2025 21:05:39 +0100 (CET) Received: from mail-io1-f98.google.com (mail-io1-f98.google.com [209.85.166.98]) by mails.dpdk.org (Postfix) with ESMTP id 6E8A14026C for ; Fri, 7 Feb 2025 21:05:38 +0100 (CET) Received: by mail-io1-f98.google.com with SMTP id ca18e2360f4ac-84cdacbc3dbso181255939f.2 for ; Fri, 07 Feb 2025 12:05:38 -0800 (PST) DKIM-Signature: v=1; a=rsa-sha256; c=relaxed/relaxed; d=iol.unh.edu; s=unh-iol; t=1738958738; x=1739563538; darn=dpdk.org; h=cc:to:from:subject:message-id:date:from:to:cc:subject:date :message-id:reply-to; bh=cyf/xgPoWQ5N7gR8xlwzun37ji8jzjxGhvSBOZeeTxg=; b=a1AYaKQxYsQ3qGBvcwY77iQvbMZ8DZ/oGEHjFjj4s4JzsxlslbzChtEYfOqvCzwLka 6tStd3c3R2cIIEA47JFMpRihlUDp/eK15RvdGUf86qgwZjsmX5E6Wv71lZ8yEXSygPUB JtyvG0iIo3TJmM4CWfhx/61J9wN0CqGFeMOOI= X-Google-DKIM-Signature: v=1; a=rsa-sha256; c=relaxed/relaxed; d=1e100.net; s=20230601; t=1738958738; x=1739563538; h=cc:to:from:subject:message-id:date:x-gm-message-state:from:to:cc :subject:date:message-id:reply-to; bh=cyf/xgPoWQ5N7gR8xlwzun37ji8jzjxGhvSBOZeeTxg=; b=YiQOVoBvwjoYcKvqHedA5tI5UAP1/oXGSZqtLEkB1xzJKGuSaqi21Xu/pj3HSYR6Ye BqLvOeHJ+numxFRs5Ztv/cig8HWZMnoaCx4BO9hhaRUhplH620JIGcbWWWIatRrFoM0Y Fb3RqqjzZWdiYKxBoVD3DGTpCjwDZP488KV3zoMIrkG3I0ReSq4UmNLh/4lshbYEr4yP QqDHg57ILjxC5lg83PrVdJeB/HQCz69mnSfGFPoP4LFiXlVx6Kng17Q/gZCGLjotBQ6f 7+CEGTmua6inQHp5QdeBL7RTvwe+Hi9yOn3a1Um4Gh3rWl9yI5pzIxXIhPYew2fLYiCR ld+w== X-Gm-Message-State: AOJu0YyvnfoDm7FxBR7bfbjJaF+ldJEw23eUwLYRM/Ec0CDqiwtPi6/W +Q5+sd2w+VTN6AjIAPCcoIdFk8jadEQYqJNdMUrcrTXRnKGM9C7Zg9fzpN/vKTkeut4mS3LPknA QyQflZmkAHFSVP5tr2CE7Sla+PSVbiHN490zuEy8H X-Gm-Gg: ASbGncu5gTyid8iN+tifhguIhVVzvDQTBiGJXBmtJgLFcgOylZ3tBYnE3akEneowpYQ gpeagEl8Tjf5zI2ZgqUftyDKDhAG1uYa4yz4Bhph19x+AuS05IlUZcboqD4YOw2AyZSXQvtToRU ICjqVJe8Zs+QO2aOw4qaCEatX+Yt9LBLN6NOU3lDoniCVPpo7AsSD5FeiW5MgxKfcGM7SN/DAHB DLMho9799z2x3TON2xNHrOjRIi7P4LLKWonZHidXDFyJZHKZrKXZjchR7gJhzF1o/fX1iQ9GXHv g2761VoD2CVJKpTJeE93/Dmukz5zUA== X-Google-Smtp-Source: AGHT+IEPi8nJtjdGliJAYsL/9GjEDs7f4vxdl2GNlDILh/A3SSq3lTBVKc8+d2fSJQBj1A4QzPsCV/EiAu2Z X-Received: by 2002:a05:6602:3a86:b0:849:a2bb:ffdd with SMTP id ca18e2360f4ac-854fd891997mr625088739f.4.1738958737086; Fri, 07 Feb 2025 12:05:37 -0800 (PST) Received: from postal.iol.unh.edu (postal.iol.unh.edu. [132.177.123.84]) by smtp-relay.gmail.com with ESMTPS id 8926c6da1cb9f-4eccfaa1dabsm255789173.46.2025.02.07.12.05.37 (version=TLS1_2 cipher=ECDHE-ECDSA-AES128-GCM-SHA256 bits=128/128); Fri, 07 Feb 2025 12:05:37 -0800 (PST) X-Relaying-Domain: iol.unh.edu Date: Fri, 07 Feb 2025 12:05:37 -0800 (PST) Message-ID: <67a66791.050a0220.1c59d3.d548SMTPIN_ADDED_MISSING@mx.google.com> Received: from [172.21.0.19] (unknown [172.18.0.240]) by postal.iol.unh.edu (Postfix) with ESMTP id 936AC6052483; Fri, 7 Feb 2025 15:05:06 -0500 (EST) Subject: |SUCCESS| [GIT MASTER] 7df61db6c387703a36306c1aea92225921e2eeb2 From: dpdklab@iol.unh.edu To: Test Report Cc: dpdk-test-reports@iol.unh.edu Content-Type: text/plain X-BeenThere: test-report@dpdk.org X-Mailman-Version: 2.1.29 Precedence: list List-Id: automatic DPDK test reports List-Unsubscribe: , List-Archive: List-Post: List-Help: List-Subscribe: , Errors-To: test-report-bounces@dpdk.org _Testing PASS_ Branch: dpdk 7df61db6c387703a36306c1aea92225921e2eeb2 --> testing pass Test environment and result as below: +---------------------+--------------------+------------------+-------------------+-------------------+-------------------------+----------------------+ | Environment | dpdk_meson_compile | dpdk_compile_ovs | dpdk_compile_spdk | dpdk_msvc_compile | dpdk_llvm_clang_compile | dpdk_mingw64_compile | +=====================+====================+==================+===================+===================+=========================+======================+ | Fedora 39 | PASS | PASS | PASS | SKIPPED | SKIPPED | SKIPPED | +---------------------+--------------------+------------------+-------------------+-------------------+-------------------------+----------------------+ | Debian 12 | PASS | PASS | PASS | SKIPPED | SKIPPED | SKIPPED | +---------------------+--------------------+------------------+-------------------+-------------------+-------------------------+----------------------+ | Fedora 39 (Clang) | PASS | PASS | PASS | SKIPPED | SKIPPED | SKIPPED | +---------------------+--------------------+------------------+-------------------+-------------------+-------------------------+----------------------+ | Fedora 40 (Clang) | PASS | PASS | PASS | SKIPPED | SKIPPED | SKIPPED | +---------------------+--------------------+------------------+-------------------+-------------------+-------------------------+----------------------+ | Fedora 40 | PASS | PASS | PASS | SKIPPED | SKIPPED | SKIPPED | +---------------------+--------------------+------------------+-------------------+-------------------+-------------------------+----------------------+ | RHEL8 | PASS | PASS | SKIPPED | SKIPPED | SKIPPED | SKIPPED | +---------------------+--------------------+------------------+-------------------+-------------------+-------------------------+----------------------+ | openSUSE Leap 15 | PASS | SKIPPED | SKIPPED | SKIPPED | SKIPPED | SKIPPED | +---------------------+--------------------+------------------+-------------------+-------------------+-------------------------+----------------------+ | RHEL9 | PASS | PASS | SKIPPED | SKIPPED | SKIPPED | SKIPPED | +---------------------+--------------------+------------------+-------------------+-------------------+-------------------------+----------------------+ | Ubuntu 20.04 | PASS | SKIPPED | SKIPPED | SKIPPED | SKIPPED | SKIPPED | +---------------------+--------------------+------------------+-------------------+-------------------+-------------------------+----------------------+ | Ubuntu 22.04 | PASS | PASS | PASS | SKIPPED | SKIPPED | SKIPPED | +---------------------+--------------------+------------------+-------------------+-------------------+-------------------------+----------------------+ | Ubuntu 24.04 | PASS | PASS | PASS | SKIPPED | SKIPPED | SKIPPED | +---------------------+--------------------+------------------+-------------------+-------------------+-------------------------+----------------------+ | Alpine | PASS | PASS | SKIPPED | SKIPPED | SKIPPED | SKIPPED | +---------------------+--------------------+------------------+-------------------+-------------------+-------------------------+----------------------+ | Arch Linux | PASS | PASS | SKIPPED | SKIPPED | SKIPPED | SKIPPED | +---------------------+--------------------+------------------+-------------------+-------------------+-------------------------+----------------------+ | FreeBSD 14.2 | PASS | SKIPPED | SKIPPED | SKIPPED | SKIPPED | SKIPPED | +---------------------+--------------------+------------------+-------------------+-------------------+-------------------------+----------------------+ | FreeBSD 13.4 | PASS | SKIPPED | SKIPPED | SKIPPED | SKIPPED | SKIPPED | +---------------------+--------------------+------------------+-------------------+-------------------+-------------------------+----------------------+ | Windows Server 2022 | SKIPPED | SKIPPED | SKIPPED | PASS | PASS | PASS | +---------------------+--------------------+------------------+-------------------+-------------------+-------------------------+----------------------+ Fedora 39 Kernel: Depends on container host Compiler: gcc 13.3.1 20240522 (Red Hat 13.3.1-1) Debian 12 Kernel: Depends on container host Compiler: gcc (Debian 12.2.0-14) 12.2.0 Fedora 39 (Clang) Kernel: Depends on container host Compiler: clang 17.0.6 (Fedora 17.0.6-2.fc39) Fedora 40 (Clang) Kernel: Depends on container host Compiler: clang 18.1.8 (Fedora 18.1.8-1.fc40) Fedora 40 Kernel: Depends on container host Compiler: gcc 14.2.1 20240912 (Red Hat 14.2.1-3) RHEL8 Kernel: Depends on container host Compiler: gcc 8.5.0 20210514 (Red Hat 8.5.0-22) openSUSE Leap 15 Kernel: Depends on container host Compiler: gcc (SUSE Linux) 7.5.0 RHEL9 Kernel: Depends on container host Compiler: gcc 11.5.0 20240719 (Red Hat 11.5.0-2) Ubuntu 20.04 Kernel: Depends on container host Compiler: gcc (Ubuntu 9.4.0-1ubuntu1~20.04.2) 9.4.0 Ubuntu 22.04 Kernel: Depends on container host Compiler: gcc (Ubuntu 11.4.0-1ubuntu1~22.04) 11.4.0 Ubuntu 24.04 Kernel: Depends on container host Compiler: gcc (Ubuntu 13.3.0-6ubuntu2~24.04) 13.3.0 Alpine Kernel: Depends on container host Compiler: gcc (Alpine 14.2.0) 14.2.0 Arch Linux Kernel: Depends on container host Compiler: gcc 14.2.1 20240910 FreeBSD 14.2 Kernel: 14.2-RELEASE Compiler: clang 18.1.6 FreeBSD 13.4 Kernel: 13.4-RELEASE-p1 Compiler: clang 18.1.6 Windows Server 2022 Kernel: 10.0.20348.2031 Compiler: clang 15.0.7, gcc 14.1.0 (MinGW), and MSVC VS 19.39.33521 To view detailed results, visit: https://lab.dpdk.org/results/dashboard/tarballs/31904/ UNH-IOL DPDK Community Lab To manage your email subscriptions, visit: https://lab.dpdk.org/results/dashboard/preferences/subscriptions/