From mboxrd@z Thu Jan 1 00:00:00 1970 Return-Path: Received: from mails.dpdk.org (mails.dpdk.org [217.70.189.124]) by inbox.dpdk.org (Postfix) with ESMTP id 3E4D4461BF for ; Fri, 7 Feb 2025 21:34:20 +0100 (CET) Received: from mails.dpdk.org (localhost [127.0.0.1]) by mails.dpdk.org (Postfix) with ESMTP id 2293440280; Fri, 7 Feb 2025 21:34:20 +0100 (CET) Received: from mail-qt1-f228.google.com (mail-qt1-f228.google.com [209.85.160.228]) by mails.dpdk.org (Postfix) with ESMTP id 3605540270 for ; Fri, 7 Feb 2025 21:34:19 +0100 (CET) Received: by mail-qt1-f228.google.com with SMTP id d75a77b69052e-46c8474d8daso19478321cf.3 for ; Fri, 07 Feb 2025 12:34:19 -0800 (PST) DKIM-Signature: v=1; a=rsa-sha256; c=relaxed/relaxed; d=iol.unh.edu; s=unh-iol; t=1738960458; x=1739565258; darn=dpdk.org; h=cc:to:from:subject:message-id:date:from:to:cc:subject:date :message-id:reply-to; bh=bqX+wKvGmK3tp84bDoq2IwYfDERLTiNEH+sOwRB8g6o=; b=IVEVEGkFbV9eLhQBfa0juk1skANH2wxHZMxTNphYGLdqpFgQxdfr2PBLgwoA6YgO2N KQjkSGbqqNyUw3RGxn0dOLiZ4j8tve24wF+fF/sZhq+IpfsWfarxS63Gun93wXsko9c3 P6tMyRSXzpKqyOKRSkhjmzVem+b+OWkeYxIdI= X-Google-DKIM-Signature: v=1; a=rsa-sha256; c=relaxed/relaxed; d=1e100.net; s=20230601; t=1738960458; x=1739565258; h=cc:to:from:subject:message-id:date:x-gm-message-state:from:to:cc :subject:date:message-id:reply-to; bh=bqX+wKvGmK3tp84bDoq2IwYfDERLTiNEH+sOwRB8g6o=; b=AN/E7PRrxbKGguF0WwL5vHZLp3DDGLOSAzOqVmos3iqFy2O6XI/dVGZR1vblkN0hVn q3IzlthqUoAcpahpb8vsZtVjNwXNxCIUFMewOzrsT//SgCMntdU9e+sLlPlG0A9lR4K9 Zq+eGS9rX3Y1IpVUNJGc73K780viUHSfvek3xgI0VZG61JFMKWZTbRSXnRkW/rWnngBe bDnNIkJ88Ab+PpwDSDN3s8LcoM1oxkTWZ/FPUmKIjXdA+eT1UgbzVT/x4sO+J8jHitKF YDNCZRIEOZMDjyXtVouR7MK+koSAec4keecZJDHZW15lQsEhTNhuRy8usCOxNPjkvtIj nWNg== X-Gm-Message-State: AOJu0YxdkPhKB7FPoiOmsPGFWefAnX+5MR51YTqr+l6uHEF0VSK7upcu 41axqPwxtluUCgBbDASP6XrfzSZVJ1FqLtTipJJhMVNP4vFm6dWf3VvUFL8JnuLpseDWezoQkzQ rBjEgHviSKgp1O67CU6tTuZUwwHbvV8pZOQzMo9Vf X-Gm-Gg: ASbGnct6uHgMefsFY3zltVi7YJt9EwKtPY72BV+1aHgX7W2ck9Cj3xa1s4SqjDjMRlA FlMovJk+VixAsTcIB5c0u6usaqnudZUWCrCWzL1zvME5rTgzTM7iCcSPuepanRm7AmLGuo+zOpk DNNFHe64HnFNANoAviIHu+k4Giip6hyqAaRZYuHDoj80tpJ8xm9byRSk43lza3L1Om8pY/lIm3f hHBkeTgsmXnL8bl+y2Vb3BAd/IyRMT1pfAJE6caylGXPOTB1n5R1Ubb6PIwPWoU1/j2nrmCwro/ jHhby9/PvUIZm0juVz7f8YDWjwe0rQ== X-Google-Smtp-Source: AGHT+IEp4rLd7eMQGn1DlT6xCR4MGXx8n03i1b6B12x4jaJu+1+0wprevSvLhJA+PKx3raEVe5G0L2M8pY25 X-Received: by 2002:a05:6214:1bcc:b0:6d8:9dad:e167 with SMTP id 6a1803df08f44-6e4456135d3mr62199296d6.15.1738960458530; Fri, 07 Feb 2025 12:34:18 -0800 (PST) Received: from postal.iol.unh.edu (postal.iol.unh.edu. [132.177.123.84]) by smtp-relay.gmail.com with ESMTPS id 6a1803df08f44-6e4517571b9sm59086d6.55.2025.02.07.12.34.18 (version=TLS1_2 cipher=ECDHE-ECDSA-AES128-GCM-SHA256 bits=128/128); Fri, 07 Feb 2025 12:34:18 -0800 (PST) X-Relaying-Domain: iol.unh.edu Date: Fri, 07 Feb 2025 12:34:18 -0800 (PST) Message-ID: <67a66e4a.050a0220.268fee.0433SMTPIN_ADDED_MISSING@mx.google.com> Received: from [172.21.0.8] (unknown [172.18.0.240]) by postal.iol.unh.edu (Postfix) with ESMTP id 3C7DE6052471; Fri, 7 Feb 2025 15:34:18 -0500 (EST) Subject: |SUCCESS| [GIT MASTER] e145d919d60b440c649abe6fd0d55c42357330f1 From: dpdklab@iol.unh.edu To: Test Report Cc: dpdk-test-reports@iol.unh.edu, Bruce Richardson Content-Type: text/plain X-BeenThere: test-report@dpdk.org X-Mailman-Version: 2.1.29 Precedence: list List-Id: automatic DPDK test reports List-Unsubscribe: , List-Archive: List-Post: List-Help: List-Subscribe: , Errors-To: test-report-bounces@dpdk.org _Testing PASS_ Branch: dpdk-next-net-intel e145d919d60b440c649abe6fd0d55c42357330f1 --> testing pass Upstream job id: Generic-Unit-Test-DPDK#312790 Test environment and result as below: +-----------------------------+----------------+--------------+---------------------------+------------------------------+ | Environment | dpdk_unit_test | lpm_autotest | cryptodev_sw_zuc_autotest | cryptodev_sw_snow3g_autotest | +=============================+================+==============+===========================+==============================+ | Debian 11 (Buster) (ARM) | PASS | SKIPPED | SKIPPED | SKIPPED | +-----------------------------+----------------+--------------+---------------------------+------------------------------+ | CentOS Stream 9 (ARM) | PASS | SKIPPED | SKIPPED | SKIPPED | +-----------------------------+----------------+--------------+---------------------------+------------------------------+ | Debian 12 (arm) | PASS | SKIPPED | PASS | PASS | +-----------------------------+----------------+--------------+---------------------------+------------------------------+ | Fedora 40 (ARM Clang) | PASS | SKIPPED | SKIPPED | SKIPPED | +-----------------------------+----------------+--------------+---------------------------+------------------------------+ | Fedora 40 (ARM) | PASS | SKIPPED | SKIPPED | SKIPPED | +-----------------------------+----------------+--------------+---------------------------+------------------------------+ | Fedora 41 (ARM) | PASS | SKIPPED | SKIPPED | SKIPPED | +-----------------------------+----------------+--------------+---------------------------+------------------------------+ | Fedora 41 (ARM Clang) | PASS | SKIPPED | SKIPPED | SKIPPED | +-----------------------------+----------------+--------------+---------------------------+------------------------------+ | Ubuntu 20.04 (ARM) | PASS | SKIPPED | SKIPPED | SKIPPED | +-----------------------------+----------------+--------------+---------------------------+------------------------------+ | RHEL9 (ARM) | PASS | SKIPPED | SKIPPED | SKIPPED | +-----------------------------+----------------+--------------+---------------------------+------------------------------+ | Ubuntu 22.04 (ARM) | PASS | SKIPPED | SKIPPED | SKIPPED | +-----------------------------+----------------+--------------+---------------------------+------------------------------+ | Ubuntu 24.04 (ARM) | PASS | SKIPPED | SKIPPED | SKIPPED | +-----------------------------+----------------+--------------+---------------------------+------------------------------+ | 32-bit Ubuntu 22.04.4 (ARM) | PASS | SKIPPED | SKIPPED | SKIPPED | +-----------------------------+----------------+--------------+---------------------------+------------------------------+ | Ubuntu 20.04 ARM SVE | SKIPPED | PASS | SKIPPED | SKIPPED | +-----------------------------+----------------+--------------+---------------------------+------------------------------+ Debian 11 (Buster) (ARM) Kernel: Depends on container host Compiler: gcc (Debian 10.2.1-6) 10.2.1 20210110 CentOS Stream 9 (ARM) Kernel: Depends on container host Compiler: gcc 11.5.0 20240719 (Red Hat 11.5.0-2) Debian 12 (arm) Kernel: Depends on container host Compiler: gcc (Debian 12.2.0-14) 12.2.0 Fedora 40 (ARM Clang) Kernel: Depends on container host Compiler: clang 18.1.8 (Fedora 18.1.8-1.fc40) Fedora 40 (ARM) Kernel: Depends on container host Compiler: gcc 14.2.1 20240912 (Red Hat 14.2.1-3) Fedora 41 (ARM) Kernel: Depends on container host Compiler: gcc 14.2.1 20240912 (Red Hat 14.2.1-3) Fedora 41 (ARM Clang) Kernel: Depends on container host Compiler: clang 19.1.5 (Fedora 19.1.5-1.fc41) Ubuntu 20.04 (ARM) Kernel: Depends on container host Compiler: gcc (Ubuntu 9.4.0-1ubuntu1~20.04.2) 9.4.0 RHEL9 (ARM) Kernel: Depends on container host Compiler: gcc 11.5.0 20240719 (Red Hat 11.5.0-2) Ubuntu 22.04 (ARM) Kernel: Depends on container host Compiler: gcc (Ubuntu 11.4.0-1ubuntu1~22.04) 11.4.0 Ubuntu 24.04 (ARM) Kernel: Depends on container host Compiler: gcc (Ubuntu 13.3.0-6ubuntu2~24.04) 13.3.0 32-bit Ubuntu 22.04.4 (ARM) Kernel: 5.15.83+ aarch64 Compiler: gcc (Ubuntu 11.4.0-1ubuntu1~22.04) 11.4.0 Ubuntu 20.04 ARM SVE Kernel: Depends on container host Compiler: gcc (Ubuntu 10.5.0-1ubuntu1~20.04) 10.5.0 To view detailed results, visit: https://lab.dpdk.org/results/dashboard/tarballs/32489/ UNH-IOL DPDK Community Lab To manage your email subscriptions, visit: https://lab.dpdk.org/results/dashboard/preferences/subscriptions/