From mboxrd@z Thu Jan 1 00:00:00 1970 Return-Path: Received: from mails.dpdk.org (mails.dpdk.org [217.70.189.124]) by inbox.dpdk.org (Postfix) with ESMTP id 22A2B461BF for ; Fri, 7 Feb 2025 21:42:30 +0100 (CET) Received: from mails.dpdk.org (localhost [127.0.0.1]) by mails.dpdk.org (Postfix) with ESMTP id F40FC40280; Fri, 7 Feb 2025 21:42:29 +0100 (CET) Received: from mail-yb1-f226.google.com (mail-yb1-f226.google.com [209.85.219.226]) by mails.dpdk.org (Postfix) with ESMTP id 5005A40270 for ; Fri, 7 Feb 2025 21:42:28 +0100 (CET) Received: by mail-yb1-f226.google.com with SMTP id 3f1490d57ef6-e545c1e8a15so2225771276.1 for ; Fri, 07 Feb 2025 12:42:28 -0800 (PST) DKIM-Signature: v=1; a=rsa-sha256; c=relaxed/relaxed; d=iol.unh.edu; s=unh-iol; t=1738960947; x=1739565747; darn=dpdk.org; h=references:in-reply-to:cc:to:from:subject:message-id:date:from:to :cc:subject:date:message-id:reply-to; bh=sA3eIHeR9ocIoK1A7ZK0RcN75EB6zlsQ+UUsQ5KndQI=; b=AiUcBg8dMK2FkPjtM4Df7H6BUq7wiKDfmwrSCZUJ+ms9EMnt0r2k8GQxLfsCfV7n/x BbiyAv38+xyCWBOcTnMyVlYBIotdwXoeroZTNTAuxIOPn1S2bSLbW4uPRRxOHOoqb3gS b1lUDFFKej3F0kt6G+nI3DxMohZpZiYfs0p94= X-Google-DKIM-Signature: v=1; a=rsa-sha256; c=relaxed/relaxed; d=1e100.net; s=20230601; t=1738960947; x=1739565747; h=references:in-reply-to:cc:to:from:subject:message-id:date :x-gm-message-state:from:to:cc:subject:date:message-id:reply-to; bh=sA3eIHeR9ocIoK1A7ZK0RcN75EB6zlsQ+UUsQ5KndQI=; b=SSLJycV0rkmju3KF2nVrgHDhQT6mk4Bbg5HaqDxQ9Ohq8BJuwgt9O3qtKgW5R7Y4Y1 Yp6Wqw7Iy+a2RQgTEkcPjQmBegBgPxx2FqB+HYBsPDsorkJLu8nfopIwOAypoZqybYQO PjdUDKHg8LgS7mfdqzR5Q9K/W1H+agKLmJMPq6OBfy2pFeoWiegPxIaQTXtvXAavzYO4 8H/HJLZ5zjNGlLQMhSO7fIkqlUM2NncB97dt62oEvk8xK03pJKBnuvXiXhmfvqHVJb+P 2bicIIxqXsIiwSa3Vny6pSOK0rerB5O7qxL0pqsP4rrsXvhIjf70PIX294fZ3V0WKosi 7UQA== X-Gm-Message-State: AOJu0YyWDhp4zW4t0Ar5AlAzE0Cm0WdBvfmXWKSv2ug5V76bc+vGB7xq 9QckKufQdNOGP8bwIE+kRsr1CdOHu/taJrHcLLa40EC0ecyM8FSa1ZdlxfY5fGYyBlz82LKhzxo zSmbOQtsDNHuQtKZj0HieRDgl/Xu1GgDZMFk2Ubyb X-Gm-Gg: ASbGncuxtSfA2X/dTUr3PAW4qRlI0gB49mPiwA4aKd4QUQXuZ/ZPZRbc7vFqd3CPPRm Frppdb8yAHZV7Bl6vZqcoGQC/QlhFZUGa0NxbHUaZjP0OCuu4L/96+cINqgw0HjPFqP9LjPzHPY CKyKNp7nK4AbCuFUtVNQ/wl0FXV6HeFdLBAn3wVjc4EKPC4PbcDDpTcY9P7hx4an6XyQvGhWNII rdxTA1QtgW913uW80QTl9JgJJp8tGHZN/3dMDHVIVsQxKwOB2wphc69vEK6cJkEsGkfQ0RUsOly bYkr87dpEchDdnppzPYs/ydv9yGx8A== X-Google-Smtp-Source: AGHT+IGTWQEdgA0TjGBDfIeb87jxohTltpK6QHURTJfnY7TapONDUrHBHEtvq0BcCN94LbNyCZu03+qkSXWg X-Received: by 2002:a05:6902:2843:b0:e5b:3b7a:fca7 with SMTP id 3f1490d57ef6-e5b4625a469mr4653622276.39.1738960947534; Fri, 07 Feb 2025 12:42:27 -0800 (PST) Received: from postal.iol.unh.edu (postal.iol.unh.edu. [132.177.123.84]) by smtp-relay.gmail.com with ESMTPS id 3f1490d57ef6-e5b3a1f37d9sm98784276.5.2025.02.07.12.42.27 (version=TLS1_2 cipher=ECDHE-ECDSA-AES128-GCM-SHA256 bits=128/128); Fri, 07 Feb 2025 12:42:27 -0800 (PST) X-Relaying-Domain: iol.unh.edu Date: Fri, 07 Feb 2025 12:42:27 -0800 (PST) Message-ID: <67a67033.250a0220.86ead.4a7aSMTPIN_ADDED_MISSING@mx.google.com> Received: from [172.21.0.5] (unknown [172.18.0.240]) by postal.iol.unh.edu (Postfix) with ESMTP id E9F2D6052471; Fri, 7 Feb 2025 15:42:24 -0500 (EST) Subject: |SUCCESS| pw151129-151131 [PATCH] [3/3] test/event: unit test to bur From: dpdklab@iol.unh.edu To: Test Report Cc: dpdk-test-reports@iol.unh.edu In-Reply-To: <20250207140910.721374-4-sthotton@marvell.com> References: <20250207140910.721374-4-sthotton@marvell.com> Content-Type: text/plain X-BeenThere: test-report@dpdk.org X-Mailman-Version: 2.1.29 Precedence: list List-Id: automatic DPDK test reports List-Unsubscribe: , List-Archive: List-Post: List-Help: List-Subscribe: , Errors-To: test-report-bounces@dpdk.org Test-Label: iol-abi-testing Test-Status: SUCCESS http://dpdk.org/patch/151131 _Testing PASS_ Submitter: Shijith Thotton Date: Friday, February 07 2025 14:09:10 DPDK git baseline: Repo:dpdk Branch: master CommitID:32c18e7364e30a8e43cc7cc6709a7ce606fa285e 151129-151131 --> testing pass Upstream job id: Generic-DPDK-Compile-ABI#115293 Test environment and result as below: +-------------------+----------+ | Environment | abi_test | +===================+==========+ | CentOS Stream 9 | PASS | +-------------------+----------+ | Debian Bullseye | PASS | +-------------------+----------+ | Debian 12 | PASS | +-------------------+----------+ | Fedora 40 (Clang) | PASS | +-------------------+----------+ | Fedora 40 | PASS | +-------------------+----------+ | Fedora 41 (Clang) | PASS | +-------------------+----------+ | Fedora 41 | PASS | +-------------------+----------+ | openSUSE Leap 15 | PASS | +-------------------+----------+ | RHEL9 | PASS | +-------------------+----------+ | RHEL8 | PASS | +-------------------+----------+ | Ubuntu 22.04 | PASS | +-------------------+----------+ | Ubuntu 24.04 | PASS | +-------------------+----------+ CentOS Stream 9 Kernel: Depends on container host Compiler: gcc 11.5.0 20240719 (Red Hat 11.5.0-2) Debian Bullseye Kernel: Depends on container host Compiler: gcc (Debian 10.2.1-6) 10.2.1 20210110 Debian 12 Kernel: Depends on container host Compiler: gcc (Debian 12.2.0-14) 12.2.0 Fedora 40 (Clang) Kernel: Depends on container host Compiler: clang 18.1.8 (Fedora 18.1.8-1.fc40) Fedora 40 Kernel: Depends on container host Compiler: gcc 14.2.1 20240912 (Red Hat 14.2.1-3) Fedora 41 (Clang) Kernel: Depends on container host Compiler: clang 19.1.5 (Fedora 19.1.5-1.fc41) Fedora 41 Kernel: Depends on container host Compiler: gcc 14.2.1 20240912 (Red Hat 14.2.1-3) openSUSE Leap 15 Kernel: Depends on container host Compiler: gcc (SUSE Linux) 7.5.0 RHEL9 Kernel: Depends on container host Compiler: gcc 11.5.0 20240719 (Red Hat 11.5.0-2) RHEL8 Kernel: Depends on container host Compiler: gcc 8.5.0 20210514 (Red Hat 8.5.0-22) Ubuntu 22.04 Kernel: Depends on container host Compiler: gcc (Ubuntu 11.4.0-1ubuntu1~22.04) 11.4.0 Ubuntu 24.04 Kernel: Depends on container host Compiler: gcc (Ubuntu 13.3.0-6ubuntu2~24.04) 13.3.0 To view detailed results, visit: https://lab.dpdk.org/results/dashboard/patchsets/32525/ UNH-IOL DPDK Community Lab To manage your email subscriptions, visit: https://lab.dpdk.org/results/dashboard/preferences/subscriptions/