From mboxrd@z Thu Jan 1 00:00:00 1970 Return-Path: Received: from mails.dpdk.org (mails.dpdk.org [217.70.189.124]) by inbox.dpdk.org (Postfix) with ESMTP id 95DA2461C0 for ; Fri, 7 Feb 2025 22:17:35 +0100 (CET) Received: from mails.dpdk.org (localhost [127.0.0.1]) by mails.dpdk.org (Postfix) with ESMTP id 7207D40280; Fri, 7 Feb 2025 22:17:35 +0100 (CET) Received: from mail-il1-f225.google.com (mail-il1-f225.google.com [209.85.166.225]) by mails.dpdk.org (Postfix) with ESMTP id D753540270 for ; Fri, 7 Feb 2025 22:17:34 +0100 (CET) Received: by mail-il1-f225.google.com with SMTP id e9e14a558f8ab-3d146df0afeso4769345ab.3 for ; Fri, 07 Feb 2025 13:17:34 -0800 (PST) DKIM-Signature: v=1; a=rsa-sha256; c=relaxed/relaxed; d=iol.unh.edu; s=unh-iol; t=1738963054; x=1739567854; darn=dpdk.org; h=references:in-reply-to:cc:to:from:subject:message-id:date:from:to :cc:subject:date:message-id:reply-to; bh=MEO6m6wPAuRMn9BX+3mR4DQTwOzPmBlbzzUuawg26Lg=; b=bfpdpy3xv5I7mOMs6M4jqNwQLbRtoD/azViwyvoV5bV3VoPX4fAKK1yioKQ/Cx1Yui RIx4NaBVPPGtc+Nt5kGHR5zV2Kxu8NckuOouTAwPehUn6fW5pMX9LHfC/fIFrImAAJCo eJQFwPnK2o1vDR3Ff3fXMYCNPipJmYbr99KYU= X-Google-DKIM-Signature: v=1; a=rsa-sha256; c=relaxed/relaxed; d=1e100.net; s=20230601; t=1738963054; x=1739567854; h=references:in-reply-to:cc:to:from:subject:message-id:date :x-gm-message-state:from:to:cc:subject:date:message-id:reply-to; bh=MEO6m6wPAuRMn9BX+3mR4DQTwOzPmBlbzzUuawg26Lg=; b=RTiVr0LINH/txt0IRqmfQL3Tyg9xPezmMpnKGA1DC83E6efOv803So9Ci1ajrtsZP8 YVoXUc2zpbog7PJ9c8LHJ9MISiA8zmvvhb+SJDI200QBVLnbtopV+0uK7/FcaAsQoKjW zXiQ4XCUJmE8Brj4weVjllrDlNI+myIcLndISiqv/OZEg/JUAAulcHNwhmu1Nwr0DbCG a5i0+adLC8oNnrU/X82RkxkJiwM1ydXRH+kCoD0sfU5YwZp+i8n/zzf/91stHdwv/zu9 ngUoKHX8HG0nsoECQw6OPafejOFD+pCUEb5bPxjXb2n5JKSDF4lsNOTrktG+ty9Inrju Pg7A== X-Gm-Message-State: AOJu0YwWytqoU0uad+szF9s6qjjkHCp47ltobFWp56x0pIXsD/T3hTtz Gq35Ife8efszZA+9CI4zBmnRg2nllK6H22cDC8FHkj1wGxzTYHGN88k1o4WE/H9YMTY69S0ajLb kljs9vYEGs/rVGz33MQBf2ebKIGMwbfezQfYG68Wh X-Gm-Gg: ASbGncuu3aO9HG6TQ6+EiUeOMBOAvws6jfeQjlwaTH5okqx7C751UWbcA5CH7dFZfe5 MGN1n2j8T3wMTW7myJ2Vh+wk366kOlphQLM8vR70MNFBRXVRRY4qB3a6R17HKYLlsZJviY72Jr9 lgjDQDBgL0KsBsOdEDdHGqFXiW+V6NwWAjyw8wPxaDgb2urbCCF/Eso0XKaUvrKxBDDAj7+WnBl 0yk20LsGCQDVB1AtUlitOZOYXe+uI8HJIhWeksvtf1Fu5Dtls3zmZinwus5Cu6c8WybQ6trTOq0 0JKJSOBMm1MMBd8xbqM9BZKBfGuSUg== X-Google-Smtp-Source: AGHT+IFSc6uSDnuGBEFE81suOO1cT1+QU3uLxD6Q6OA3xexRXLrCSeRPlvhyVvsUGyAAG90nO7Eu3WqCp1Xe X-Received: by 2002:a05:6e02:1c04:b0:3d0:11ff:a782 with SMTP id e9e14a558f8ab-3d13dd447d5mr37456045ab.9.1738963054116; Fri, 07 Feb 2025 13:17:34 -0800 (PST) Received: from postal.iol.unh.edu (postal.iol.unh.edu. [132.177.123.84]) by smtp-relay.gmail.com with ESMTPS id 8926c6da1cb9f-4eccf9d494asm257555173.20.2025.02.07.13.17.34 (version=TLS1_2 cipher=ECDHE-ECDSA-AES128-GCM-SHA256 bits=128/128); Fri, 07 Feb 2025 13:17:34 -0800 (PST) X-Relaying-Domain: iol.unh.edu Date: Fri, 07 Feb 2025 13:17:34 -0800 (PST) Message-ID: <67a6786e.050a0220.2f8412.cd03SMTPIN_ADDED_MISSING@mx.google.com> Received: from [172.21.0.8] (unknown [172.18.0.240]) by postal.iol.unh.edu (Postfix) with ESMTP id D1B4C6052471; Fri, 7 Feb 2025 16:17:28 -0500 (EST) Subject: |SUCCESS| pw151129-151131 [PATCH] [3/3] test/event: unit test to bur From: dpdklab@iol.unh.edu To: Test Report Cc: dpdk-test-reports@iol.unh.edu In-Reply-To: <20250207140910.721374-4-sthotton@marvell.com> References: <20250207140910.721374-4-sthotton@marvell.com> Content-Type: text/plain X-BeenThere: test-report@dpdk.org X-Mailman-Version: 2.1.29 Precedence: list List-Id: automatic DPDK test reports List-Unsubscribe: , List-Archive: List-Post: List-Help: List-Subscribe: , Errors-To: test-report-bounces@dpdk.org Test-Label: iol-unit-amd64-testing Test-Status: SUCCESS http://dpdk.org/patch/151131 _Testing PASS_ Submitter: Shijith Thotton Date: Friday, February 07 2025 14:09:10 DPDK git baseline: Repo:dpdk Branch: master CommitID:32c18e7364e30a8e43cc7cc6709a7ce606fa285e 151129-151131 --> testing pass Upstream job id: Generic-Unit-Test-DPDK#312867 Test environment and result as below: +---------------------+----------------+ | Environment | dpdk_unit_test | +=====================+================+ | CentOS Stream 9 | PASS | +---------------------+----------------+ | Fedora 40 | PASS | +---------------------+----------------+ | Fedora 40 (Clang) | PASS | +---------------------+----------------+ | Debian Bullseye | PASS | +---------------------+----------------+ | Debian 12 | PASS | +---------------------+----------------+ | RHEL9 | PASS | +---------------------+----------------+ | Fedora 41 (Clang) | PASS | +---------------------+----------------+ | RHEL8 | PASS | +---------------------+----------------+ | Fedora 41 | PASS | +---------------------+----------------+ | Ubuntu 24.04 | PASS | +---------------------+----------------+ | Ubuntu 20.04 | PASS | +---------------------+----------------+ | Ubuntu 22.04 | PASS | +---------------------+----------------+ | Windows Server 2022 | PASS | +---------------------+----------------+ CentOS Stream 9 Kernel: Depends on container host Compiler: gcc 11.5.0 20240719 (Red Hat 11.5.0-2) Fedora 40 Kernel: Depends on container host Compiler: gcc 14.2.1 20240912 (Red Hat 14.2.1-3) Fedora 40 (Clang) Kernel: Depends on container host Compiler: clang 18.1.8 (Fedora 18.1.8-1.fc40) Debian Bullseye Kernel: Depends on container host Compiler: gcc (Debian 10.2.1-6) 10.2.1 20210110 Debian 12 Kernel: Depends on container host Compiler: gcc (Debian 12.2.0-14) 12.2.0 RHEL9 Kernel: Depends on container host Compiler: gcc 11.5.0 20240719 (Red Hat 11.5.0-2) Fedora 41 (Clang) Kernel: Depends on container host Compiler: clang 19.1.5 (Fedora 19.1.5-1.fc41) RHEL8 Kernel: Depends on container host Compiler: gcc 8.5.0 20210514 (Red Hat 8.5.0-22) Fedora 41 Kernel: Depends on container host Compiler: gcc 14.2.1 20240912 (Red Hat 14.2.1-3) Ubuntu 24.04 Kernel: Depends on container host Compiler: gcc (Ubuntu 13.3.0-6ubuntu2~24.04) 13.3.0 Ubuntu 20.04 Kernel: Depends on container host Compiler: gcc (Ubuntu 9.4.0-1ubuntu1~20.04.2) 9.4.0 Ubuntu 22.04 Kernel: Depends on container host Compiler: gcc (Ubuntu 11.4.0-1ubuntu1~22.04) 11.4.0 Windows Server 2022 Kernel: 10.0.20348.2031 Compiler: clang 15.0.7, gcc 14.1.0 (MinGW), and MSVC VS 19.39.33521 To view detailed results, visit: https://lab.dpdk.org/results/dashboard/patchsets/32525/ UNH-IOL DPDK Community Lab To manage your email subscriptions, visit: https://lab.dpdk.org/results/dashboard/preferences/subscriptions/