From mboxrd@z Thu Jan 1 00:00:00 1970 Return-Path: Received: from mails.dpdk.org (mails.dpdk.org [217.70.189.124]) by inbox.dpdk.org (Postfix) with ESMTP id 907B9461C0 for ; Fri, 7 Feb 2025 22:18:14 +0100 (CET) Received: from mails.dpdk.org (localhost [127.0.0.1]) by mails.dpdk.org (Postfix) with ESMTP id 8D55F40280; Fri, 7 Feb 2025 22:18:14 +0100 (CET) Received: from mail-io1-f99.google.com (mail-io1-f99.google.com [209.85.166.99]) by mails.dpdk.org (Postfix) with ESMTP id 49D5A40270 for ; Fri, 7 Feb 2025 22:18:13 +0100 (CET) Received: by mail-io1-f99.google.com with SMTP id ca18e2360f4ac-854a682d2b6so174581139f.0 for ; Fri, 07 Feb 2025 13:18:13 -0800 (PST) DKIM-Signature: v=1; a=rsa-sha256; c=relaxed/relaxed; d=iol.unh.edu; s=unh-iol; t=1738963092; x=1739567892; darn=dpdk.org; h=references:in-reply-to:cc:to:from:subject:message-id:date:from:to :cc:subject:date:message-id:reply-to; bh=eKm8vz3T5fPilzPSkxv1R5BwOrejFxZmDNwuStaHj9U=; b=J/tXJjkUqbK6iWwITTbWUXwFgT0NqGe6cRClfVQm8OyH03wHQn7LNCIvu4N2KSBMYy AUxsJ0S5TbxSRlBZ0BYJcL1u5rJwsgO01Fgoihcf9VfXfNI1Njfgu6rNFHiLV84a9lZc ixmUiylGOOZClBpZZ3bcGZ38EE0neVBdxSupU= X-Google-DKIM-Signature: v=1; a=rsa-sha256; c=relaxed/relaxed; d=1e100.net; s=20230601; t=1738963092; x=1739567892; h=references:in-reply-to:cc:to:from:subject:message-id:date :x-gm-message-state:from:to:cc:subject:date:message-id:reply-to; bh=eKm8vz3T5fPilzPSkxv1R5BwOrejFxZmDNwuStaHj9U=; b=LLALcBnuWSOd3y5mUR7650XqaqhgDtd6RjLwdREuR3Ze9FmOvwwy630+ArluzsderD 8dDEvi1Bf3AR1yEE+LONQftzBS1CzPFSSC7MTt6nOmPibXRBt3y7pOQmoxuuZliNvgHG rCttdwMzyy/weg2o3K2AE8fvphhdyJx2MMXV3QPgiw0k67U/oL2DT2KsAcCbUZPSvd23 YXgjy5r6IJ90eQvt2JtNdl8FJu04GYNIAVWgQu/JzPdVSmuuTRYk8sJJ7L+OQPY8GXqf 31r6f7UuVro50uhP73shqlAbuEG0MShtBMDI3O11MAtariQ6wbhWOj8vQ+RlYvlQSSkZ Eibw== X-Gm-Message-State: AOJu0YwSs7sdQZXTHG12eJK7YJjqggRds+Y18OELS/wycLCUJIhrptZO 7H+ercL01BPxCkDhZ9oK4aHOQHV+cvf2S1ZRe2hTL+qK/OSqdq96WbBTsiN4AD4j2DOnelqLArf n/68XJq16llvfbr7wO5Gk+ppkDxvdTf4hJLLSnbjJ X-Gm-Gg: ASbGncukjn8I8azp9uCbVxA04t2svZSXUPeTF5u9pJTDmVOtL0bmg3Imjnv6Ezo/+S2 Zw0ziJh3SusAhe8vbjqyES8CiT+SZ9es0TYzqOXP9jP9upJ4/zDaLLeQ7A5W/YMinxfFr2JeYIt etDsi4Ke9wPoLZOsjEdpXs0uHKzd49e+DflidUk8Jc9Aw242IuP1rwhwGoV3bkJFLCwPcsW8YpR dK+eS6bZi/BYzYzhGCxd52qq+tBsh8vkgvmn9IU9Gti5ToN8nfH4wuL7SqsmZwglJkbGay6B7nv gZsPlHA9fYquvkfaY2U1zTxGpOQ9RA== X-Google-Smtp-Source: AGHT+IHasKG83xZ2Kq4JTyY4imzjquWwH5T2aChqzgLXqIGHfErQzBiBfUsa2DB8CUI2ezVQKD+EbfTNKc9w X-Received: by 2002:a05:6602:6a46:b0:84c:ea14:931f with SMTP id ca18e2360f4ac-854fd8ea819mr531578939f.11.1738963092606; Fri, 07 Feb 2025 13:18:12 -0800 (PST) Received: from postal.iol.unh.edu (postal.iol.unh.edu. [132.177.123.84]) by smtp-relay.gmail.com with ESMTPS id ca18e2360f4ac-854f675f484sm24589139f.28.2025.02.07.13.18.12 (version=TLS1_2 cipher=ECDHE-ECDSA-AES128-GCM-SHA256 bits=128/128); Fri, 07 Feb 2025 13:18:12 -0800 (PST) X-Relaying-Domain: iol.unh.edu Date: Fri, 07 Feb 2025 13:18:12 -0800 (PST) Message-ID: <67a67894.050a0220.1d6e38.c537SMTPIN_ADDED_MISSING@mx.google.com> Received: from [172.21.0.9] (unknown [172.18.0.240]) by postal.iol.unh.edu (Postfix) with ESMTP id 22E856052471; Fri, 7 Feb 2025 16:17:42 -0500 (EST) Subject: |SUCCESS| pw151090-151091 [PATCH] [v9,2/2] net/af_xdp: Refactor af_x From: dpdklab@iol.unh.edu To: Test Report Cc: dpdk-test-reports@iol.unh.edu In-Reply-To: <20250207104552.1663519-3-ariel.otilibili@6wind.com> References: <20250207104552.1663519-3-ariel.otilibili@6wind.com> Content-Type: text/plain X-BeenThere: test-report@dpdk.org X-Mailman-Version: 2.1.29 Precedence: list List-Id: automatic DPDK test reports List-Unsubscribe: , List-Archive: List-Post: List-Help: List-Subscribe: , Errors-To: test-report-bounces@dpdk.org Test-Label: iol-unit-arm64-testing Test-Status: SUCCESS http://dpdk.org/patch/151091 _Testing PASS_ Submitter: Ariel Otilibili Date: Friday, February 07 2025 10:45:52 DPDK git baseline: Repo:dpdk Branch: master CommitID:e5ece9ae686535f29ae72c03fec26dc16ff7a925 151090-151091 --> testing pass Upstream job id: Generic-Unit-Test-DPDK#312824 Test environment and result as below: +-----------------------------+----------------+--------------+---------------------------+------------------------------+ | Environment | dpdk_unit_test | lpm_autotest | cryptodev_sw_zuc_autotest | cryptodev_sw_snow3g_autotest | +=============================+================+==============+===========================+==============================+ | CentOS Stream 9 (ARM) | PASS | SKIPPED | SKIPPED | SKIPPED | +-----------------------------+----------------+--------------+---------------------------+------------------------------+ | Debian 11 (Buster) (ARM) | PASS | SKIPPED | SKIPPED | SKIPPED | +-----------------------------+----------------+--------------+---------------------------+------------------------------+ | 32-bit Ubuntu 22.04.4 (ARM) | PASS | SKIPPED | SKIPPED | SKIPPED | +-----------------------------+----------------+--------------+---------------------------+------------------------------+ | Fedora 40 (ARM) | PASS | SKIPPED | SKIPPED | SKIPPED | +-----------------------------+----------------+--------------+---------------------------+------------------------------+ | Debian 12 (arm) | PASS | SKIPPED | PASS | PASS | +-----------------------------+----------------+--------------+---------------------------+------------------------------+ | Fedora 41 (ARM) | PASS | SKIPPED | SKIPPED | SKIPPED | +-----------------------------+----------------+--------------+---------------------------+------------------------------+ | Fedora 40 (ARM Clang) | PASS | SKIPPED | SKIPPED | SKIPPED | +-----------------------------+----------------+--------------+---------------------------+------------------------------+ | Fedora 41 (ARM Clang) | PASS | SKIPPED | SKIPPED | SKIPPED | +-----------------------------+----------------+--------------+---------------------------+------------------------------+ | RHEL9 (ARM) | PASS | SKIPPED | SKIPPED | SKIPPED | +-----------------------------+----------------+--------------+---------------------------+------------------------------+ | Ubuntu 22.04 (ARM) | PASS | SKIPPED | SKIPPED | SKIPPED | +-----------------------------+----------------+--------------+---------------------------+------------------------------+ | Ubuntu 24.04 (ARM) | PASS | SKIPPED | SKIPPED | SKIPPED | +-----------------------------+----------------+--------------+---------------------------+------------------------------+ | Ubuntu 20.04 (ARM) | PASS | SKIPPED | SKIPPED | SKIPPED | +-----------------------------+----------------+--------------+---------------------------+------------------------------+ | Ubuntu 20.04 ARM SVE | SKIPPED | PASS | SKIPPED | SKIPPED | +-----------------------------+----------------+--------------+---------------------------+------------------------------+ CentOS Stream 9 (ARM) Kernel: Depends on container host Compiler: gcc 11.5.0 20240719 (Red Hat 11.5.0-2) Debian 11 (Buster) (ARM) Kernel: Depends on container host Compiler: gcc (Debian 10.2.1-6) 10.2.1 20210110 32-bit Ubuntu 22.04.4 (ARM) Kernel: 5.15.83+ aarch64 Compiler: gcc (Ubuntu 11.4.0-1ubuntu1~22.04) 11.4.0 Fedora 40 (ARM) Kernel: Depends on container host Compiler: gcc 14.2.1 20240912 (Red Hat 14.2.1-3) Debian 12 (arm) Kernel: Depends on container host Compiler: gcc (Debian 12.2.0-14) 12.2.0 Fedora 41 (ARM) Kernel: Depends on container host Compiler: gcc 14.2.1 20240912 (Red Hat 14.2.1-3) Fedora 40 (ARM Clang) Kernel: Depends on container host Compiler: clang 18.1.8 (Fedora 18.1.8-1.fc40) Fedora 41 (ARM Clang) Kernel: Depends on container host Compiler: clang 19.1.5 (Fedora 19.1.5-1.fc41) RHEL9 (ARM) Kernel: Depends on container host Compiler: gcc 11.5.0 20240719 (Red Hat 11.5.0-2) Ubuntu 22.04 (ARM) Kernel: Depends on container host Compiler: gcc (Ubuntu 11.4.0-1ubuntu1~22.04) 11.4.0 Ubuntu 24.04 (ARM) Kernel: Depends on container host Compiler: gcc (Ubuntu 13.3.0-6ubuntu2~24.04) 13.3.0 Ubuntu 20.04 (ARM) Kernel: Depends on container host Compiler: gcc (Ubuntu 9.4.0-1ubuntu1~20.04.2) 9.4.0 Ubuntu 20.04 ARM SVE Kernel: Depends on container host Compiler: gcc (Ubuntu 10.5.0-1ubuntu1~20.04) 10.5.0 To view detailed results, visit: https://lab.dpdk.org/results/dashboard/patchsets/32522/ UNH-IOL DPDK Community Lab To manage your email subscriptions, visit: https://lab.dpdk.org/results/dashboard/preferences/subscriptions/