From mboxrd@z Thu Jan 1 00:00:00 1970 Return-Path: Received: from mails.dpdk.org (mails.dpdk.org [217.70.189.124]) by inbox.dpdk.org (Postfix) with ESMTP id 64948461C0 for ; Fri, 7 Feb 2025 22:41:10 +0100 (CET) Received: from mails.dpdk.org (localhost [127.0.0.1]) by mails.dpdk.org (Postfix) with ESMTP id 8F72440280; Fri, 7 Feb 2025 22:41:09 +0100 (CET) Received: from mail-pl1-f225.google.com (mail-pl1-f225.google.com [209.85.214.225]) by mails.dpdk.org (Postfix) with ESMTP id B075A40270 for ; Fri, 7 Feb 2025 22:41:08 +0100 (CET) Received: by mail-pl1-f225.google.com with SMTP id d9443c01a7336-21f48ebaadfso36393095ad.2 for ; Fri, 07 Feb 2025 13:41:08 -0800 (PST) DKIM-Signature: v=1; a=rsa-sha256; c=relaxed/relaxed; d=iol.unh.edu; s=unh-iol; t=1738964468; x=1739569268; darn=dpdk.org; h=references:in-reply-to:cc:to:from:subject:message-id:date:from:to :cc:subject:date:message-id:reply-to; bh=dZc0HDVZwe9WfOsfYZD3G2cblNu8wCbUnInPd0C9CGo=; b=G5Aj+lc9ObS5nSxzBpQmh62uoru35kZFeqh4lGQvpW0CmyHgklYdE9L3hM8wAVMVxW 1Cs/rhLhyiJlnXx+4I1/hGonVzVh7Cm42vISyO2GJFw8GbRq5gRZXCJm893u52rRIipd 702Xjg2UW++B+iO0W75bWlJbqplBTmxHI76Ls= X-Google-DKIM-Signature: v=1; a=rsa-sha256; c=relaxed/relaxed; d=1e100.net; s=20230601; t=1738964468; x=1739569268; h=references:in-reply-to:cc:to:from:subject:message-id:date :x-gm-message-state:from:to:cc:subject:date:message-id:reply-to; bh=dZc0HDVZwe9WfOsfYZD3G2cblNu8wCbUnInPd0C9CGo=; b=UpvO5KpqLUv3Teqx28dDlFmDfhM0Eg8CZiE0dDE+03erVpCiAAHUMgF90eotvtwNdH 9C2Adzxt+oZ4mElQHXdfJcG2xXMTeN7t49GxZk5kbG9E5X7SPiY+Nuh/wGBVhY8k7JVL AiDlo5TyTOoquYItBDuM4qFUDlmaqt/+pfVvVSH7A00XFqWMG+38JOqbeQrxomgfs35p vbCX34huxn9C7iW+SZttfzdfg02ca2zI6kg7FbQkG4t08pos7qWCsXeLvX5W+YxiziWh PbsOXaPZBfGslVIo0QZWjDgBgc96cv8hnexRbEp9BM/wGwpEzmKDqE4k/osIQO1TqAZQ AuDQ== X-Gm-Message-State: AOJu0YxZzrYp/Ho09y/xJWOrCGx+sg+RGBFTawUI/dB0hpOsrKmPvzm9 UcfkyPjV817K3XrPv2MF15oMg9h8BXpPf0+Kc6Ujew/YFoHJDVpiCSM24TrLZeiIz/lfM9dPTd6 BQ2A5XiuU/A4wKpwGgMUQrNscXFknXDP0Zhv1L7bX X-Gm-Gg: ASbGnctUozkqCxN5EKB8fmUtsZYt+9R/GsqJbSXJK//U/3wkMh+D2bANhYQUgxmkzwB Ow/0vmD+6iFNh2AHGKGX5jQcw1Wyqm4a4ZSn5yw6BkXfjHzC6ySfL1LPnUyozx8TmLIrvjjKVUR qhHn3pnjt+4o0RzD14RBbxZq21AjzoLJWKaeBJbU1/MWIb/5v13kgJ6TAGgTjP2oldWRCpbxSTy etrmySahzz8/HM8+Vc7n7G9jTsFPy0YW9ppWaduC1YthBIn/NJuLnGaoZrVyPQqlxilh3JLUpuk Im0q/aWNZ+hHZvRawfx07OuxNbbv2A== X-Google-Smtp-Source: AGHT+IFA7YEobfS6vANfSlGEDZZyxwndcqFvr19FUzi+/IeCnrcQ8D8Wf5VQklU5gqHobZ+xfpiv6Nc1aDxU X-Received: by 2002:a17:902:da84:b0:21f:45b:6a4c with SMTP id d9443c01a7336-21f4e1cbb5dmr64611815ad.7.1738964467995; Fri, 07 Feb 2025 13:41:07 -0800 (PST) Received: from postal.iol.unh.edu (postal.iol.unh.edu. [132.177.123.84]) by smtp-relay.gmail.com with ESMTPS id d9443c01a7336-21f51a8e67dsm1394435ad.96.2025.02.07.13.41.07 (version=TLS1_2 cipher=ECDHE-ECDSA-AES128-GCM-SHA256 bits=128/128); Fri, 07 Feb 2025 13:41:07 -0800 (PST) X-Relaying-Domain: iol.unh.edu Date: Fri, 07 Feb 2025 13:41:07 -0800 (PST) Message-ID: <67a67df3.170a0220.df711.6d43SMTPIN_ADDED_MISSING@mx.google.com> Received: from [172.21.0.6] (unknown [172.18.0.240]) by postal.iol.unh.edu (Postfix) with ESMTP id 356A76052471; Fri, 7 Feb 2025 16:41:07 -0500 (EST) Subject: |SUCCESS| pw151128 [PATCH] examples/ipsec-secgw: fix iv len in ctr 1 From: dpdklab@iol.unh.edu To: Test Report Cc: dpdk-test-reports@iol.unh.edu In-Reply-To: <20250207134545.63820-1-nkaithakadan@marvell.com> References: <20250207134545.63820-1-nkaithakadan@marvell.com> Content-Type: text/plain X-BeenThere: test-report@dpdk.org X-Mailman-Version: 2.1.29 Precedence: list List-Id: automatic DPDK test reports List-Unsubscribe: , List-Archive: List-Post: List-Help: List-Subscribe: , Errors-To: test-report-bounces@dpdk.org Test-Label: iol-compile-amd64-testing Test-Status: SUCCESS http://dpdk.org/patch/151128 _Testing PASS_ Submitter: Nithinsen Kaithakadan Date: Friday, February 07 2025 13:45:43 DPDK git baseline: Repo:dpdk Branch: master CommitID:388b1abe291544106e406cb0a200b5b0c96fe599 151128 --> testing pass Upstream job id: Windows-Compile-DPDK-VS#4859 Test environment and result as below: +---------------------+-------------------+--------------------+ | Environment | dpdk_msvc_compile | dpdk_meson_compile | +=====================+===================+====================+ | Windows Server 2022 | PASS | SKIPPED | +---------------------+-------------------+--------------------+ | FreeBSD 13.4 | SKIPPED | PASS | +---------------------+-------------------+--------------------+ | FreeBSD 14.2 | SKIPPED | PASS | +---------------------+-------------------+--------------------+ Windows Server 2022 Kernel: 10.0.20348.2031 Compiler: clang 15.0.7, gcc 14.1.0 (MinGW), and MSVC VS 19.39.33521 FreeBSD 13.4 Kernel: 13.4-RELEASE-p1 Compiler: clang 18.1.6 FreeBSD 14.2 Kernel: 14.2-RELEASE Compiler: clang 18.1.6 To view detailed results, visit: https://lab.dpdk.org/results/dashboard/patchsets/32524/ UNH-IOL DPDK Community Lab To manage your email subscriptions, visit: https://lab.dpdk.org/results/dashboard/preferences/subscriptions/